Felt | Verdi |
AlreadyApplied | True |
Aperture | 5.0 |
ApertureValue | 5.0 |
ApproximateFocusDistance | 4.65 |
Artist | Odd Chr. Knutsen |
AutoLateralCA | 0 |
BitsPerSample | 8 |
Blacks2012 | +11 |
BlueHue | 0 |
BlueSaturation | 0 |
By-line | Odd Chr. Knutsen |
CameraProfile | Adobe Standard |
CircleOfConfusion | 0.005 mm |
Clarity2012 | +9 |
ColorComponents | 3 |
ColorNoiseReduction | 25 |
ColorNoiseReductionDetail | 50 |
ColorTemperature | 4850 |
Contrast2012 | +8 |
ConvertToGrayscale | False |
CreateDate (1) | 2013:10:11 09:40:53.35 |
CreateDate | 2013:10:11 09:40:53 |
Creator | Odd Chr. Knutsen |
CreatorTool | Adobe Photoshop Lightroom 4.4 (Macintosh) |
CropAngle | 0.046628 |
CropBottom | 0.904756 |
CropConstrainToWarp | 0 |
CropHeight | 780 |
CropLeft | 0.307055 |
CropRight | 0.677117 |
CropTop | 0.304185 |
CropUnit | pixels |
CropWidth | 722 |
CustomRendered | Normal |
DateCreated (1) | 2013:10:11 |
DateCreated | 2013:10:11 09:40:53.35 |
DateTimeOriginal | 2013:10:11 09:40:53 |
DefringeGreenAmount | 0 |
DefringeGreenHueHi | 60 |
DefringeGreenHueLo | 40 |
DefringePurpleAmount | 0 |
DefringePurpleHueHi | 70 |
DefringePurpleHueLo | 30 |
DOF | 0.004 m (4.648 - 4.652 m) |
Exposure2012 | -0.30 |
ExposureCompensation | 0 |
ExposureMode | Auto |
ExposureProgram | Aperture-priority AE |
ExposureTime | 1/2500 |
Firmware | 1.1.1 |
Flash | Off, Did not fire |
FlashCompensation | 0 |
FNumber | 5.0 |
FocalLength | 500.0 mm |
FocalLength35efl | 500.0 mm (35 mm equivalent: 2930.9 mm) |
Format | image/jpeg |
FOV | 0.7 deg |
GrainAmount | 0 |
GreenHue | 0 |
GreenSaturation | 0 |
HasCrop | True |
HasSettings | True |
Highlights2012 | -5 |
HueAdjustmentAqua | 0 |
HueAdjustmentBlue | +10 |
HueAdjustmentGreen | -8 |
HueAdjustmentMagenta | 0 |
HueAdjustmentOrange | -10 |
HueAdjustmentPurple | 0 |
HueAdjustmentRed | -22 |
HueAdjustmentYellow | +4 |
HyperfocalDistance | 9754.76 m |
ImageHeight | 780 |
ImageNumber | 0 |
ImageSize | 722x780 |
ImageWidth | 722 |
ISO | 500 |
Lens | EF500mm f/4L IS USM |
LensID (1) | 143 |
LensID | Canon EF 500mm f/4L IS USM |
LensInfo | 500mm f/? |
LensManualDistortionAmount | 0 |
LensModel | EF500mm f/4L IS USM |
LensProfileEnable | 0 |
LensProfileSetup | LensDefaults |
LensSerialNumber | 0000000000 |
LightValue | 13.6 |
LuminanceAdjustmentAqua | 0 |
LuminanceAdjustmentBlue | 0 |
LuminanceAdjustmentGreen | 0 |
LuminanceAdjustmentMagenta | 0 |
LuminanceAdjustmentOrange | 0 |
LuminanceAdjustmentPurple | 0 |
LuminanceAdjustmentRed | 0 |
LuminanceAdjustmentYellow | 0 |
LuminanceSmoothing | 0 |
Make | Canon |
MaxApertureValue | 4.0 |
Megapixels | 0.563 |
MeteringMode | Multi-segment |
Model | Canon EOS-1D X |
ModifyDate (1) | 2013:10:12 15:00:15+02:00 |
ModifyDate | 2013:10:12 15:00:15 |
ParametricDarks | +2 |
ParametricHighlights | 0 |
ParametricHighlightSplit | 75 |
ParametricLights | +1 |
ParametricMidtoneSplit | 50 |
ParametricShadows | -30 |
ParametricShadowSplit | 25 |
PerspectiveHorizontal | 0 |
PerspectiveRotate | 0.0 |
PerspectiveScale | 100 |
PerspectiveVertical | 0 |
PostCropVignetteAmount | 0 |
ProcessVersion | 6.7 |
ProfileDescription | sRGB IEC61966-2.1 |
RecommendedExposureIndex | 500 |
RedHue | 0 |
RedSaturation | 0 |
Saturation | +9 |
SaturationAdjustmentAqua | 0 |
SaturationAdjustmentBlue | 0 |
SaturationAdjustmentGreen | 0 |
SaturationAdjustmentMagenta | 0 |
SaturationAdjustmentOrange | 0 |
SaturationAdjustmentPurple | 0 |
SaturationAdjustmentRed | 0 |
SaturationAdjustmentYellow | 0 |
ScaleFactor35efl | 5.9 |
SceneCaptureType | Standard |
SensitivityType | Recommended Exposure Index |
SerialNumber | 043011001460 |
Shadows2012 | 0 |
ShadowTint | 0 |
SharpenDetail | 25 |
SharpenEdgeMasking | 0 |
SharpenRadius | +1.1 |
Sharpness | 94 |
ShutterSpeed | 1/2500 |
ShutterSpeedValue | 1/2500 |
Software | Adobe Photoshop Lightroom 4.4 (Macintosh) |
SplitToningBalance | 0 |
SplitToningHighlightHue | 0 |
SplitToningHighlightSaturation | 0 |
SplitToningShadowHue | 0 |
SplitToningShadowSaturation | 0 |
Tint | +24 |
ToneCurveName2012 | Linear |
ToneCurvePV2012 | 0, 0, 255, 255 |
ToneCurvePV2012Blue | 0, 0, 255, 255 |
ToneCurvePV2012Green | 0, 0, 255, 255 |
ToneCurvePV2012Red | 0, 0, 255, 255 |
Version | 7.4 |
Vibrance | 0 |
VignetteAmount | 0 |
WhiteBalance (1) | Custom |
WhiteBalance | Auto |
Whites2012 | 0 |