Felt | Verdi |
AlreadyApplied | True |
Aperture | 9.0 |
ApertureValue | 9.0 |
ApproximateFocusDistance | 4294967295 |
AutoLateralCA | 0 |
BitsPerSample | 8 |
Blacks2012 | -5 |
BlueHue | 0 |
BlueSaturation | 0 |
CameraProfile | Adobe Standard |
CFAPattern | [Red,Green][Green,Blue] |
CircleOfConfusion | 0.030 mm |
Clarity2012 | +60 |
ColorComponents | 3 |
ColorNoiseReduction | 25 |
ColorNoiseReductionDetail | 50 |
ColorTemperature | 4738 |
Contrast | Normal |
Contrast2012 | +12 |
ConvertToGrayscale | False |
CreateDate (1) | 2013:07:24 22:10:04.40 |
CreateDate | 2013:07:24 22:10:04 |
CreatorTool | Adobe Photoshop Lightroom 4.1 (Windows) |
CropAngle | 0 |
CropBottom | 0.828571 |
CropConstrainToWarp | 0 |
CropHeight | 994 |
CropLeft | 0.09446 |
CropRight | 1 |
CropTop | 0.019048 |
CropUnit | pixels |
CropWidth | 1666 |
CustomRendered | Normal |
DateCreated (1) | 2013:07:24 |
DateCreated | 2013:07:24 22:10:04.40 |
DateTimeOriginal | 2013:07:24 22:10:04 |
DefringeGreenAmount | 0 |
DefringeGreenHueHi | 60 |
DefringeGreenHueLo | 40 |
DefringePurpleAmount | 0 |
DefringePurpleHueHi | 70 |
DefringePurpleHueLo | 30 |
DigitalZoomRatio | 1 |
DOF | inf (402.71 m - inf) |
Exposure2012 | 0.00 |
ExposureCompensation | 0 |
ExposureMode | Manual |
ExposureProgram | Manual |
ExposureTime | 1/10 |
Flash | Off, Did not fire |
FNumber | 9.0 |
FocalLength | 330.0 mm |
FocalLength35efl | 330.0 mm (35 mm equivalent: 330.0 mm) |
FocalLengthIn35mmFormat | 330 mm |
Format | image/jpeg |
FOV | 6.2 deg |
GainControl | None |
GrainAmount | 0 |
GreenHue | 0 |
GreenSaturation | 0 |
HasCrop | True |
HasSettings | True |
Highlights2012 | -100 |
HueAdjustmentAqua | 0 |
HueAdjustmentBlue | 0 |
HueAdjustmentGreen | 0 |
HueAdjustmentMagenta | 0 |
HueAdjustmentOrange | 0 |
HueAdjustmentPurple | 0 |
HueAdjustmentRed | 0 |
HueAdjustmentYellow | 0 |
HyperfocalDistance | 402.71 m |
ImageHeight | 994 |
ImageNumber | 6627 |
ImageSize | 1666x994 |
ImageWidth | 1666 |
ISO | 100 |
Lens | 70.0-200.0 mm f/2.8 |
LensID (1) | 162 |
LensID | AF-S Nikkor 70-200mm f/2.8G ED VR II |
LensInfo | 70-200mm f/2.8 |
LensManualDistortionAmount | 0 |
LensModel | 70.0-200.0 mm f/2.8 |
LensProfileChromaticAberrationScale | 100 |
LensProfileDistortionScale | 100 |
LensProfileEnable | 1 |
LensProfileFilename | NIKON D700 (Nikon AF-S NIKKOR 70-200mm f2.8G ED VR II) - RAW.lcp |
LensProfileName | Adobe (Nikon AF-S NIKKOR 70-200mm f/2.8G ED VR II) |
LensProfileSetup | LensDefaults |
LensProfileVignettingScale | 100 |
LightSource | Unknown |
LightValue | 9.7 |
LuminanceAdjustmentAqua | 0 |
LuminanceAdjustmentBlue | 0 |
LuminanceAdjustmentGreen | 0 |
LuminanceAdjustmentMagenta | 0 |
LuminanceAdjustmentOrange | 0 |
LuminanceAdjustmentPurple | 0 |
LuminanceAdjustmentRed | 0 |
LuminanceAdjustmentYellow | 0 |
LuminanceSmoothing | 0 |
Make | NIKON CORPORATION |
MaxApertureValue | 4.8 |
Megapixels | 1.7 |
MeteringMode | Multi-segment |
Model | NIKON D800 |
ModifyDate (1) | 2013:07:24 23:50:25+02:00 |
ModifyDate | 2013:07:24 23:50:25 |
ParametricDarks | 0 |
ParametricHighlights | 0 |
ParametricHighlightSplit | 75 |
ParametricLights | 0 |
ParametricMidtoneSplit | 50 |
ParametricShadows | 0 |
ParametricShadowSplit | 25 |
PerspectiveHorizontal | 0 |
PerspectiveRotate | 0.0 |
PerspectiveScale | 100 |
PerspectiveVertical | 0 |
PostCropVignetteAmount | 0 |
ProcessVersion | 6.7 |
ProfileDescription | sRGB IEC61966-2.1 |
RedHue | 0 |
RedSaturation | 0 |
Saturation (1) | 0 |
Saturation | Normal |
SaturationAdjustmentAqua | 0 |
SaturationAdjustmentBlue | 0 |
SaturationAdjustmentGreen | 0 |
SaturationAdjustmentMagenta | 0 |
SaturationAdjustmentOrange | 0 |
SaturationAdjustmentPurple | 0 |
SaturationAdjustmentRed | 0 |
SaturationAdjustmentYellow | 0 |
ScaleFactor35efl | 1.0 |
SceneCaptureType | Standard |
SceneType | Directly photographed |
SensingMethod | One-chip color area |
SensitivityType | Recommended Exposure Index |
SerialNumber | 6064142 |
Shadows2012 | -81 |
ShadowTint | 0 |
SharpenDetail | 38 |
SharpenEdgeMasking | 26 |
SharpenRadius | +1.9 |
Sharpness (1) | 73 |
Sharpness | Normal |
ShutterSpeed | 1/10 |
ShutterSpeedValue | 1/10 |
Software | Adobe Photoshop Lightroom 4.1 (Windows) |
SplitToningBalance | 0 |
SplitToningHighlightHue | 0 |
SplitToningHighlightSaturation | 0 |
SplitToningShadowHue | 0 |
SplitToningShadowSaturation | 0 |
SubjectDistanceRange | Unknown |
Tint | +8 |
ToneCurveName2012 | Linear |
ToneCurvePV2012 | 0, 0, 255, 255 |
ToneCurvePV2012Blue | 0, 0, 255, 255 |
ToneCurvePV2012Green | 0, 0, 255, 255 |
ToneCurvePV2012Red | 0, 0, 255, 255 |
Version | 7.1 |
Vibrance | 0 |
VignetteAmount | 0 |
WhiteBalance (1) | Custom |
WhiteBalance | Auto |
Whites2012 | +21 |