Felt | Verdi |
AlreadyApplied | True |
Aperture | 6.3 |
ApertureValue | 6.3 |
ApproximateFocusDistance | 0.51 |
BitsPerSample (1) | 8 8 8 |
BitsPerSample | 8 |
BlueHue | 0 |
BlueSaturation | 0 |
Brightness | +53 |
CameraProfile | Adobe Standard |
ChromaticAberrationB | 0 |
ChromaticAberrationR | 0 |
CircleOfConfusion | 0.019 mm |
Clarity | +22 |
ColorComponents | 3 |
ColorMode | RGB |
ColorNoiseReduction | 25 |
ColorNoiseReductionDetail | 50 |
ColorSpace | sRGB |
ColorTemperature | 5103 |
Contrast | +81 |
ConvertToGrayscale | False |
CreateDate (1) | 2013:07:16 13:49:57+02:00 |
CreateDate | 2013:07:16 13:49:57 |
CreatorTool | Adobe Photoshop Lightroom |
CropAngle | -3.76904 |
CropBottom | 0.929348 |
CropConstrainToWarp | 0 |
CropHeight | 1654 |
CropLeft | 0.012323 |
CropRight | 0.672708 |
CropTop | 0.061223 |
CropUnit | pixels |
CropWidth | 1654 |
CustomRendered | Normal |
DateCreated (1) | 2013:07:16 |
DateCreated | 2013:07:16 13:49:57.023+02:00 |
DateTimeOriginal | 2013:07:16 13:49:57 |
Defringe | 0 |
DOF | 0.005 m (0.507 - 0.513 m) |
ExifImageHeight | 2060 |
ExifImageWidth | 2060 |
Exposure | +0.41 |
ExposureCompensation | 0 |
ExposureMode | Manual |
ExposureProgram | Manual |
ExposureTime | 1/100 |
FillLight | 14 |
Firmware | 1.2.3 |
Flash | Off, Did not fire |
FlashCompensation | 0 |
FNumber | 6.3 |
FocalLength | 100.0 mm |
FocalLength35efl | 100.0 mm (35 mm equivalent: 157.0 mm) |
Format | image/jpeg |
FOV | 13.1 deg |
GradientBasedCorrActive | true |
GradientBasedCorrAmount | 1.000000 |
GradientBasedCorrBrightness | 0.732000 |
GradientBasedCorrClarity | -0.060000 |
GradientBasedCorrContrast | -0.073000 |
GradientBasedCorrExposure | 0.805000 |
GradientBasedCorrHue | 0.000000 |
GradientBasedCorrMaskFullX (1) | 0.614986 |
GradientBasedCorrMaskFullX | 0.606312 |
GradientBasedCorrMaskFullY (1) | -0.038919 |
GradientBasedCorrMaskFullY | 1.028640 |
GradientBasedCorrMaskValue | 1.000000 |
GradientBasedCorrMaskWhat | Mask/Gradient |
GradientBasedCorrMaskZeroX (1) | 0.522200 |
GradientBasedCorrMaskZeroX | 0.471176 |
GradientBasedCorrMaskZeroY (1) | 0.168372 |
GradientBasedCorrMaskZeroY | 0.730660 |
GradientBasedCorrSaturation (3) | -0.049000 |
GradientBasedCorrSaturation | 0.000000 |
GradientBasedCorrSharpness | 0.000000 |
GradientBasedCorrWhat | Correction |
GrainAmount | 0 |
GreenHue | 0 |
GreenSaturation | 0 |
HasCrop | True |
HasSettings | True |
HighlightRecovery | 31 |
HueAdjustmentAqua | 0 |
HueAdjustmentBlue | 0 |
HueAdjustmentGreen | 0 |
HueAdjustmentMagenta | 0 |
HueAdjustmentOrange | 0 |
HueAdjustmentPurple | 0 |
HueAdjustmentRed | 0 |
HueAdjustmentYellow | 0 |
HyperfocalDistance | 82.96 m |
ICCProfileName | sRGB IEC61966-2.1 |
ImageHeight (1) | 1654 |
ImageHeight | 2060 |
ImageNumber | 0 |
ImageSize | 2060x2060 |
ImageWidth (1) | 1654 |
ImageWidth | 2060 |
ISO | 320 |
Lens | EF100mm f/2.8L Macro IS USM |
LensID (1) | 254 |
LensID | Canon EF 100mm f/2.8L Macro IS USM |
LensInfo | 100mm f/? |
LensManualDistortionAmount | 0 |
LensProfileEnable | 0 |
LensProfileSetup | LensDefaults |
LightValue | 10.3 |
LuminanceAdjustmentAqua | +11 |
LuminanceAdjustmentBlue | -25 |
LuminanceAdjustmentGreen | -14 |
LuminanceAdjustmentMagenta | 0 |
LuminanceAdjustmentOrange | 0 |
LuminanceAdjustmentPurple | -14 |
LuminanceAdjustmentRed | 0 |
LuminanceAdjustmentYellow | 0 |
LuminanceNoiseReductionContrast | 0 |
LuminanceNoiseReductionDetail | 50 |
LuminanceSmoothing | 23 |
Make | Canon |
MaxApertureValue | 2.8 |
Megapixels | 4.2 |
MeteringMode | Multi-segment |
Model | Canon EOS 7D |
ModifyDate (1) | 2013:07:17 10:17:18+02:00 |
ModifyDate | 2013:07:17 10:17:18 |
Orientation | Horizontal (normal) |
ParametricDarks | 0 |
ParametricHighlights | 0 |
ParametricHighlightSplit | 75 |
ParametricLights | 0 |
ParametricMidtoneSplit | 50 |
ParametricShadows | 0 |
ParametricShadowSplit | 25 |
PerspectiveHorizontal | 0 |
PerspectiveRotate | 0.0 |
PerspectiveScale | 100 |
PerspectiveVertical | 0 |
PhotometricInterpretation | RGB |
PostCropVignetteAmount | -3 |
PostCropVignetteFeather | 48 |
PostCropVignetteHighlightContrast | 0 |
PostCropVignetteMidpoint | 50 |
PostCropVignetteRoundness | +3 |
PostCropVignetteStyle | 1 |
ProcessVersion | 5.7 |
ProfileDescription | sRGB IEC61966-2.1 |
RedHue | 0 |
RedSaturation | 0 |
Saturation | -6 |
SaturationAdjustmentAqua | -100 |
SaturationAdjustmentBlue | +27 |
SaturationAdjustmentGreen | -100 |
SaturationAdjustmentMagenta | +14 |
SaturationAdjustmentOrange | 0 |
SaturationAdjustmentPurple | +20 |
SaturationAdjustmentRed | 0 |
SaturationAdjustmentYellow | 0 |
ScaleFactor35efl | 1.6 |
SceneCaptureType | Standard |
SerialNumber | 1961000057 |
Shadows | 13 |
ShadowTint | 0 |
SharpenDetail | 20 |
SharpenEdgeMasking | 17 |
SharpenRadius | +1.0 |
Sharpness | 34 |
ShutterSpeed | 1/100 |
ShutterSpeedValue | 1/100 |
Software | Adobe Photoshop Elements 11.0 Windows |
SplitToningBalance | 0 |
SplitToningHighlightHue | 0 |
SplitToningHighlightSaturation | 0 |
SplitToningShadowHue | 0 |
SplitToningShadowSaturation | 0 |
SubjectDistance | 0.51 m |
Tint | +9 |
ToneCurve | 0, 0, 32, 22, 64, 56, 128, 128, 192, 196, 255, 255 |
ToneCurveName | Medium Contrast |
URL_List | |
Version | 6.1 |
Vibrance | -3 |
VignetteAmount | 0 |
WhiteBalance (1) | Custom |
WhiteBalance | Auto |