Felt | Verdi |
AlreadyApplied | True |
Aperture | 6.3 |
ApertureValue | 6.3 |
ApproximateFocusDistance | 4294967295 |
AutoLateralCA | 1 |
BitsPerSample | 8 |
Blacks2012 | 0 |
BlueHue | 0 |
BlueSaturation | 0 |
CameraProfile | Adobe Standard |
CircleOfConfusion | 0.031 mm |
Clarity2012 | -5 |
ColorComponents | 3 |
ColorNoiseReduction | 25 |
ColorNoiseReductionDetail | 50 |
ColorTemperature | 5691 |
Contrast2012 | +38 |
ConvertToGrayscale | False |
CreateDate (1) | 2013:07:01 21:50:24.41 |
CreateDate | 2013:07:01 21:50:24 |
CreatorTool | Adobe Photoshop Lightroom 4.4 (Windows) |
CustomRendered | Normal |
DateCreated (1) | 2013:07:01 |
DateCreated | 2013:07:01 21:50:24.41 |
DateTimeOriginal | 2013:07:01 21:50:24 |
DefringeGreenAmount | 0 |
DefringeGreenHueHi | 60 |
DefringeGreenHueLo | 40 |
DefringePurpleAmount | 0 |
DefringePurpleHueHi | 70 |
DefringePurpleHueLo | 30 |
DOF | inf (824.92 m - inf) |
Exposure2012 | 0.00 |
ExposureCompensation | -2 |
ExposureMode | Auto bracket |
ExposureProgram | Aperture-priority AE |
ExposureTime | 1/640 |
Firmware | 2.1.2 |
Flash | Off, Did not fire |
FlashCompensation | 0 |
FNumber | 6.3 |
FocalLength | 400.0 mm |
FocalLength35efl | 400.0 mm (35 mm equivalent: 390.4 mm) |
Format | image/jpeg |
FOV | 5.3 deg |
GradientBasedCorrActive | true |
GradientBasedCorrAmount | 1.000000 |
GradientBasedCorrBrightness | 0.000000 |
GradientBasedCorrClarity2012 (1) | 1.000000 |
GradientBasedCorrClarity2012 | 0.000000 |
GradientBasedCorrContrast2012 (1) | 0.885060 |
GradientBasedCorrContrast2012 | 0.000000 |
GradientBasedCorrDefringe | 0.000000 |
GradientBasedCorrExposure2012 (1) | -0.080500 |
GradientBasedCorrExposure2012 (2) | 0.218500 |
GradientBasedCorrExposure2012 | 0.126500 |
GradientBasedCorrHighlights2012 (1) | 0.839080 |
GradientBasedCorrHighlights2012 (2) | 0.000000 |
GradientBasedCorrHighlights2012 | -0.885060 |
GradientBasedCorrHue | 164.000000 |
GradientBasedCorrLuminanceNoise | 0.000000 |
GradientBasedCorrMaskFullX (1) | 0.529472 |
GradientBasedCorrMaskFullX (2) | 0.846545 |
GradientBasedCorrMaskFullX | 0.502033 |
GradientBasedCorrMaskFullY (1) | -0.007622 |
GradientBasedCorrMaskFullY (2) | 1.010670 |
GradientBasedCorrMaskFullY | 1.006100 |
GradientBasedCorrMaskValue | 1.000000 |
GradientBasedCorrMaskWhat | Mask/Gradient |
GradientBasedCorrMaskZeroX (1) | 0.522358 |
GradientBasedCorrMaskZeroX (2) | 0.677846 |
GradientBasedCorrMaskZeroX | 0.530488 |
GradientBasedCorrMaskZeroY (1) | 1.112810 |
GradientBasedCorrMaskZeroY (2) | 0.233232 |
GradientBasedCorrMaskZeroY | 0.242378 |
GradientBasedCorrMoire | 0.000000 |
GradientBasedCorrSaturation (3) | -0.011490 |
GradientBasedCorrSaturation (5) | -0.034480 |
GradientBasedCorrSaturation | 0.000000 |
GradientBasedCorrShadows2012 (1) | -0.931030 |
GradientBasedCorrShadows2012 (2) | 0.517240 |
GradientBasedCorrShadows2012 | 0.000000 |
GradientBasedCorrSharpness | 0.011490 |
GradientBasedCorrTemperature (2) | -0.218390 |
GradientBasedCorrTemperature | 0.000000 |
GradientBasedCorrTint | 0.000000 |
GradientBasedCorrWhat | Correction |
GrainAmount | 0 |
GreenHue | 0 |
GreenSaturation | 0 |
HasCrop | False |
HasSettings | True |
Highlights2012 | -7 |
HueAdjustmentAqua | 0 |
HueAdjustmentBlue | 0 |
HueAdjustmentGreen | 0 |
HueAdjustmentMagenta | 0 |
HueAdjustmentOrange | 0 |
HueAdjustmentPurple | 0 |
HueAdjustmentRed | 0 |
HueAdjustmentYellow | 0 |
HyperfocalDistance | 824.92 m |
ImageHeight | 3744 |
ImageNumber | 0 |
ImageSize | 5616x3744 |
ImageWidth | 5616 |
ISO | 50 |
Lens | EF400mm f/5.6L USM |
LensID (1) | 172 |
LensID | Canon EF 400mm f/5.6L USM |
LensInfo | 400mm f/? |
LensManualDistortionAmount | 0 |
LensModel | EF400mm f/5.6L USM |
LensProfileEnable | 0 |
LensProfileSetup | LensDefaults |
LightValue | 15.6 |
LuminanceAdjustmentAqua | 0 |
LuminanceAdjustmentBlue | 0 |
LuminanceAdjustmentGreen | 0 |
LuminanceAdjustmentMagenta | 0 |
LuminanceAdjustmentOrange | 0 |
LuminanceAdjustmentPurple | 0 |
LuminanceAdjustmentRed | 0 |
LuminanceAdjustmentYellow | +62 |
LuminanceSmoothing | 0 |
Make | Canon |
MaxApertureValue | 5.7 |
Megapixels | 21.0 |
MeteringMode | Multi-segment |
Model | Canon EOS 5D Mark II |
ModifyDate (1) | 2013:07:02 00:39:56+02:00 |
ModifyDate | 2013:07:02 00:39:56 |
PaintCorrectionActive | true |
PaintCorrectionAmount | 1.000000 |
PaintCorrectionBrightness | 0.000000 |
PaintCorrectionClarity2012 (1) | 0.885060 |
PaintCorrectionClarity2012 (2) | -1.000000 |
PaintCorrectionClarity2012 (3) | -0.747130 |
PaintCorrectionClarity2012 (4) | -0.011490 |
PaintCorrectionClarity2012 | 0.000000 |
PaintCorrectionContrast2012 (1) | 0.885060 |
PaintCorrectionContrast2012 (2) | 0.931030 |
PaintCorrectionContrast2012 (6) | 0.000000 |
PaintCorrectionContrast2012 (9) | 0.954020 |
PaintCorrectionContrast2012 | 0.770110 |
PaintCorrectionDefringe | 0.000000 |
PaintCorrectionExposure2012 (1) | 0.793000 |
PaintCorrectionExposure2012 (2) | 1.000000 |
PaintCorrectionExposure2012 (3) | 0.241500 |
PaintCorrectionExposure2012 (4) | -0.356250 |
PaintCorrectionExposure2012 (5) | 0.195500 |
PaintCorrectionExposure2012 (6) | 0.586250 |
PaintCorrectionExposure2012 (7) | -0.379250 |
PaintCorrectionExposure2012 (8) | 0.000000 |
PaintCorrectionExposure2012 | 0.356250 |
PaintCorrectionHighlights2012 (1) | 0.839080 |
PaintCorrectionHighlights2012 (2) | -0.839080 |
PaintCorrectionHighlights2012 (5) | 1.000000 |
PaintCorrectionHighlights2012 | 0.000000 |
PaintCorrectionHue | 164.000000 |
PaintCorrectionLuminanceNoise | 0.000000 |
PaintCorrectionMaskCenterWeight | 0.119121 |
PaintCorrectionMaskFlow | 0.778000 |
PaintCorrectionMaskRadius (21) | 0.138087 |
PaintCorrectionMaskRadius (25) | 0.265662 |
PaintCorrectionMaskRadius (29) | 0.059501 |
PaintCorrectionMaskRadius (32) | 0.339592 |
PaintCorrectionMaskRadius (34) | 0.247854 |
PaintCorrectionMaskRadius (6) | 0.274335 |
PaintCorrectionMaskRadius | 0.160113 |
PaintCorrectionMaskValue | 1.000000 |
PaintCorrectionMaskWhat | Mask/Paint |
PaintCorrectionMoire | 0.000000 |
PaintCorrectionSaturation (3) | 0.517240 |
PaintCorrectionSaturation | 0.000000 |
PaintCorrectionShadows2012 (1) | -1.000000 |
PaintCorrectionShadows2012 (2) | -0.839080 |
PaintCorrectionShadows2012 | 0.000000 |
PaintCorrectionSharpness | 0.011490 |
PaintCorrectionTemperature (2) | -0.011490 |
PaintCorrectionTemperature (6) | 0.701150 |
PaintCorrectionTemperature | 0.000000 |
PaintCorrectionTint | 0.000000 |
PaintCorrectionWhat | Correction |
ParametricDarks | 0 |
ParametricHighlights | +3 |
ParametricHighlightSplit | 75 |
ParametricLights | -1 |
ParametricMidtoneSplit | 50 |
ParametricShadows | 0 |
ParametricShadowSplit | 25 |
PerspectiveHorizontal | 0 |
PerspectiveRotate | 0.0 |
PerspectiveScale | 100 |
PerspectiveVertical | 0 |
PostCropVignetteAmount | 0 |
ProcessVersion | 6.7 |
ProfileDescription | sRGB IEC61966-2.1 |
RedHue | 0 |
RedSaturation | 0 |
Saturation | 0 |
SaturationAdjustmentAqua | 0 |
SaturationAdjustmentBlue | 0 |
SaturationAdjustmentGreen | 0 |
SaturationAdjustmentMagenta | 0 |
SaturationAdjustmentOrange | 0 |
SaturationAdjustmentPurple | 0 |
SaturationAdjustmentRed | 0 |
SaturationAdjustmentYellow | +11 |
ScaleFactor35efl | 1.0 |
SceneCaptureType | Standard |
SerialNumber | 1431023839 |
Shadows2012 | +60 |
ShadowTint | 0 |
SharpenDetail | 0 |
SharpenEdgeMasking | 0 |
SharpenRadius | +1.0 |
Sharpness | 118 |
ShutterSpeed | 1/640 |
ShutterSpeedValue | 1/640 |
Software | Adobe Photoshop Lightroom 4.4 (Windows) |
SplitToningBalance | 0 |
SplitToningHighlightHue | 0 |
SplitToningHighlightSaturation | 0 |
SplitToningShadowHue | 0 |
SplitToningShadowSaturation | 0 |
Tint | +3 |
ToneCurveName2012 | Linear |
ToneCurvePV2012 | 0, 0, 255, 255 |
ToneCurvePV2012Blue | 0, 0, 255, 255 |
ToneCurvePV2012Green | 0, 0, 255, 255 |
ToneCurvePV2012Red | 0, 0, 255, 255 |
Version | 7.4 |
Vibrance | +14 |
VignetteAmount | 0 |
WhiteBalance (1) | Custom |
WhiteBalance | Auto |
Whites2012 | +17 |