Felt | Verdi |
AlreadyApplied | True |
Aperture | 8.0 |
ApertureValue | 8.0 |
ApproximateFocusDistance | 4294967295 |
Artist | KJELL DIEDRIK PETTERSEN |
BitsPerSample | 8 |
BlueHue | +11 |
BlueSaturation | -70 |
Brightness | +57 |
By-line | KJELL DIEDRIK PETTERSEN |
CameraProfile | Adobe Standard |
ChromaticAberrationB | 0 |
ChromaticAberrationR | 0 |
CircleOfConfusion | 0.019 mm |
Clarity | +38 |
ColorComponents | 3 |
ColorNoiseReduction | 25 |
ColorNoiseReductionDetail | 50 |
ColorTemperature | 12500 |
Contrast | 0 |
ConvertToGrayscale | False |
Copyright | COPYRIGHT KD PETTERSEN |
CopyrightNotice | COPYRIGHT KD PETTERSEN |
CreateDate (1) | 2012:11:16 19:43:31.01+01:00 |
CreateDate | 2012:11:16 19:43:31 |
Creator | KJELL DIEDRIK PETTERSEN |
CreatorTool | Adobe Photoshop Lightroom 3.3 |
CropAngle | 0 |
CropBottom | 1 |
CropConstrainToWarp | 0 |
CropHeight | 835 |
CropLeft | 0 |
CropRight | 0.921459 |
CropTop | 0.185263 |
CropUnit | pixels |
CropWidth | 1417 |
CustomRendered | Normal |
DateTimeDigitized | 2012:11:16 19:43:31.01+01:00 |
DateTimeOriginal (1) | 2012:11:16 19:43:31.01+01:00 |
DateTimeOriginal | 2012:11:16 19:43:31 |
Defringe | 0 |
DOF | inf (3.76 m - inf) |
ExifImageHeight | 1417 |
ExifImageWidth | 835 |
Exposure | +0.51 |
ExposureCompensation | 0 |
ExposureMode | Manual |
ExposureProgram | Manual |
ExposureTime | 1/200 |
FillLight | 0 |
Firmware | 1.2.3 |
Flash | On, Fired |
FlashCompensation | 0 |
FlashFired | True |
FlashFunction | False |
FlashMode | On |
FlashRedEyeMode | False |
FlashReturn | No return detection |
FNumber | 8.0 |
FocalLength | 24.0 mm |
FocalLength35efl | 24.0 mm (35 mm equivalent: 37.7 mm) |
FOV | 51.1 deg |
GradientBasedCorrActive | true |
GradientBasedCorrAmount | 1.000000 |
GradientBasedCorrBrightness (4) | 0.000000 |
GradientBasedCorrBrightness | -0.098000 |
GradientBasedCorrClarity | 0.000000 |
GradientBasedCorrContrast | 0.000000 |
GradientBasedCorrExposure (1) | 0.366000 |
GradientBasedCorrExposure (2) | 0.100000 |
GradientBasedCorrExposure (3) | 0.000000 |
GradientBasedCorrExposure (4) | -0.173000 |
GradientBasedCorrExposure | -0.049000 |
GradientBasedCorrHue | 0.000000 |
GradientBasedCorrMaskFullX (1) | 0.611243 |
GradientBasedCorrMaskFullX (2) | 0.937890 |
GradientBasedCorrMaskFullX (3) | 0.248804 |
GradientBasedCorrMaskFullX (4) | 0.257178 |
GradientBasedCorrMaskFullX | 0.232057 |
GradientBasedCorrMaskFullY (1) | 0.818468 |
GradientBasedCorrMaskFullY (2) | 0.538905 |
GradientBasedCorrMaskFullY (3) | 0.385996 |
GradientBasedCorrMaskFullY (4) | 0.504489 |
GradientBasedCorrMaskFullY | 0.434470 |
GradientBasedCorrMaskValue | 1.000000 |
GradientBasedCorrMaskWhat | Mask/Gradient |
GradientBasedCorrMaskZeroX (1) | 0.736070 |
GradientBasedCorrMaskZeroX (2) | 0.843964 |
GradientBasedCorrMaskZeroX (3) | 0.221292 |
GradientBasedCorrMaskZeroX (4) | 0.403201 |
GradientBasedCorrMaskZeroX | 0.311005 |
GradientBasedCorrMaskZeroY (1) | 0.589665 |
GradientBasedCorrMaskZeroY (2) | 0.543090 |
GradientBasedCorrMaskZeroY (3) | 0.391382 |
GradientBasedCorrMaskZeroY (4) | 0.523141 |
GradientBasedCorrMaskZeroY | 0.430880 |
GradientBasedCorrSaturation | 0.000000 |
GradientBasedCorrSharpness | 0.000000 |
GradientBasedCorrWhat | Correction |
GrainAmount | 0 |
GreenHue | +11 |
GreenSaturation | +25 |
HasCrop | True |
HasSettings | True |
HighlightRecovery | 0 |
HueAdjustmentAqua | 0 |
HueAdjustmentBlue | 0 |
HueAdjustmentGreen | 0 |
HueAdjustmentMagenta | 0 |
HueAdjustmentOrange | 0 |
HueAdjustmentPurple | 0 |
HueAdjustmentRed | 0 |
HueAdjustmentYellow | 0 |
HyperfocalDistance | 3.76 m |
ImageHeight | 1417 |
ImageNumber | 0 |
ImageSize | 835x1417 |
ImageWidth | 835 |
ISO | 400 |
Lens | EF24mm f/1.4L USM |
LensID (1) | 179 |
LensID | Canon EF 24mm f/1.4L USM |
LensInfo | 24mm f/? |
LensManualDistortionAmount | 0 |
LensModel | EF24mm f/1.4L USM |
LensProfileEnable | 0 |
LensProfileSetup | LensDefaults |
LightValue | 11.6 |
LuminanceAdjustmentAqua | 0 |
LuminanceAdjustmentBlue | 0 |
LuminanceAdjustmentGreen | -61 |
LuminanceAdjustmentMagenta | 0 |
LuminanceAdjustmentOrange | 0 |
LuminanceAdjustmentPurple | 0 |
LuminanceAdjustmentRed | 0 |
LuminanceAdjustmentYellow | 0 |
LuminanceSmoothing | 0 |
Make | Canon |
MaxApertureValue | 1.4 |
Megapixels | 1.2 |
MeteringMode | Spot |
Model | Canon EOS 7D |
ModifyDate (1) | 2012:11:16 23:05:32+01:00 |
ModifyDate | 2012:11:16 23:05:32 |
PaintCorrectionActive | true |
PaintCorrectionAmount | 1.000000 |
PaintCorrectionBrightness (6) | 0.122000 |
PaintCorrectionBrightness | 0.000000 |
PaintCorrectionClarity | 0.000000 |
PaintCorrectionContrast | 0.000000 |
PaintCorrectionExposure (1) | 0.000000 |
PaintCorrectionExposure (10) | 0.317000 |
PaintCorrectionExposure (4) | 0.057471 |
PaintCorrectionExposure (5) | 0.073000 |
PaintCorrectionExposure (6) | 0.098000 |
PaintCorrectionExposure (9) | -0.122000 |
PaintCorrectionExposure | -0.080460 |
PaintCorrectionHue (1) | 221.000000 |
PaintCorrectionHue | 240.000000 |
PaintCorrectionMaskCenterWeight (3) | 0.000000 |
PaintCorrectionMaskCenterWeight | 0.006825 |
PaintCorrectionMaskFlow | 1.000000 |
PaintCorrectionMaskRadius (1) | 0.002941 |
PaintCorrectionMaskRadius (29) | 0.162688 |
PaintCorrectionMaskRadius (36) | 0.076775 |
PaintCorrectionMaskRadius (57) | 0.057408 |
PaintCorrectionMaskRadius (59) | 0.020713 |
PaintCorrectionMaskRadius (61) | 0.117548 |
PaintCorrectionMaskRadius | 0.107100 |
PaintCorrectionMaskValue | 1.000000 |
PaintCorrectionMaskWhat | Mask/Paint |
PaintCorrectionSaturation (2) | 0.820000 |
PaintCorrectionSaturation | 0.000000 |
PaintCorrectionSharpness | 0.000000 |
PaintCorrectionWhat | Correction |
ParametricDarks | +1 |
ParametricHighlights | -5 |
ParametricHighlightSplit | 75 |
ParametricLights | +15 |
ParametricMidtoneSplit | 50 |
ParametricShadows | -30 |
ParametricShadowSplit | 25 |
PerspectiveHorizontal | 0 |
PerspectiveRotate | 0.0 |
PerspectiveScale | 100 |
PerspectiveVertical | 0 |
PostCropVignetteAmount | -36 |
PostCropVignetteFeather | 50 |
PostCropVignetteHighlightContrast | 0 |
PostCropVignetteMidpoint | 50 |
PostCropVignetteRoundness | 0 |
PostCropVignetteStyle | 1 |
ProcessVersion | 5.7 |
ProfileDescription | sRGB IEC61966-2.1 |
RedHue | +96 |
RedSaturation | +3 |
Rights | COPYRIGHT KD PETTERSEN |
Saturation | -59 |
SaturationAdjustmentAqua | 0 |
SaturationAdjustmentBlue | 0 |
SaturationAdjustmentGreen | 0 |
SaturationAdjustmentMagenta | 0 |
SaturationAdjustmentOrange | +41 |
SaturationAdjustmentPurple | 0 |
SaturationAdjustmentRed | 0 |
SaturationAdjustmentYellow | 0 |
ScaleFactor35efl | 1.6 |
SceneCaptureType | Standard |
SensitivityType | Unknown |
SerialNumber | 480522533 |
Shadows | 18 |
ShadowTint | +8 |
SharpenDetail | 25 |
SharpenEdgeMasking | 0 |
SharpenRadius | +0.8 |
Sharpness | 119 |
ShutterSpeed | 1/200 |
ShutterSpeedValue | 1/200 |
SplitToningBalance | 0 |
SplitToningHighlightHue | 0 |
SplitToningHighlightSaturation | 0 |
SplitToningShadowHue | 0 |
SplitToningShadowSaturation | 0 |
SubjectDistance | 4294967295 m |
Tint | +35 |
ToneCurve | 0, 0, 32, 22, 64, 56, 128, 128, 192, 196, 255, 255 |
ToneCurveName | Medium Contrast |
Version | 6.3 |
Vibrance | -15 |
VignetteAmount | -61 |
VignetteMidpoint | 34 |
WhiteBalance (2) | Custom |
WhiteBalance | Auto |