Felt | Verdi |
AlreadyApplied | True |
Aperture | 10.0 |
ApertureValue | 10.0 |
Artist | unknown |
AutoLateralCA | 0 |
BitsPerSample | 8 |
Blacks2012 | -34 |
BlueHue | 0 |
BlueSaturation | 0 |
By-line | unknown |
CameraProfile | Adobe Standard |
CircleOfConfusion | 0.019 mm |
Clarity2012 | +18 |
ColorComponents | 3 |
ColorMode | RGB |
ColorNoiseReduction | 25 |
ColorNoiseReductionDetail | 50 |
ColorSpace | Uncalibrated |
ColorTemperature | 7050 |
Contrast2012 | +53 |
ConvertToGrayscale | False |
CreateDate | 2012:11:11 14:39:37 |
Creator | unknown |
CropAngle | 0 |
CropBottom | 0.976324 |
CropConstrainToWarp | 1 |
CropLeft | 0.000928 |
CropRight | 1 |
CropTop | 0.224234 |
CustomRendered | Normal |
DateCreated (1) | 2012:11:11 |
DateCreated | 2012:11:11 14:39:37 |
DateTimeOriginal | 2012:11:11 14:39:37 |
DefringeGreenAmount | 0 |
DefringeGreenHueHi | 60 |
DefringeGreenHueLo | 40 |
DefringePurpleAmount | 0 |
DefringePurpleHueHi | 70 |
DefringePurpleHueLo | 30 |
ExifImageHeight | 1949 |
ExifImageWidth | 3884 |
Exposure2012 | -0.15 |
ExposureCompensation | 0 |
ExposureMode | Auto |
ExposureProgram | Aperture-priority AE |
ExposureTime | 1.3 |
Firmware | 1.1.1 |
Flash | Off, Did not fire |
FlashCompensation | 0 |
FNumber | 10.0 |
FocalLength | 44.0 mm |
FocalLength35efl | 44.0 mm (35 mm equivalent: 71.2 mm) |
Format | image/jpeg |
FOV | 28.4 deg |
GradientBasedCorrActive | true |
GradientBasedCorrAmount | 1.000000 |
GradientBasedCorrBrightness | 0.000000 |
GradientBasedCorrClarity | 0.000000 |
GradientBasedCorrClarity2012 (1) | 0.420000 |
GradientBasedCorrClarity2012 | 0.670000 |
GradientBasedCorrContrast | 0.000000 |
GradientBasedCorrContrast2012 | 0.600000 |
GradientBasedCorrDefringe (2) | -0.120000 |
GradientBasedCorrDefringe | -1.000000 |
GradientBasedCorrExposure | 0.000000 |
GradientBasedCorrExposure2012 (1) | -0.550000 |
GradientBasedCorrExposure2012 (2) | 0.000000 |
GradientBasedCorrExposure2012 | 0.125000 |
GradientBasedCorrHighlights2012 (1) | -0.360000 |
GradientBasedCorrHighlights2012 (2) | 0.470000 |
GradientBasedCorrHighlights2012 | 0.220000 |
GradientBasedCorrHue | 282.000000 |
GradientBasedCorrLuminanceNoise | 0.400000 |
GradientBasedCorrMaskFullX (1) | 0.410815 |
GradientBasedCorrMaskFullX (2) | 0.431093 |
GradientBasedCorrMaskFullX | 0.496997 |
GradientBasedCorrMaskFullY (1) | 0.112721 |
GradientBasedCorrMaskFullY (2) | 1.006862 |
GradientBasedCorrMaskFullY | 0.868815 |
GradientBasedCorrMaskValue | 1.000000 |
GradientBasedCorrMaskWhat | Mask/Gradient |
GradientBasedCorrMaskZeroX (1) | 0.413350 |
GradientBasedCorrMaskZeroX (2) | 0.431093 |
GradientBasedCorrMaskZeroX | 0.497842 |
GradientBasedCorrMaskZeroY (1) | 0.718102 |
GradientBasedCorrMaskZeroY (2) | 0.696572 |
GradientBasedCorrMaskZeroY | 0.714303 |
GradientBasedCorrMoire (2) | -0.320000 |
GradientBasedCorrMoire | -0.910000 |
GradientBasedCorrSaturation (1) | 0.520000 |
GradientBasedCorrSaturation (3) | 0.100000 |
GradientBasedCorrSaturation (5) | 0.500000 |
GradientBasedCorrSaturation | 0.000000 |
GradientBasedCorrShadows2012 | -1.000000 |
GradientBasedCorrSharpness (2) | 0.070000 |
GradientBasedCorrSharpness | 0.830000 |
GradientBasedCorrTemperature (1) | 0.100000 |
GradientBasedCorrTemperature (2) | 0.090000 |
GradientBasedCorrTemperature | 0.190000 |
GradientBasedCorrTint (1) | -0.200000 |
GradientBasedCorrTint (2) | 0.210000 |
GradientBasedCorrTint | -0.350000 |
GradientBasedCorrWhat | Correction |
GrainAmount | 0 |
GreenHue | 0 |
GreenSaturation | 0 |
HasCrop | True |
HasSettings | True |
Highlights2012 | -100 |
HueAdjustmentAqua | 0 |
HueAdjustmentBlue | 0 |
HueAdjustmentGreen | 0 |
HueAdjustmentMagenta | 0 |
HueAdjustmentOrange | 0 |
HueAdjustmentPurple | 0 |
HueAdjustmentRed | 0 |
HueAdjustmentYellow | 0 |
HyperfocalDistance | 10.43 m |
ICCProfileName | Adobe RGB (1998) |
ImageHeight | 1949 |
ImageNumber | 80 |
ImageSize | 3884x1949 |
ImageWidth | 3884 |
ISO | 100 |
Lens | 18.0-50.0 mm |
LensID (1) | 6 |
LensID | Sigma 18-50mm f/3.5-5.6 DC |
LensInfo | 18-50mm f/? |
LensManualDistortionAmount | 0 |
LensModel | 18.0-50.0 mm |
LensProfileEnable | 0 |
LensProfileSetup | LensDefaults |
LightValue | 6.3 |
LuminanceAdjustmentAqua | 0 |
LuminanceAdjustmentBlue | +14 |
LuminanceAdjustmentGreen | 0 |
LuminanceAdjustmentMagenta | -49 |
LuminanceAdjustmentOrange | +59 |
LuminanceAdjustmentPurple | -11 |
LuminanceAdjustmentRed | -33 |
LuminanceAdjustmentYellow | 0 |
LuminanceSmoothing | 0 |
Make | Canon |
Megapixels | 7.6 |
MeteringMode | Multi-segment |
Model | Canon EOS 400D DIGITAL |
ModifyDate (1) | 2012:11:11 15:24:09+01:00 |
ModifyDate | 2012:11:11 15:24:09 |
Orientation | Horizontal (normal) |
OwnerName | unknown |
ParametricDarks | 0 |
ParametricHighlights | 0 |
ParametricHighlightSplit | 75 |
ParametricLights | 0 |
ParametricMidtoneSplit | 50 |
ParametricShadows | 0 |
ParametricShadowSplit | 25 |
PerspectiveHorizontal | 0 |
PerspectiveRotate | 0.0 |
PerspectiveScale | 100 |
PerspectiveVertical | 0 |
PostCropVignetteAmount | 0 |
ProcessVersion | 6.7 |
ProfileDescription | Adobe RGB (1998) |
Rating | 0 |
RawFileName | IMG_5749.CR2 |
RedHue | 0 |
RedSaturation | 0 |
Saturation | 0 |
SaturationAdjustmentAqua | 0 |
SaturationAdjustmentBlue | 0 |
SaturationAdjustmentGreen | 0 |
SaturationAdjustmentMagenta | +21 |
SaturationAdjustmentOrange | -10 |
SaturationAdjustmentPurple | -76 |
SaturationAdjustmentRed | +34 |
SaturationAdjustmentYellow | 0 |
ScaleFactor35efl | 1.6 |
SceneCaptureType | Standard |
SerialNumber | 1781109714 |
Shadows2012 | -94 |
ShadowTint | 0 |
SharpenDetail | 25 |
SharpenEdgeMasking | 0 |
SharpenRadius | +1.0 |
Sharpness | 0 |
ShutterSpeed | 1.3 |
ShutterSpeedValue | 1.3 |
Software | Adobe Photoshop CS6 (Macintosh) |
SplitToningBalance | 0 |
SplitToningHighlightHue | 0 |
SplitToningHighlightSaturation | 0 |
SplitToningShadowHue | 0 |
SplitToningShadowSaturation | 0 |
Tint | +32 |
ToneCurveName2012 | Linear |
ToneCurvePV2012 | 0, 0, 255, 255 |
ToneCurvePV2012Blue | 0, 0, 255, 255 |
ToneCurvePV2012Green | 0, 0, 255, 255 |
ToneCurvePV2012Red | 0, 0, 255, 255 |
URL_List | |
Version | 7.2 |
Vibrance | +38 |
VignetteAmount | 0 |
WhiteBalance (1) | Custom |
WhiteBalance | Manual |
Whites2012 | -6 |