Felt | Verdi |
AlreadyApplied | True |
Aperture | 16.0 |
ApertureValue | 16.0 |
ApproximateFocusDistance | 4294967295 |
AutoLateralCA | 0 |
BitsPerSample | 8 |
Blacks2012 | +8 |
BlueHue | 0 |
BlueSaturation | 0 |
Brightness | +50 |
CameraProfile | Adobe Standard |
CFAPattern | [Red,Green][Green,Blue] |
CircleOfConfusion | 0.020 mm |
Clarity | 0 |
Clarity2012 | +46 |
ColorComponents | 3 |
ColorMode | RGB |
ColorNoiseReduction | 25 |
ColorNoiseReductionDetail | 50 |
ColorSpace | Uncalibrated |
ColorTemperature | 7550 |
Contrast (1) | +25 |
Contrast | Normal |
Contrast2012 | 0 |
ConvertToGrayscale | False |
CreateDate | 2011:10:21 16:26:15 |
CreatorTool | Ver.1.01 |
CropAngle | 0.558188 |
CropBottom | 0.996265 |
CropConstrainToWarp | 1 |
CropLeft | 0.199454 |
CropRight | 0.735627 |
CropTop | 0.00278 |
CustomRendered | Normal |
DateCreated (1) | 2011:10:21 |
DateCreated | 2011:10:21 16:26:15.003 |
DateTimeOriginal | 2011:10:21 16:26:15 |
Defringe | 0 |
DigitalZoomRatio | 1 |
DOF | inf (6.04 m - inf) |
ExifImageHeight | 3217 |
ExifImageWidth | 2540 |
Exposure | 0.00 |
Exposure2012 | -0.15 |
ExposureCompensation | 0 |
ExposureMode | Auto |
ExposureProgram | Aperture-priority AE |
ExposureTime | 1/25 |
FillLight | 0 |
Flash | No Flash |
FNumber | 16.0 |
FocalLength | 44.0 mm |
FocalLength35efl | 44.0 mm (35 mm equivalent: 66.0 mm) |
FocalLengthIn35mmFormat | 66 mm |
Format | image/jpeg |
FOV | 30.5 deg |
GainControl | High gain up |
GrainAmount | 0 |
GreenHue | 0 |
GreenSaturation | 0 |
HasCrop | True |
HasSettings | True |
HighlightRecovery | 0 |
Highlights2012 | 0 |
HueAdjustmentAqua | 0 |
HueAdjustmentBlue | 0 |
HueAdjustmentGreen | 0 |
HueAdjustmentMagenta | 0 |
HueAdjustmentOrange | 0 |
HueAdjustmentPurple | 0 |
HueAdjustmentRed | 0 |
HueAdjustmentYellow | 0 |
HyperfocalDistance | 6.04 m |
ICCProfileName | Adobe RGB (1998) |
ImageHeight | 3217 |
ImageNumber | 855 |
ImageSize | 2540x3217 |
ImageWidth | 2540 |
ISO | 1600 |
Lens | 18.0-55.0 mm f/3.5-5.6 |
LensID (1) | 154 |
LensID | AF-S DX VR Zoom-Nikkor 18-55mm f/3.5-5.6G |
LensInfo | 18-55mm f/3.5-5.6 |
LensManualDistortionAmount | 0 |
LensModel | 18.0-55.0 mm f/3.5-5.6 |
LensProfileEnable | 0 |
LensProfileSetup | LensDefaults |
LightSource | Flash |
LightValue | 8.6 |
LuminanceAdjustmentAqua | 0 |
LuminanceAdjustmentBlue | 0 |
LuminanceAdjustmentGreen | 0 |
LuminanceAdjustmentMagenta | 0 |
LuminanceAdjustmentOrange | 0 |
LuminanceAdjustmentPurple | 0 |
LuminanceAdjustmentRed | 0 |
LuminanceAdjustmentYellow | 0 |
LuminanceSmoothing | 0 |
Make | NIKON CORPORATION |
MaxApertureValue | 5.3 |
Megapixels | 8.2 |
MeteringMode | Multi-segment |
Model | NIKON D5100 |
ModifyDate (1) | 2012:11:06 19:48:51+01:00 |
ModifyDate | 2012:11:06 19:48:51 |
Orientation | Horizontal (normal) |
ParametricDarks | 0 |
ParametricHighlights | 0 |
ParametricHighlightSplit | 75 |
ParametricLights | 0 |
ParametricMidtoneSplit | 50 |
ParametricShadows | 0 |
ParametricShadowSplit | 25 |
PerspectiveHorizontal | 0 |
PerspectiveRotate | 0.0 |
PerspectiveScale | 100 |
PerspectiveVertical | 0 |
PostCropVignetteAmount | 0 |
ProcessVersion | 6.7 |
ProfileDescription | Adobe RGB (1998) |
Rating | 0 |
RawFileName | DSC_0054.NEF |
RedHue | 0 |
RedSaturation | 0 |
Saturation (1) | +24 |
Saturation | Normal |
SaturationAdjustmentAqua | 0 |
SaturationAdjustmentBlue | 0 |
SaturationAdjustmentGreen | 0 |
SaturationAdjustmentMagenta | 0 |
SaturationAdjustmentOrange | 0 |
SaturationAdjustmentPurple | 0 |
SaturationAdjustmentRed | 0 |
SaturationAdjustmentYellow | 0 |
ScaleFactor35efl | 1.5 |
SceneCaptureType | Standard |
SceneType | Directly photographed |
SensingMethod | One-chip color area |
SensitivityType | Recommended Exposure Index |
SerialNumber | 6610122 |
Shadows | 5 |
Shadows2012 | -28 |
ShadowTint | 0 |
SharpenDetail | 25 |
SharpenEdgeMasking | 0 |
SharpenRadius | +1.0 |
Sharpness (1) | 18 |
Sharpness | Normal |
ShutterSpeed | 1/25 |
ShutterSpeedValue | 1/25 |
Software | Adobe Photoshop CS6 (Windows) |
SplitToningBalance | 0 |
SplitToningHighlightHue | 0 |
SplitToningHighlightSaturation | 0 |
SplitToningShadowHue | 0 |
SplitToningShadowSaturation | 14 |
SubjectDistanceRange | Unknown |
Tint | +10 |
ToneCurve | 0, 0, 32, 22, 64, 56, 128, 128, 192, 196, 255, 255 |
ToneCurveBlue | 0, 0, 255, 255 |
ToneCurveGreen | 0, 0, 255, 255 |
ToneCurveName | Medium Contrast |
ToneCurveName2012 | Linear |
ToneCurvePV2012 | 0, 0, 255, 255 |
ToneCurvePV2012Blue | 0, 0, 255, 255 |
ToneCurvePV2012Green | 0, 0, 255, 255 |
ToneCurvePV2012Red | 0, 0, 255, 255 |
ToneCurveRed | 0, 0, 255, 255 |
URL_List | |
Version | 7.0 |
Vibrance | +23 |
VignetteAmount | 0 |
WhiteBalance (1) | Custom |
WhiteBalance | Manual |
Whites2012 | 0 |