Felt | Verdi |
AlreadyApplied | True |
Aperture | 29.0 |
ApertureValue | 29.0 |
BitsPerSample | 8 |
BlackClip | 0.669100 |
BlueHue | 0 |
BlueSaturation | 0 |
Brightness | +19 |
CameraProfile | Embedded |
ChromaticAberrationB | 0 |
ChromaticAberrationR | 0 |
Clarity | +47 |
ColorComponents | 3 |
ColorNoiseReduction | 0 |
ColorSaturation | 69.0 |
ColorTemperature | 7.8 |
Contrast | +24 |
ConvertToGrayscale | False |
CreateDate | 2012:09:03 19:34:48 |
CreatorTool | Adobe Photoshop Lightroom 3.6 (Windows) |
CropAngle | 1.50685 |
CropBottom | 0.989384 |
CropConstrainToWarp | 0 |
CropHeight | 1226 |
CropLeft | 0.038057 |
CropRight | 0.961943 |
CropTop | 0.010616 |
CropUnit | pixels |
CropWidth | 815 |
DateCreated (1) | 2012:09:03 |
DateCreated | 2012:09:03 19:34:48 |
DateTimeOriginal | 2012:09:03 19:33:57 |
Defringe | 0 |
Exposure | 0.00 |
ExposureTime | 6 |
FillLight | 0 |
FNumber | 29.0 |
FocalLength | 100.0 mm |
FocalLength35efl | 100.0 mm |
Format | image/jpeg |
Gamma | 1.21 |
GrainAmount | 0 |
GreenHue | 0 |
GreenSaturation | 0 |
HasCrop | True |
HasSettings | True |
HighlightRecovery | 0 |
HighlightsSmoothing | 8.0 |
HueAdjustmentAqua | 0 |
HueAdjustmentBlue | 0 |
HueAdjustmentGreen | 0 |
HueAdjustmentMagenta | 0 |
HueAdjustmentOrange | 0 |
HueAdjustmentPurple | 0 |
HueAdjustmentRed | 0 |
HueAdjustmentYellow | 0 |
ImageHeight | 1226 |
ImageSize | 815x1226 |
ImageWidth | 815 |
IncrementalTemperature | 0 |
IncrementalTint | 0 |
ISO | 500 |
IsPano360 | No |
LensManualDistortionAmount | 0 |
LensProfileEnable | 0 |
LensProfileSetup | LensDefaults |
LightValue | 4.8 |
LuminanceAdjustmentAqua | 0 |
LuminanceAdjustmentBlue | 0 |
LuminanceAdjustmentGreen | 0 |
LuminanceAdjustmentMagenta | 0 |
LuminanceAdjustmentOrange | 0 |
LuminanceAdjustmentPurple | 0 |
LuminanceAdjustmentRed | 0 |
LuminanceAdjustmentYellow | 0 |
LuminanceNoiseReductionContrast | 0 |
LuminanceNoiseReductionDetail | 50 |
LuminanceSmoothing | 30 |
Luminosity | 2.0 |
Megapixels | 0.999 |
Method | Details Enhancer |
Microcontrast | 5.7 |
Microsmoothing | 12.1 |
Model | Canon EOS 5D |
ModifyDate (1) | 2012:09:03 20:09:10+02:00 |
ModifyDate | 2012:09:03 20:09:10 |
ParametricDarks | 0 |
ParametricHighlights | 0 |
ParametricHighlightSplit | 75 |
ParametricLights | 0 |
ParametricMidtoneSplit | 50 |
ParametricShadows | 0 |
ParametricShadowSplit | 25 |
PerspectiveHorizontal | 0 |
PerspectiveRotate | 0.0 |
PerspectiveScale | 100 |
PerspectiveVertical | 0 |
PostCropVignetteAmount | 0 |
ProcessVersion | 5.7 |
ProfileDescription | sRGB IEC61966-2.1 |
RedHue | 0 |
RedSaturation | 0 |
Saturation | 0 |
SaturationAdjustmentAqua | 0 |
SaturationAdjustmentBlue | 0 |
SaturationAdjustmentGreen | 0 |
SaturationAdjustmentMagenta | 0 |
SaturationAdjustmentOrange | 0 |
SaturationAdjustmentPurple | 0 |
SaturationAdjustmentRed | 0 |
SaturationAdjustmentYellow | 0 |
SaturationHighlights | 1.7 |
SaturationShadows | 1.6 |
Shadows | 6 |
ShadowsClipping | 0.0 |
ShadowsSmoothing | 56.0 |
ShadowTint | 0 |
SharpenDetail | 25 |
SharpenEdgeMasking | 0 |
SharpenRadius | +1.0 |
Sharpness | 0 |
ShutterSpeed | 6 |
ShutterSpeedValue | 6 |
Smoothing | -2.2 |
SmoothingMode | Slider |
Software | Adobe Photoshop Lightroom 3.6 (Windows) |
SplitToningBalance | 0 |
SplitToningHighlightHue | 0 |
SplitToningHighlightSaturation | 0 |
SplitToningShadowHue | 0 |
SplitToningShadowSaturation | 0 |
Strength | 100.0 |
ToneCurve | 0, 0, 255, 255 |
ToneCurveName | Linear |
Version (1) | 4.1 |
Version | 6.6 |
Vibrance | +15 |
VignetteAmount | 0 |
WhiteBalance | As Shot |
WhiteClip | 1.084000 |