Felt | Verdi |
AlreadyApplied | True |
Aperture | 8.0 |
ApertureValue | 8.0 |
BitsPerSample | 8 |
BlueHue | 0 |
BlueSaturation | 0 |
Brightness | +49 |
BrightnessValue | 8.62 |
CameraProfile | Adobe Standard |
Caption-Abstract | SONY DSC |
ChromaticAberrationB | 0 |
ChromaticAberrationR | 0 |
CircleOfConfusion | 0.020 mm |
Clarity | 0 |
ColorComponents | 3 |
ColorNoiseReduction | 25 |
ColorNoiseReductionDetail | 50 |
ColorTemperature | 7000 |
Contrast (2) | +43 |
Contrast | Normal |
ConvertToGrayscale | False |
CreateDate (1) | 2012:06:15 09:52:59+02:00 |
CreateDate | 2012:06:15 09:52:59 |
CreatorTool | SLT-A33 v2.00 |
CropAngle | 0 |
CropBottom | 1 |
CropConstrainToWarp | 1 |
CropLeft | 0.302013 |
CropRight | 0.720997 |
CropTop | 0.128205 |
CustomRendered | Normal |
DateTimeOriginal (1) | 2012:06:15 09:52:59+02:00 |
DateTimeOriginal | 2012:06:15 09:52:59 |
Defringe | 0 |
Description | SONY DSC |
ExifImageHeight | 2246 |
ExifImageWidth | 1924 |
Exposure | -0.15 |
ExposureCompensation | 0 |
ExposureMode | Auto |
ExposureProgram | Program AE |
ExposureTime | 1/640 |
FillLight | 34 |
Flash | Off, Did not fire |
FlashFired | False |
FlashFunction | False |
FlashMode | Off |
FlashRedEyeMode | False |
FlashReturn | No return detection |
FNumber | 8.0 |
FocalLength | 200.0 mm |
FocalLength35efl | 200.0 mm (35 mm equivalent: 300.0 mm) |
FocalLengthIn35mmFormat | 300 mm |
FOV | 6.9 deg |
GrainAmount | 0 |
GreenHue | 0 |
GreenSaturation | 0 |
HasCrop | True |
HasSettings | True |
HighlightRecovery | 69 |
HueAdjustmentAqua | 0 |
HueAdjustmentBlue | 0 |
HueAdjustmentGreen | 0 |
HueAdjustmentMagenta | 0 |
HueAdjustmentOrange | 0 |
HueAdjustmentPurple | 0 |
HueAdjustmentRed | 0 |
HueAdjustmentYellow | 0 |
HyperfocalDistance | 249.62 m |
ImageDescription | SONY DSC |
ImageHeight | 2246 |
ImageSize | 1924x2246 |
ImageWidth | 1924 |
ISO | 100 |
Lens | DT 55-200mm F4-5.6 SAM |
LensID (1) | 56 |
LensID | Sony DT 55-200mm F4-5.6 SAM (SAL55200-2) |
LensInfo | 55-200mm f/4-5.6 |
LensManualDistortionAmount | 0 |
LensModel | DT 55-200mm F4-5.6 SAM |
LensProfileEnable | 0 |
LensProfileSetup | LensDefaults |
LightSource | Unknown |
LightValue | 15.3 |
LuminanceAdjustmentAqua | 0 |
LuminanceAdjustmentBlue | 0 |
LuminanceAdjustmentGreen | 0 |
LuminanceAdjustmentMagenta | 0 |
LuminanceAdjustmentOrange | 0 |
LuminanceAdjustmentPurple | 0 |
LuminanceAdjustmentRed | 0 |
LuminanceAdjustmentYellow | 0 |
LuminanceNoiseReductionContrast | 51 |
LuminanceNoiseReductionDetail | 50 |
LuminanceSmoothing | 51 |
Make | SONY |
MaxApertureValue | 5.6 |
Megapixels | 4.3 |
MeteringMode | Spot |
Model | SLT-A33 |
ModifyDate (1) | 2012:06:19 09:34:56+02:00 |
ModifyDate | 2012:06:19 09:34:56 |
ParametricDarks | 0 |
ParametricHighlights | 0 |
ParametricHighlightSplit | 75 |
ParametricLights | 0 |
ParametricMidtoneSplit | 50 |
ParametricShadows | 0 |
ParametricShadowSplit | 25 |
PerspectiveHorizontal | 0 |
PerspectiveRotate | 0.0 |
PerspectiveScale | 100 |
PerspectiveVertical | 0 |
PostCropVignetteAmount | 0 |
ProcessVersion | 5.7 |
ProfileDescription | Adobe RGB (1998) |
Rating | 0 |
RawFileName | DSC04227.ARW |
RecommendedExposureIndex | 100 |
RedHue | 0 |
RedSaturation | 0 |
Saturation (2) | +12 |
Saturation | Normal |
SaturationAdjustmentAqua | 0 |
SaturationAdjustmentBlue | 0 |
SaturationAdjustmentGreen | 0 |
SaturationAdjustmentMagenta | 0 |
SaturationAdjustmentOrange | 0 |
SaturationAdjustmentPurple | 0 |
SaturationAdjustmentRed | 0 |
SaturationAdjustmentYellow | 0 |
ScaleFactor35efl | 1.5 |
SceneCaptureType | Standard |
SceneType | Directly photographed |
SensitivityType (1) | 2 |
SensitivityType | Recommended Exposure Index |
Shadows | 13 |
ShadowTint | 0 |
SharpenDetail | 47 |
SharpenEdgeMasking | 0 |
SharpenRadius | +1.6 |
Sharpness (2) | 74 |
Sharpness | Normal |
ShutterSpeed | 1/640 |
ShutterSpeedValue | 1/640 |
Software | SLT-A33 v2.00 |
SplitToningBalance | 0 |
SplitToningHighlightHue | 0 |
SplitToningHighlightSaturation | 0 |
SplitToningShadowHue | 0 |
SplitToningShadowSaturation | 0 |
Tint | 0 |
ToneCurve | 0, 0, 32, 22, 64, 56, 128, 128, 192, 196, 255, 255 |
ToneCurveName | Medium Contrast |
Version | 6.3 |
Vibrance | +64 |
VignetteAmount | 0 |
WhiteBalance | Auto |