Felt | Verdi |
AlreadyApplied | True |
Aperture | 7.1 |
ApertureValue | 7.1 |
ApproximateFocusDistance | 11.9 |
Artist | John Einar Sandvand |
BitsPerSample | 8 |
BlueHue | 0 |
BlueSaturation | 0 |
Brightness | +60 |
By-line | John Einar Sandvand |
CameraProfile | Adobe Standard |
ChromaticAberrationB | 0 |
ChromaticAberrationR | 0 |
CircleOfConfusion | 0.031 mm |
Clarity | +49 |
ColorComponents | 3 |
ColorNoiseReduction | 25 |
ColorNoiseReductionDetail | 50 |
ColorTemperature | 5500 |
Contrast | +60 |
ConvertToGrayscale | False |
CopyrightFlag | True |
CreateDate (1) | 2012:04:01 16:08:25.46+02:00 |
CreateDate | 2012:04:01 16:08:25 |
Creator | John Einar Sandvand |
CreatorAddress | Parallellen 6A |
CreatorCity | Ås |
CreatorCountry | Norway |
CreatorPostalCode | 1430 |
CreatorTool | Adobe Photoshop Lightroom 3.6 (Windows) |
CreatorWorkEmail | john.einar@sandvand.net |
CreatorWorkTelephone | +47-99158839 |
CreatorWorkURL | http://www.betatales.com |
Credit | Photo: John Einar Sandvand |
CropAngle | 0 |
CropBottom | 0.96044 |
CropConstrainToWarp | 0 |
CropHeight | 3596 |
CropLeft | 0.017582 |
CropRight | 0.978022 |
CropTop | 0 |
CropUnit | pixels |
CropWidth | 5394 |
CustomRendered | Normal |
DateCreated (1) | 2012:04:01 |
DateCreated | 2012:04:01 16:08:25.46+02:00 |
DateTimeOriginal | 2012:04:01 16:08:25 |
Defringe | 0 |
DOF | 8.44 m (9.02 - 17.47 m) |
Exposure | +0.60 |
ExposureCompensation | 0 |
ExposureMode | Auto |
ExposureProgram | Aperture-priority AE |
ExposureTime | 1/80 |
FillLight | 0 |
Firmware | 2.1.1 |
Flash | Off, Did not fire |
FlashCompensation | 0 |
FNumber | 7.1 |
FocalLength | 90.0 mm |
FocalLength35efl | 90.0 mm (35 mm equivalent: 87.8 mm) |
Format | image/jpeg |
FOV | 23.2 deg |
GradientBasedCorrActive | true |
GradientBasedCorrAmount | 1.000000 |
GradientBasedCorrBrightness | 0.000000 |
GradientBasedCorrClarity | 0.000000 |
GradientBasedCorrContrast | 0.000000 |
GradientBasedCorrExposure | -0.146250 |
GradientBasedCorrHue | 0.000000 |
GradientBasedCorrMaskFullX | 0.475270 |
GradientBasedCorrMaskFullY | 0.962551 |
GradientBasedCorrMaskValue | 1.000000 |
GradientBasedCorrMaskWhat | Mask/Gradient |
GradientBasedCorrMaskZeroX | 0.475270 |
GradientBasedCorrMaskZeroY | 0.707137 |
GradientBasedCorrSaturation | 0.000000 |
GradientBasedCorrSharpness | 0.000000 |
GradientBasedCorrWhat | Correction |
GrainAmount | 0 |
GreenHue | 0 |
GreenSaturation | 0 |
HasCrop | True |
HasSettings | True |
HighlightRecovery | 0 |
HueAdjustmentAqua | 0 |
HueAdjustmentBlue | 0 |
HueAdjustmentGreen | 0 |
HueAdjustmentMagenta | 0 |
HueAdjustmentOrange | 0 |
HueAdjustmentPurple | 0 |
HueAdjustmentRed | 0 |
HueAdjustmentYellow | 0 |
HyperfocalDistance | 37.06 m |
ImageHeight | 3596 |
ImageNumber | 0 |
ImageSize | 5394x3596 |
ImageWidth | 5394 |
ISO | 100 |
Lens | EF24-105mm f/4L IS USM |
LensID (1) | 237 |
LensID | Canon EF 24-105mm f/4L IS USM |
LensInfo | 24-105mm f/? |
LensManualDistortionAmount | 0 |
LensModel | EF24-105mm f/4L IS USM |
LensProfileEnable | 0 |
LensProfileSetup | LensDefaults |
LightValue | 12.0 |
LuminanceAdjustmentAqua | 0 |
LuminanceAdjustmentBlue | 0 |
LuminanceAdjustmentGreen | 0 |
LuminanceAdjustmentMagenta | 0 |
LuminanceAdjustmentOrange | 0 |
LuminanceAdjustmentPurple | 0 |
LuminanceAdjustmentRed | 0 |
LuminanceAdjustmentYellow | 0 |
LuminanceSmoothing | 0 |
Make | Canon |
Marked | True |
MaxApertureValue | 4.0 |
Megapixels | 19.4 |
MeteringMode | Multi-segment |
Model | Canon EOS 5D Mark II |
ModifyDate (1) | 2012:04:02 19:03:40+02:00 |
ModifyDate | 2012:04:02 19:03:40 |
ParametricDarks | 0 |
ParametricHighlights | 0 |
ParametricHighlightSplit | 75 |
ParametricLights | 0 |
ParametricMidtoneSplit | 50 |
ParametricShadows | 0 |
ParametricShadowSplit | 25 |
PerspectiveHorizontal | 0 |
PerspectiveRotate | 0.0 |
PerspectiveScale | 100 |
PerspectiveVertical | 0 |
PostCropVignetteAmount | -49 |
PostCropVignetteFeather | 50 |
PostCropVignetteHighlightContrast | 0 |
PostCropVignetteMidpoint | 50 |
PostCropVignetteRoundness | 0 |
PostCropVignetteStyle | 1 |
ProcessVersion | 5.7 |
ProfileDescription | sRGB IEC61966-2.1 |
Rating | 4 |
RedHue | 0 |
RedSaturation | 0 |
Saturation | +13 |
SaturationAdjustmentAqua | 0 |
SaturationAdjustmentBlue | 0 |
SaturationAdjustmentGreen | 0 |
SaturationAdjustmentMagenta | 0 |
SaturationAdjustmentOrange | 0 |
SaturationAdjustmentPurple | 0 |
SaturationAdjustmentRed | 0 |
SaturationAdjustmentYellow | 0 |
ScaleFactor35efl | 1.0 |
SceneCaptureType | Standard |
SerialNumber | 3331601075 |
Shadows | 5 |
ShadowTint | 0 |
SharpenDetail | 25 |
SharpenEdgeMasking | 0 |
SharpenRadius | +1.0 |
Sharpness | 88 |
ShutterSpeed | 1/80 |
ShutterSpeedValue | 1/80 |
Software | Adobe Photoshop Lightroom 3.6 (Windows) |
SplitToningBalance | 0 |
SplitToningHighlightHue | 0 |
SplitToningHighlightSaturation | 0 |
SplitToningShadowHue | 0 |
SplitToningShadowSaturation | 0 |
SubjectDistance | 11.9 m |
Tint | -29 |
ToneCurve | 0, 0, 32, 22, 64, 56, 128, 128, 192, 196, 255, 255 |
ToneCurveName | Medium Contrast |
Version | 6.6 |
Vibrance | +52 |
VignetteAmount | 0 |
WhiteBalance (1) | Custom |
WhiteBalance | Auto |