Felt | Verdi |
AlreadyApplied | True |
Aperture | 13.0 |
ApertureValue | 13.0 |
ApproximateFocusDistance | 4.04 |
Artist | Ivar August Bull |
BitsPerSample | 8 |
BlueHue | 0 |
BlueSaturation | 0 |
Brightness | 0 |
By-line | Ivar August Bull |
CameraProfile | Embedded |
ChromaticAberrationB | 0 |
ChromaticAberrationR | 0 |
CircleOfConfusion | 0.005 mm |
Clarity | 0 |
ColorComponents | 3 |
ColorNoiseReduction | 0 |
Contrast | +11 |
ConvertToGrayscale | False |
Copyright | Ivar August Bull |
CopyrightFlag | True |
CopyrightNotice | Ivar August Bull |
CreateDate | 2012:03:04 13:58:34 |
Creator | Ivar August Bull |
CreatorAddress | Hordnesvegen 136, |
CreatorCity | Bergen |
CreatorCountry | Norway |
CreatorPostalCode | 5244 |
CreatorRegion | Fana |
CreatorTool | Adobe Photoshop Lightroom 3.6 (Macintosh) |
CreatorWorkEmail | ivaraugust@gmail.com |
CreatorWorkTelephone | +47 97147573 |
CreatorWorkURL | www.levendestillbilder.wordpress.com |
CropAngle | 0 |
CropBottom | 0.746725 |
CropConstrainToWarp | 0 |
CropHeight | 2086 |
CropLeft | 0.00852 |
CropRight | 1 |
CropTop | 0.174672 |
CropUnit | pixels |
CropWidth | 14836 |
CustomRendered | Normal |
DateCreated (1) | 2012:03:04 |
DateCreated | 2012:03:04 13:58:34 |
DateTimeOriginal | 2012:03:04 13:58:34 |
Defringe | 0 |
DigitalZoomRatio | 1 |
DOF | inf (0.75 m - inf) |
Exposure | +1.10 |
ExposureCompensation | -2/3 |
ExposureMode | Manual |
ExposureTime | 1/250 |
FillLight | 0 |
Firmware | 1.01 |
Flash | Off, Did not fire |
FlashCompensation | 0 |
FNumber | 13.0 |
FocalLength | 8.0 mm |
FocalLength35efl | 8.0 mm (35 mm equivalent: 44.8 mm) |
Format | image/jpeg |
FOV | 43.8 deg |
GrainAmount | 0 |
GreenHue | 0 |
GreenSaturation | 0 |
HasCrop | True |
HasSettings | True |
HighlightRecovery | 65 |
HueAdjustmentAqua | 0 |
HueAdjustmentBlue | 0 |
HueAdjustmentGreen | 0 |
HueAdjustmentMagenta | 0 |
HueAdjustmentOrange | 0 |
HueAdjustmentPurple | 0 |
HueAdjustmentRed | 0 |
HueAdjustmentYellow | 0 |
HyperfocalDistance | 0.92 m |
ImageHeight | 2086 |
ImageSize | 14836x2086 |
ImageWidth | 14836 |
IncrementalTemperature | 0 |
IncrementalTint | 0 |
ISO | 100 |
Lens | 4.3-21.5 mm |
LensInfo | 4.3-21.5mm f/? |
LensManualDistortionAmount | 0 |
LensModel | 4.3-21.5 mm |
LensProfileEnable | 0 |
LensProfileSetup | LensDefaults |
LightValue | 15.4 |
LuminanceAdjustmentAqua | 0 |
LuminanceAdjustmentBlue | 0 |
LuminanceAdjustmentGreen | 0 |
LuminanceAdjustmentMagenta | 0 |
LuminanceAdjustmentOrange | 0 |
LuminanceAdjustmentPurple | 0 |
LuminanceAdjustmentRed | 0 |
LuminanceAdjustmentYellow | 0 |
LuminanceSmoothing | 0 |
Make | Canon |
Marked | True |
MaxApertureValue | 4.5 |
Megapixels | 30.9 |
MeteringMode | Multi-segment |
Model | Canon IXUS 220HS |
ModifyDate (1) | 2012:03:17 18:04:54+01:00 |
ModifyDate | 2012:03:17 18:04:54 |
ParametricDarks | 0 |
ParametricHighlights | -41 |
ParametricHighlightSplit | 75 |
ParametricLights | +56 |
ParametricMidtoneSplit | 50 |
ParametricShadows | 0 |
ParametricShadowSplit | 25 |
PerspectiveHorizontal | 0 |
PerspectiveRotate | 0.0 |
PerspectiveScale | 100 |
PerspectiveVertical | 0 |
PostCropVignetteAmount | +7 |
PostCropVignetteFeather | 50 |
PostCropVignetteMidpoint | 50 |
PostCropVignetteRoundness | 0 |
PostCropVignetteStyle | 1 |
ProcessVersion | 5.7 |
ProfileDescription | sRGB IEC61966-2.1 |
RedHue | 0 |
RedSaturation | 0 |
Rights | Ivar August Bull |
Saturation | +16 |
SaturationAdjustmentAqua | 0 |
SaturationAdjustmentBlue | 0 |
SaturationAdjustmentGreen | 0 |
SaturationAdjustmentMagenta | 0 |
SaturationAdjustmentOrange | 0 |
SaturationAdjustmentPurple | 0 |
SaturationAdjustmentRed | 0 |
SaturationAdjustmentYellow | 0 |
ScaleFactor35efl | 5.6 |
SceneCaptureType | Standard |
SensingMethod | One-chip color area |
SensitivityType | Standard Output Sensitivity and Recommended Exposure Index |
Shadows | 7 |
ShadowTint | 0 |
SharpenDetail | 25 |
SharpenEdgeMasking | 0 |
SharpenRadius | +1.0 |
Sharpness | 0 |
ShutterSpeed | 1/250 |
ShutterSpeedValue | 1/250 |
Software | Adobe Photoshop Lightroom 3.6 (Macintosh) |
SplitToningBalance | 0 |
SplitToningHighlightHue | 0 |
SplitToningHighlightSaturation | 0 |
SplitToningShadowHue | 0 |
SplitToningShadowSaturation | 0 |
SubjectDistance | 4.04 m |
ToneCurve | 0, 0, 255, 255 |
ToneCurveName | Linear |
Version | 6.6 |
Vibrance | +14 |
VignetteAmount | 0 |
WhiteBalance (1) | As Shot |
WhiteBalance | Auto |