Felt | Verdi |
AlreadyApplied | True |
Aperture | 4.0 |
ApertureValue | 4.0 |
Artist | Photographer:Tore Hobbelstad |
BitsPerSample | 8 |
BlueHue | 0 |
BlueSaturation | 0 |
Brightness | +50 |
By-line | Photographer:Tore Hobbelstad |
CameraProfile | Adobe Standard |
ChromaticAberrationB | 0 |
ChromaticAberrationR | 0 |
CircleOfConfusion | 0.031 mm |
Clarity | +60 |
ColorComponents | 3 |
ColorMode | RGB |
ColorNoiseReduction | 25 |
ColorSpace | Uncalibrated |
ColorTemperature | 7150 |
Contrast | +54 |
ConvertToGrayscale | False |
Copyright | Copyright: Tore Hobbelstad Tlf 911 32 701 |
CopyrightNotice | Copyright: Tore Hobbelstad Tlf 911 32 701 |
CreateDate (1) | 2012:03:01 16:36:51.11+01:00 |
CreateDate | 2012:03:01 16:36:51 |
Creator | Photographer:Tore Hobbelstad |
CropAngle | 0 |
CropBottom | 0.890411 |
CropHeight | 7 |
CropLeft | 0.16895 |
CropRight | 1 |
CropTop | 0 |
CropUnit | Unknown (3) |
CropWidth | 5 |
CustomRendered | Normal |
DateTimeDigitized | 2012:03:01 16:36:51.11+01:00 |
DateTimeOriginal (1) | 2012:03:01 16:36:51.11+01:00 |
DateTimeOriginal | 2012:03:01 16:36:51 |
Defringe | 0 |
ExifImageHeight | 1600 |
ExifImageWidth | 1143 |
Exposure | +0.75 |
ExposureCompensation | +4/3 |
ExposureMode | Auto |
ExposureProgram | Aperture-priority AE |
ExposureTime | 1/500 |
FillLight | 11 |
Firmware | 2.1.1 |
Flash | Off, Did not fire |
FlashCompensation | 0 |
FlashFired | False |
FlashFunction | False |
FlashMode | Off |
FlashRedEyeMode | False |
FlashReturn | No return detection |
FNumber | 4.0 |
FocalLength | 600.0 mm |
FocalLength35efl | 600.0 mm (35 mm equivalent: 585.6 mm) |
Format | image/jpeg |
FOV | 3.5 deg |
GreenHue | 0 |
GreenSaturation | 0 |
HasCrop | True |
HasSettings | True |
HighlightRecovery | 45 |
HueAdjustmentAqua | 0 |
HueAdjustmentBlue | 0 |
HueAdjustmentGreen | 0 |
HueAdjustmentMagenta | 0 |
HueAdjustmentOrange | 0 |
HueAdjustmentPurple | 0 |
HueAdjustmentRed | 0 |
HueAdjustmentYellow | 0 |
HyperfocalDistance | 2923.31 m |
ICCProfileName | Adobe RGB (1998) |
ImageHeight | 1600 |
ImageNumber | 0 |
ImageSize | 1143x1600 |
ImageWidth | 1143 |
ISO | 400 |
Lens | EF600mm f/4L IS USM |
LensInfo | 600mm f/? |
LightValue | 11.0 |
LuminanceAdjustmentAqua | 0 |
LuminanceAdjustmentBlue | 0 |
LuminanceAdjustmentGreen | 0 |
LuminanceAdjustmentMagenta | 0 |
LuminanceAdjustmentOrange | 0 |
LuminanceAdjustmentPurple | 0 |
LuminanceAdjustmentRed | 0 |
LuminanceAdjustmentYellow | 0 |
LuminanceSmoothing | 55 |
Make | Canon |
MaxApertureValue | 4.0 |
Megapixels | 1.8 |
MeteringMode | Multi-segment |
Model | Canon EOS 5D Mark II |
ModifyDate (1) | 2012:03:22 19:15:48+01:00 |
ModifyDate | 2012:03:22 19:15:48 |
Orientation | Horizontal (normal) |
OwnerName | Tore Hobbelstad |
ParametricDarks | 0 |
ParametricHighlights | 0 |
ParametricHighlightSplit | 75 |
ParametricLights | 0 |
ParametricMidtoneSplit | 50 |
ParametricShadows | 0 |
ParametricShadowSplit | 25 |
PostCropVignetteAmount | 0 |
ProfileDescription | Adobe RGB (1998) |
Rating | 0 |
RawFileName | IMG_9176.CR2 |
RedHue | 0 |
RedSaturation | 0 |
Rights | Copyright: Tore Hobbelstad Tlf 911 32 701 |
Saturation | +11 |
SaturationAdjustmentAqua | 0 |
SaturationAdjustmentBlue | 0 |
SaturationAdjustmentGreen | 0 |
SaturationAdjustmentMagenta | 0 |
SaturationAdjustmentOrange | 0 |
SaturationAdjustmentPurple | 0 |
SaturationAdjustmentRed | 0 |
SaturationAdjustmentYellow | 0 |
ScaleFactor35efl | 1.0 |
SceneCaptureType | Standard |
SerialNumber | 630326000 |
Shadows | 5 |
ShadowTint | 0 |
SharpenDetail | 25 |
SharpenEdgeMasking | 0 |
SharpenRadius | +1.0 |
Sharpness | 0 |
ShutterSpeed | 1/500 |
ShutterSpeedValue | 1/500 |
Software | Adobe Photoshop CS4 Windows |
SplitToningBalance | 0 |
SplitToningHighlightHue | 0 |
SplitToningHighlightSaturation | 0 |
SplitToningShadowHue | 0 |
SplitToningShadowSaturation | 0 |
Tint | -3 |
ToneCurve | 0, 0, 32, 22, 64, 56, 128, 128, 192, 196, 255, 255 |
ToneCurveName | Medium Contrast |
URL_List | |
Version | 5.4 |
Vibrance | 0 |
VignetteAmount | 0 |
WhiteBalance (2) | Custom |
WhiteBalance | Auto |