Felt | Verdi |
AlreadyApplied | True |
Aperture | 8.0 |
ApertureValue | 8.0 |
BitsPerSample | 8 |
BlueHue | 0 |
BlueSaturation | 0 |
Brightness | +71 |
CameraProfile | Adobe Standard |
ChromaticAberrationB | 0 |
ChromaticAberrationR | 0 |
CircleOfConfusion | 0.019 mm |
Clarity | +40 |
ColorComponents | 3 |
ColorNoiseReduction | 25 |
ColorNoiseReductionDetail | 50 |
ColorTemperature | 4759 |
Contrast | +60 |
ConvertToGrayscale | False |
CreateDate (1) | 2010:06:12 13:32:38.03+02:00 |
CreateDate | 2010:06:12 13:32:38 |
CreatorTool | Adobe Photoshop Lightroom |
CropAngle | 0.373755 |
CropBottom | 0.998466 |
CropConstrainToWarp | 0 |
CropHeight | 1654 |
CropLeft | 0.008511 |
CropRight | 0.991489 |
CropTop | 0.001534 |
CropUnit | pixels |
CropWidth | 2481 |
CustomRendered | Normal |
DateTimeDigitized | 2010:06:12 13:32:38.03+02:00 |
DateTimeOriginal (1) | 2010:06:12 13:32:38.03+02:00 |
DateTimeOriginal | 2010:06:12 13:32:38 |
Defringe | 0 |
DOF | inf (2.18 m - inf) |
ExifImageHeight | 1654 |
ExifImageWidth | 2481 |
Exposure | +0.14 |
ExposureCompensation | 0 |
ExposureMode | Auto |
ExposureProgram | Aperture-priority AE |
ExposureTime | 1/800 |
FillLight | 10 |
Firmware | 1.0.3 |
Flash | Off, Did not fire |
FlashCompensation | 0 |
FlashFired | False |
FlashFunction | False |
FlashMode | Off |
FlashRedEyeMode | False |
FlashReturn | No return detection |
FNumber | 8.0 |
FocalLength | 18.0 mm |
FocalLength35efl | 18.0 mm (35 mm equivalent: 29.1 mm) |
FOV | 63.4 deg |
GradientBasedCorrActive | true |
GradientBasedCorrAmount | 1.000000 |
GradientBasedCorrBrightness (1) | 0.049000 |
GradientBasedCorrBrightness | 0.122000 |
GradientBasedCorrClarity | 0.000000 |
GradientBasedCorrContrast | 0.073000 |
GradientBasedCorrExposure (1) | -0.244000 |
GradientBasedCorrExposure | -0.024000 |
GradientBasedCorrHue | 175.000000 |
GradientBasedCorrMaskFullX (1) | 0.373980 |
GradientBasedCorrMaskFullX | 0.471316 |
GradientBasedCorrMaskFullY (1) | 0.018551 |
GradientBasedCorrMaskFullY | 1.002050 |
GradientBasedCorrMaskValue | 1.000000 |
GradientBasedCorrMaskWhat | Mask/Gradient |
GradientBasedCorrMaskZeroX (1) | 0.384184 |
GradientBasedCorrMaskZeroX | 0.478552 |
GradientBasedCorrMaskZeroY (1) | 1.129970 |
GradientBasedCorrMaskZeroY | 0.413808 |
GradientBasedCorrSaturation (1) | 0.000000 |
GradientBasedCorrSaturation | 0.010000 |
GradientBasedCorrSharpness | 0.000000 |
GradientBasedCorrWhat | Correction |
GrainAmount | 0 |
GreenHue | 0 |
GreenSaturation | 0 |
HasCrop | True |
HasSettings | True |
HighlightRecovery | 0 |
HueAdjustmentAqua | 0 |
HueAdjustmentBlue | 0 |
HueAdjustmentGreen | 0 |
HueAdjustmentMagenta | 0 |
HueAdjustmentOrange | 0 |
HueAdjustmentPurple | 0 |
HueAdjustmentRed | 0 |
HueAdjustmentYellow | 0 |
HyperfocalDistance | 2.18 m |
ImageHeight | 1654 |
ImageNumber | 0 |
ImageSize | 2481x1654 |
ImageWidth | 2481 |
ISO | 200 |
Lens | EF-S18-55mm f/3.5-5.6 IS |
LensID (1) | 48 |
LensID | Canon EF-S 18-55mm f/3.5-5.6 IS |
LensInfo | 18-55mm f/? |
LensManualDistortionAmount | 0 |
LensProfileEnable | 0 |
LensProfileSetup | LensDefaults |
LightValue | 14.6 |
LuminanceAdjustmentAqua | 0 |
LuminanceAdjustmentBlue | 0 |
LuminanceAdjustmentGreen | -11 |
LuminanceAdjustmentMagenta | 0 |
LuminanceAdjustmentOrange | 0 |
LuminanceAdjustmentPurple | 0 |
LuminanceAdjustmentRed | 0 |
LuminanceAdjustmentYellow | +41 |
LuminanceNoiseReductionContrast | 0 |
LuminanceNoiseReductionDetail | 50 |
LuminanceSmoothing | 18 |
Make | Canon |
MaxApertureValue | 3.5 |
Megapixels | 4.1 |
MeteringMode | Multi-segment |
Model | Canon EOS 1000D |
ModifyDate (1) | 2012:02:01 21:21:06+01:00 |
ModifyDate | 2012:02:01 21:21:06 |
PaintCorrectionActive | true |
PaintCorrectionAmount | 1.000000 |
PaintCorrectionBrightness (2) | 0.098000 |
PaintCorrectionBrightness (4) | -0.073000 |
PaintCorrectionBrightness | 0.073000 |
PaintCorrectionClarity (2) | 0.195000 |
PaintCorrectionClarity | 0.000000 |
PaintCorrectionContrast | 0.073000 |
PaintCorrectionExposure (1) | -0.073000 |
PaintCorrectionExposure (2) | 0.244000 |
PaintCorrectionExposure (4) | -0.122000 |
PaintCorrectionExposure (5) | -0.195000 |
PaintCorrectionExposure | 0.073000 |
PaintCorrectionHue | 175.000000 |
PaintCorrectionMaskCenterWeight | 0.102357 |
PaintCorrectionMaskFlow | 0.929000 |
PaintCorrectionMaskRadius (1) | 0.128014 |
PaintCorrectionMaskRadius (12) | 0.069715 |
PaintCorrectionMaskRadius (13) | 0.091857 |
PaintCorrectionMaskRadius (14) | 0.055350 |
PaintCorrectionMaskRadius (5) | 0.070613 |
PaintCorrectionMaskRadius | 0.024116 |
PaintCorrectionMaskValue | 0.476000 |
PaintCorrectionMaskWhat | Mask/Paint |
PaintCorrectionSaturation (11) | -0.415000 |
PaintCorrectionSaturation (3) | -0.878000 |
PaintCorrectionSaturation (9) | 0.000000 |
PaintCorrectionSaturation | 0.010000 |
PaintCorrectionSharpness | 0.000000 |
PaintCorrectionWhat | Correction |
ParametricDarks | 0 |
ParametricHighlights | 0 |
ParametricHighlightSplit | 75 |
ParametricLights | 0 |
ParametricMidtoneSplit | 50 |
ParametricShadows | 0 |
ParametricShadowSplit | 25 |
PerspectiveHorizontal | 0 |
PerspectiveRotate | 0.0 |
PerspectiveScale | 100 |
PerspectiveVertical | 0 |
PostCropVignetteAmount | 0 |
ProcessVersion | 5.7 |
ProfileDescription | sRGB IEC61966-2.1 |
RedHue | 0 |
RedSaturation | 0 |
Saturation | +8 |
SaturationAdjustmentAqua | 0 |
SaturationAdjustmentBlue | 0 |
SaturationAdjustmentGreen | -7 |
SaturationAdjustmentMagenta | 0 |
SaturationAdjustmentOrange | 0 |
SaturationAdjustmentPurple | 0 |
SaturationAdjustmentRed | 0 |
SaturationAdjustmentYellow | +16 |
ScaleFactor35efl | 1.6 |
SceneCaptureType | Standard |
SerialNumber | 780215603 |
Shadows | 5 |
ShadowTint | 0 |
SharpenDetail | 18 |
SharpenEdgeMasking | 18 |
SharpenRadius | +1.0 |
Sharpness | 52 |
ShutterSpeed | 1/800 |
ShutterSpeedValue | 1/800 |
SplitToningBalance | 0 |
SplitToningHighlightHue | 0 |
SplitToningHighlightSaturation | 0 |
SplitToningShadowHue | 0 |
SplitToningShadowSaturation | 0 |
SubjectDistance | 4294967295 m |
Tint | +22 |
ToneCurve | 0, 0, 32, 22, 64, 56, 128, 128, 192, 196, 255, 255 |
ToneCurveName | Medium Contrast |
Version | 6.1 |
Vibrance | +8 |
VignetteAmount | 0 |
WhiteBalance (2) | Custom |
WhiteBalance | Auto |