Felt | Verdi |
AlreadyApplied | True |
Aperture | 5.0 |
ApertureValue | 5.0 |
BitsPerSample | 8 |
BlueHue | 0 |
BlueSaturation | 0 |
Brightness | 0 |
CameraProfile | Adobe Standard |
CFAPattern | [Red,Green][Green,Blue] |
ChromaticAberrationB | 0 |
ChromaticAberrationR | 0 |
CircleOfConfusion | 0.020 mm |
Clarity | 0 |
ColorComponents | 1 |
ColorMode | RGB |
ColorNoiseReduction | 25 |
ColorSpace | sRGB |
ColorTemperature | 6750 |
Contrast (2) | +50 |
Contrast | Normal |
ConvertToGrayscale | True |
CreateDate (1) | 2011:11:12 13:57:17.91+01:00 |
CreateDate | 2011:11:12 13:57:17 |
CreatorTool | Ver.1.00 |
CustomRendered | Normal |
DateTimeDigitized | 2011:11:12 13:57:17.91+01:00 |
DateTimeOriginal (1) | 2011:11:12 13:57:17.91+01:00 |
DateTimeOriginal | 2011:11:12 13:57:17 |
Defringe | 0 |
DigitalZoomRatio | 1 |
DOF | 7.24 m (6.58 - 13.81 m) |
ExifImageHeight | 1107 |
ExifImageWidth | 1476 |
Exposure | +0.50 |
ExposureCompensation | 0 |
ExposureMode | Manual |
ExposureProgram | Manual |
ExposureTime | 1/250 |
FillLight | 0 |
Flash | No Flash |
FlashFired | False |
FlashFunction | False |
FlashMode | Unknown |
FlashRedEyeMode | False |
FlashReturn | No return detection |
FNumber | 5.0 |
FocalLength | 50.0 mm |
FocalLength35efl | 50.0 mm (35 mm equivalent: 75.0 mm) |
FocalLengthIn35mmFormat | 75 mm |
Format | image/jpeg |
FOV | 27.0 deg |
GainControl | Low gain up |
GrainAmount | 0 |
GrayMixerAqua | -7 |
GrayMixerBlue | -3 |
GrayMixerGreen | -2 |
GrayMixerMagenta | +15 |
GrayMixerOrange | +9 |
GrayMixerPurple | +18 |
GrayMixerRed | +33 |
GrayMixerYellow | -19 |
GreenHue | 0 |
GreenSaturation | 0 |
HasCrop | False |
HasSettings | True |
HighlightRecovery | 0 |
HyperfocalDistance | 24.96 m |
ICCProfileName | sRGB IEC61966-2.1 |
ImageHeight | 1107 |
ImageNumber | 5210 |
ImageSize | 1476x1107 |
ImageWidth | 1476 |
ISO | 400 |
Label | Select |
Lens | 50.0 mm f/1.8 |
LensID (1) | 118 |
LensID | AF Nikkor 50mm f/1.8D |
LensInfo | 50mm f/1.8 |
LightSource | Unknown |
LightValue | 10.6 |
LuminanceSmoothing | 100 |
Make | NIKON CORPORATION |
MaxApertureValue | 1.7 |
Megapixels | 1.6 |
MeteringMode | Multi-segment |
Model | NIKON D300S |
ModifyDate (1) | 2011:11:16 15:16:33+01:00 |
ModifyDate | 2011:11:16 15:16:33 |
Orientation | Horizontal (normal) |
PaintCorrectionActive | true |
PaintCorrectionAmount | 1.000000 |
PaintCorrectionBrightness (1) | 0.105000 |
PaintCorrectionBrightness | 0.255000 |
PaintCorrectionClarity | 0.000000 |
PaintCorrectionContrast | 0.000000 |
PaintCorrectionExposure (1) | 0.650000 |
PaintCorrectionExposure | 0.425000 |
PaintCorrectionHue | 0.000000 |
PaintCorrectionMaskCenterWeight | 0.686802 |
PaintCorrectionMaskFlow | 0.637168 |
PaintCorrectionMaskRadius | 0.031846 |
PaintCorrectionMaskValue | 0.340000 |
PaintCorrectionMaskWhat | Mask/Paint |
PaintCorrectionSaturation (1) | 0.040000 |
PaintCorrectionSaturation | 0.000000 |
PaintCorrectionSharpness | 0.170000 |
PaintCorrectionWhat | Correction |
ParametricDarks | -5 |
ParametricHighlights | +18 |
ParametricHighlightSplit | 75 |
ParametricLights | +10 |
ParametricMidtoneSplit | 50 |
ParametricShadows | -12 |
ParametricShadowSplit | 25 |
PostCropVignetteAmount | 0 |
ProcessVersion | 5.0 |
ProfileDescription | sRGB IEC61966-2.1 |
Rating | 0 |
RawFileName | DSC_5064.NEF |
RedHue | 0 |
RedSaturation | 0 |
Saturation | Normal |
ScaleFactor35efl | 1.5 |
SceneCaptureType | Standard |
SceneType | Directly photographed |
SensingMethod | One-chip color area |
SerialNumber | 6017178 |
Shadows | 2 |
ShadowTint | 0 |
SharpenDetail | 100 |
SharpenEdgeMasking | 0 |
SharpenRadius | +1.0 |
Sharpness (2) | 113 |
Sharpness | Normal |
ShutterSpeed | 1/250 |
ShutterSpeedValue | 1/250 |
SidecarForExtension | NEF |
Software | Adobe Photoshop CS4 Windows |
SplitToningBalance | 0 |
SplitToningHighlightHue | 0 |
SplitToningHighlightSaturation | 0 |
SplitToningShadowHue | 0 |
SplitToningShadowSaturation | 0 |
SubjectDistance | 8.91 m |
SubjectDistanceRange | Unknown |
Tint | +9 |
ToneCurve | 0, 0, 32, 22, 64, 56, 128, 128, 192, 196, 255, 255 |
ToneCurveName | Medium Contrast |
URL_List | |
Version | 5.7 |
VignetteAmount | 0 |
WhiteBalance (2) | Custom |
WhiteBalance | Auto |