Felt | Verdi |
AlreadyApplied | True |
Aperture | 2.8 |
ApertureValue | 2.8 |
ApproximateFocusDistance | 2.99 |
BitsPerSample | 8 |
BlueHue | 0 |
BlueSaturation | 0 |
Brightness | +11 |
CameraProfile | Adobe Standard |
CFAPattern | [Red,Green][Green,Blue] |
ChromaticAberrationB | 0 |
ChromaticAberrationR | 0 |
CircleOfConfusion | 0.030 mm |
Clarity | 0 |
ColorComponents | 1 |
ColorMode | RGB |
ColorNoiseReduction | 25 |
ColorNoiseReductionDetail | 50 |
ColorSpace | sRGB |
ColorTemperature | 7750 |
Contrast (1) | +37 |
Contrast | Normal |
ConvertToGrayscale | True |
CreateDate (1) | 2011:10:04 14:16:21.75 |
CreateDate | 2011:10:04 14:16:21 |
CreatorTool | Ver.1.02 |
CropAngle | -1.536835 |
CropBottom | 0.944622 |
CropConstrainToWarp | 1 |
CropLeft | 0.010798 |
CropRight | 0.980905 |
CropTop | 0.038757 |
CustomRendered | Normal |
DateCreated (1) | 2011:10:04 |
DateCreated | 2011:10:04 14:16:21.075 |
DateTimeOriginal | 2011:10:04 14:16:21 |
Defringe | 0 |
DigitalZoomRatio | 1 |
DOF | 1.54 m (2.41 - 3.95 m) |
ExifImageHeight | 4058 |
ExifImageWidth | 2675 |
Exposure | +0.45 |
ExposureCompensation | 0 |
ExposureMode | Auto |
ExposureProgram | Aperture-priority AE |
ExposureTime | 1/2000 |
FillLight | 14 |
Flash | No Flash |
FNumber | 2.8 |
FocalLength | 32.0 mm |
FocalLength35efl | 32.0 mm (35 mm equivalent: 32.0 mm) |
FocalLengthIn35mmFormat | 32 mm |
Format | image/jpeg |
FOV | 58.7 deg |
GainControl | Low gain up |
GrainAmount | 0 |
GrayMixerAqua | -13 |
GrayMixerBlue | +20 |
GrayMixerGreen | -29 |
GrayMixerMagenta | +4 |
GrayMixerOrange | -23 |
GrayMixerPurple | +21 |
GrayMixerRed | -13 |
GrayMixerYellow | -27 |
GreenHue | 0 |
GreenSaturation | 0 |
HasCrop | True |
HasSettings | True |
HighlightRecovery | 43 |
HyperfocalDistance | 12.17 m |
ICCProfileName | sRGB IEC61966-2.1 |
ImageHeight | 4058 |
ImageNumber | 17000 |
ImageSize | 2675x4058 |
ImageWidth | 2675 |
ISO | 400 |
Lens | 28.0-70.0 mm f/2.8 |
LensID (1) | 93 |
LensID | AF-S Zoom-Nikkor 28-70mm f/2.8D IF-ED |
LensInfo | 28-70mm f/2.8 |
LensManualDistortionAmount | 0 |
LensModel | 28.0-70.0 mm f/2.8 |
LensProfileEnable | 0 |
LensProfileSetup | LensDefaults |
LightSource | Unknown |
LightValue | 11.9 |
LuminanceSmoothing | 0 |
Make | NIKON CORPORATION |
MaxApertureValue | 2.8 |
Megapixels | 10.9 |
MeteringMode | Multi-segment |
Model | NIKON D700 |
ModifyDate (1) | 2011:11:15 20:32:34+01:00 |
ModifyDate | 2011:11:15 20:32:34 |
Orientation | Horizontal (normal) |
ParametricDarks | -38 |
ParametricHighlights | -7 |
ParametricHighlightSplit | 75 |
ParametricLights | +25 |
ParametricMidtoneSplit | 50 |
ParametricShadows | +41 |
ParametricShadowSplit | 25 |
PerspectiveHorizontal | 0 |
PerspectiveRotate | 0.0 |
PerspectiveScale | 100 |
PerspectiveVertical | 0 |
PostCropVignetteAmount | 0 |
ProcessVersion | 5.7 |
ProfileDescription | sRGB IEC61966-2.1 |
Rating | 0 |
RawFileName | DSC_6738.NEF |
RedHue | 0 |
RedSaturation | 0 |
Saturation | Normal |
ScaleFactor35efl | 1.0 |
SceneCaptureType | Standard |
SceneType | Directly photographed |
SensingMethod | One-chip color area |
SerialNumber | 2286311 |
Shadows | 6 |
ShadowTint | 0 |
SharpenDetail | 33 |
SharpenEdgeMasking | 0 |
SharpenRadius | +1.2 |
Sharpness (1) | 58 |
Sharpness | Normal |
ShutterSpeed | 1/2000 |
ShutterSpeedValue | 1/2000 |
Software | Adobe Photoshop CS5.1 Windows |
SplitToningBalance | 0 |
SplitToningHighlightHue | 0 |
SplitToningHighlightSaturation | 0 |
SplitToningShadowHue | 0 |
SplitToningShadowSaturation | 0 |
SubjectDistance | 2.99 m |
SubjectDistanceRange | Unknown |
Tint | -5 |
ToneCurve | 0, 0, 32, 22, 64, 56, 128, 128, 192, 196, 255, 255 |
ToneCurveName | Medium Contrast |
URL_List | |
Version | 6.4.1 |
VignetteAmount | 0 |
WhiteBalance (1) | Custom |
WhiteBalance | Manual |