Felt | Verdi |
AlreadyApplied | True |
Aperture | 4.5 |
ApertureValue | 4.5 |
BitsPerSample | 8 |
BlueHue | 0 |
BlueSaturation | 0 |
Brightness | +20 |
CameraProfile | Embedded |
ChromaticAberrationB | 0 |
ChromaticAberrationR | 0 |
Clarity | +55 |
ColorComponents | 3 |
ColorMode | RGB |
ColorNoiseReduction | 0 |
ColorSpace | Uncalibrated |
Contrast | +38 |
ConvertToGrayscale | False |
CreateDate (1) | 2011:08:19 18:59:12+02:00 |
CreateDate | 2011:08:19 18:59:12 |
CreatorTool | QuickTime 7.7.1 |
CropAngle | 0 |
CropBottom | 0.863087 |
CropConstrainToWarp | 1 |
CropLeft | 0 |
CropRight | 1 |
CropTop | 0.037584 |
DateCreated (1) | 2011:08:19 |
DateCreated | 2011:08:19 18:59:12 |
DateTimeOriginal | 2011:08:19 18:59:12 |
Defringe | 0 |
ExifImageHeight | 2140 |
ExifImageWidth | 3888 |
Exposure | -0.50 |
ExposureCompensation | 0 |
ExposureProgram | Manual |
ExposureTime | 1/400 |
FillLight | 6 |
Flash | Off, Did not fire |
FNumber | 4.5 |
FocalLength | 18.0 mm |
FocalLength35efl | 18.0 mm |
Format | application/vnd.adobe.photoshop |
GrainAmount | 0 |
GreenHue | 0 |
GreenSaturation | 0 |
HasCrop | True |
HasSettings | True |
HighlightRecovery | 0 |
HueAdjustmentAqua | 0 |
HueAdjustmentBlue | 0 |
HueAdjustmentGreen | 0 |
HueAdjustmentMagenta | 0 |
HueAdjustmentOrange | +1 |
HueAdjustmentPurple | 0 |
HueAdjustmentRed | 0 |
HueAdjustmentYellow | +2 |
ICCProfileName | Adobe RGB (1998) |
ImageHeight | 2140 |
ImageSize | 3888x2140 |
ImageWidth | 3888 |
IncrementalTemperature | +1 |
IncrementalTint | -1 |
ISO | 400 |
LensManualDistortionAmount | 0 |
LensProfileEnable | 0 |
LensProfileSetup | LensDefaults |
LightValue | 11.0 |
LuminanceAdjustmentAqua | 0 |
LuminanceAdjustmentBlue | 0 |
LuminanceAdjustmentGreen | 0 |
LuminanceAdjustmentMagenta | 0 |
LuminanceAdjustmentOrange | 0 |
LuminanceAdjustmentPurple | 0 |
LuminanceAdjustmentRed | 0 |
LuminanceAdjustmentYellow | 0 |
LuminanceSmoothing | 0 |
Make | Canon |
Megapixels | 8.3 |
MeteringMode | Multi-segment |
Model | Canon EOS 400D DIGITAL |
ModifyDate (1) | 2011:08:20 14:55:50+02:00 |
ModifyDate | 2011:08:20 14:55:50 |
Orientation | Horizontal (normal) |
PaintCorrectionActive | true |
PaintCorrectionAmount | 1.000000 |
PaintCorrectionBrightness (1) | 0.145000 |
PaintCorrectionBrightness (2) | 0.075000 |
PaintCorrectionBrightness | 0.000000 |
PaintCorrectionClarity | 0.000000 |
PaintCorrectionContrast | 0.000000 |
PaintCorrectionExposure (1) | 0.262500 |
PaintCorrectionExposure (2) | 0.037500 |
PaintCorrectionExposure (3) | 0.187500 |
PaintCorrectionExposure | -0.100000 |
PaintCorrectionHue | 0.000000 |
PaintCorrectionMaskCenterWeight (1) | 0.206133 |
PaintCorrectionMaskCenterWeight | 0.214349 |
PaintCorrectionMaskFlow | 0.888889 |
PaintCorrectionMaskRadius (14) | 0.045305 |
PaintCorrectionMaskRadius (2) | 0.132589 |
PaintCorrectionMaskRadius (6) | 0.075743 |
PaintCorrectionMaskRadius | 0.044540 |
PaintCorrectionMaskValue (1) | 1.000000 |
PaintCorrectionMaskValue | 0.000000 |
PaintCorrectionMaskWhat | Mask/Paint |
PaintCorrectionSaturation | 0.000000 |
PaintCorrectionSharpness | 0.000000 |
PaintCorrectionWhat | Correction |
ParametricDarks | +30 |
ParametricHighlights | 0 |
ParametricHighlightSplit | 90 |
ParametricLights | +1 |
ParametricMidtoneSplit | 78 |
ParametricShadows | 0 |
ParametricShadowSplit | 10 |
PerspectiveHorizontal | 0 |
PerspectiveRotate | 0.0 |
PerspectiveScale | 100 |
PerspectiveVertical | 0 |
PostCropVignetteAmount | -13 |
PostCropVignetteFeather | 50 |
PostCropVignetteHighlightContrast | 0 |
PostCropVignetteMidpoint | 50 |
PostCropVignetteRoundness | 0 |
PostCropVignetteStyle | 1 |
ProcessVersion | 5.7 |
ProfileDescription | Adobe RGB (1998) |
Rating | 0 |
RawFileName | oljemuseum 20.08.2011..dng |
RedHue | +2 |
RedSaturation | 0 |
Saturation | +3 |
SaturationAdjustmentAqua | 0 |
SaturationAdjustmentBlue | 0 |
SaturationAdjustmentGreen | 0 |
SaturationAdjustmentMagenta | 0 |
SaturationAdjustmentOrange | 0 |
SaturationAdjustmentPurple | 0 |
SaturationAdjustmentRed | 0 |
SaturationAdjustmentYellow | 0 |
SensitivityType | Unknown |
Shadows | 0 |
ShadowTint | 0 |
SharpenDetail | 25 |
SharpenEdgeMasking | 0 |
SharpenRadius | +1.0 |
Sharpness | 150 |
ShutterSpeed | 1/400 |
ShutterSpeedValue | 1/400 |
Software | Adobe Photoshop CS5.1 Macintosh |
SplitToningBalance | 0 |
SplitToningHighlightHue | 0 |
SplitToningHighlightSaturation | 0 |
SplitToningShadowHue | 0 |
SplitToningShadowSaturation | 0 |
ToneCurve | 0, 0, 175, 107, 255, 255 |
ToneCurveName | Custom |
URL_List | |
Version | 6.3 |
Vibrance | +32 |
VignetteAmount | 0 |
WhiteBalance | Custom |