Felt | Verdi |
AlreadyApplied | True |
Aperture | 5.6 |
ApertureValue | 5.6 |
BitsPerSample | 8 |
BlueHue | 0 |
BlueSaturation | 0 |
Brightness | +47 |
CameraProfile | Adobe Standard |
ChromaticAberrationB | 0 |
ChromaticAberrationR | 0 |
CircleOfConfusion | 0.019 mm |
Clarity | -22 |
ColorComponents | 3 |
ColorMode | RGB |
ColorNoiseReduction | 25 |
ColorNoiseReductionDetail | 50 |
ColorSpace | sRGB |
ColorTemperature | 5850 |
Contrast | +50 |
ConvertToGrayscale | False |
CopyrightFlag | False |
CreateDate (1) | 2011:10:11 10:14:46+02:00 |
CreateDate | 2011:08:04 15:11:28 |
CreatorTool | Adobe Photoshop Elements 7.0 Windows |
CustomRendered | Normal |
DateTimeDigitized | 2011:08:04 15:11:28.57+02:00 |
DateTimeOriginal (1) | 2011:08:04 15:11:28.57+02:00 |
DateTimeOriginal | 2011:08:04 15:11:28 |
Defringe | 0 |
DOF | 0.002 m (0.369 - 0.371 m) |
ExifImageHeight | 2481 |
ExifImageWidth | 1654 |
Exposure | +0.69 |
ExposureCompensation | 0 |
ExposureMode | Manual |
ExposureProgram | Manual |
ExposureTime | 1/200 |
FillLight | 8 |
Firmware | 1.2.3 |
Flash | Off, Did not fire |
FlashCompensation | 0 |
FlashFired | False |
FlashFunction | False |
FlashMode | Off |
FlashRedEyeMode | False |
FlashReturn | No return detection |
FNumber | 5.6 |
FocalLength | 100.0 mm |
FocalLength35efl | 100.0 mm (35 mm equivalent: 157.0 mm) |
Format | image/jpeg |
FOV | 13.1 deg |
GradientBasedCorrActive | true |
GradientBasedCorrAmount | 1.000000 |
GradientBasedCorrBrightness | 0.073000 |
GradientBasedCorrClarity | 0.000000 |
GradientBasedCorrContrast | 0.122000 |
GradientBasedCorrExposure (1) | 0.195000 |
GradientBasedCorrExposure | 0.146000 |
GradientBasedCorrHue | 190.000000 |
GradientBasedCorrMaskFullX (1) | 0.542857 |
GradientBasedCorrMaskFullX | 0.461911 |
GradientBasedCorrMaskFullY (1) | 1.002380 |
GradientBasedCorrMaskFullY | 1.084060 |
GradientBasedCorrMaskValue | 1.000000 |
GradientBasedCorrMaskWhat | Mask/Gradient |
GradientBasedCorrMaskZeroX (1) | 0.563492 |
GradientBasedCorrMaskZeroX | 0.534920 |
GradientBasedCorrMaskZeroY (1) | 0.554762 |
GradientBasedCorrMaskZeroY | 0.445238 |
GradientBasedCorrSaturation (1) | 0.000000 |
GradientBasedCorrSaturation (3) | -0.268000 |
GradientBasedCorrSaturation | 0.020000 |
GradientBasedCorrSharpness | 0.000000 |
GradientBasedCorrWhat | Correction |
GrainAmount | 0 |
GreenHue | 0 |
GreenSaturation | 0 |
HasCrop | False |
HasSettings | True |
HighlightRecovery | 0 |
HueAdjustmentAqua | 0 |
HueAdjustmentBlue | 0 |
HueAdjustmentGreen | 0 |
HueAdjustmentMagenta | 0 |
HueAdjustmentOrange | 0 |
HueAdjustmentPurple | 0 |
HueAdjustmentRed | 0 |
HueAdjustmentYellow | 0 |
HyperfocalDistance | 93.33 m |
ICCProfileName | sRGB IEC61966-2.1 |
ImageHeight | 2481 |
ImageNumber | 0 |
ImageSize | 1654x2481 |
ImageWidth | 1654 |
ISO | 100 |
Lens | EF100mm f/2.8L Macro IS USM |
LensID (1) | 254 |
LensID | Canon EF 100mm f/2.8L Macro IS USM |
LensInfo | 100mm f/? |
LensManualDistortionAmount | 0 |
LensProfileEnable | 0 |
LensProfileSetup | LensDefaults |
LightValue | 12.6 |
LuminanceAdjustmentAqua | 0 |
LuminanceAdjustmentBlue | 0 |
LuminanceAdjustmentGreen | 0 |
LuminanceAdjustmentMagenta | 0 |
LuminanceAdjustmentOrange | 0 |
LuminanceAdjustmentPurple | 0 |
LuminanceAdjustmentRed | 0 |
LuminanceAdjustmentYellow | 0 |
LuminanceNoiseReductionContrast | 0 |
LuminanceNoiseReductionDetail | 50 |
LuminanceSmoothing | 16 |
Make | Canon |
MaxApertureValue | 2.8 |
Megapixels | 4.1 |
MeteringMode | Multi-segment |
Model | Canon EOS 7D |
ModifyDate (1) | 2011:10:11 10:14:46+02:00 |
ModifyDate | 2011:10:11 10:14:46 |
Orientation | Horizontal (normal) |
ParametricDarks | 0 |
ParametricHighlights | 0 |
ParametricHighlightSplit | 75 |
ParametricLights | 0 |
ParametricMidtoneSplit | 50 |
ParametricShadows | 0 |
ParametricShadowSplit | 25 |
PerspectiveHorizontal | 0 |
PerspectiveRotate | 0.0 |
PerspectiveScale | 100 |
PerspectiveVertical | 0 |
PostCropVignetteAmount | +24 |
PostCropVignetteFeather | 93 |
PostCropVignetteMidpoint | 7 |
PostCropVignetteRoundness | -77 |
PostCropVignetteStyle | 1 |
ProcessVersion | 5.7 |
ProfileDescription | sRGB IEC61966-2.1 |
RedHue | 0 |
RedSaturation | 0 |
Saturation | -10 |
SaturationAdjustmentAqua | 0 |
SaturationAdjustmentBlue | -20 |
SaturationAdjustmentGreen | +7 |
SaturationAdjustmentMagenta | +34 |
SaturationAdjustmentOrange | 0 |
SaturationAdjustmentPurple | +48 |
SaturationAdjustmentRed | 0 |
SaturationAdjustmentYellow | 0 |
ScaleFactor35efl | 1.6 |
SceneCaptureType | Standard |
SerialNumber | 1961000057 |
Shadows | 5 |
ShadowTint | 0 |
SharpenDetail | 39 |
SharpenEdgeMasking | 51 |
SharpenRadius | +1.5 |
Sharpness | 50 |
ShutterSpeed | 1/200 |
ShutterSpeedValue | 1/200 |
Software | Adobe Photoshop Elements 7.0 Windows |
SplitToningBalance | 0 |
SplitToningHighlightHue | 0 |
SplitToningHighlightSaturation | 0 |
SplitToningShadowHue | 0 |
SplitToningShadowSaturation | 0 |
SubjectDistance | 0.37 m |
Tint | +8 |
ToneCurve | 0, 0, 32, 22, 64, 56, 128, 128, 192, 196, 255, 255 |
ToneCurveName | Medium Contrast |
URL_List | |
Version | 6.1 |
Vibrance | -13 |
VignetteAmount | 0 |
WhiteBalance (2) | As Shot |
WhiteBalance | Manual |