Felt | Verdi |
AlreadyApplied | True |
Aperture | 8.0 |
ApertureValue | 8.0 |
BitsPerSample | 8 |
BlueHue | 0 |
BlueSaturation | 0 |
Brightness | +47 |
CameraProfile | Adobe Standard |
ChromaticAberrationB | 0 |
ChromaticAberrationR | 0 |
CircleOfConfusion | 0.019 mm |
Clarity | +6 |
ColorComponents | 3 |
ColorNoiseReduction | 25 |
ColorNoiseReductionDetail | 50 |
ColorTemperature | 5550 |
Contrast | +66 |
ConvertToGrayscale | True |
CreateDate (1) | 2011:07:28 11:15:56.22+02:00 |
CreateDate | 2011:07:28 11:15:56 |
CreatorTool | Adobe Photoshop Lightroom |
CropAngle | -1.82332 |
CropBottom | 0.954426 |
CropConstrainToWarp | 0 |
CropHeight | 1654 |
CropLeft | 0.01266 |
CropRight | 0.98734 |
CropTop | 0.045574 |
CropUnit | pixels |
CropWidth | 2481 |
CustomRendered | Normal |
DateTimeDigitized | 2011:07:28 11:15:56.22+02:00 |
DateTimeOriginal (1) | 2011:07:28 11:15:56.22+02:00 |
DateTimeOriginal | 2011:07:28 11:15:56 |
Defringe | 0 |
DOF | 2.22 m (0.94 - 3.16 m) |
ExifImageHeight | 2481 |
ExifImageWidth | 1654 |
Exposure | +0.14 |
ExposureCompensation | 0 |
ExposureMode | Auto |
ExposureProgram | Aperture-priority AE |
ExposureTime | 1/200 |
FillLight | 23 |
Firmware | 1.0.9 |
Flash | Off, Did not fire |
FlashCompensation | 0 |
FlashFired | False |
FlashFunction | False |
FlashMode | Off |
FlashRedEyeMode | False |
FlashReturn | No return detection |
FNumber | 8.0 |
FocalLength | 20.0 mm |
FocalLength35efl | 20.0 mm (35 mm equivalent: 31.8 mm) |
FOV | 59.1 deg |
GrainAmount | 0 |
GrayMixerAqua | -10 |
GrayMixerBlue | +20 |
GrayMixerGreen | -17 |
GrayMixerMagenta | +32 |
GrayMixerOrange | +12 |
GrayMixerPurple | +25 |
GrayMixerRed | +39 |
GrayMixerYellow | -9 |
GreenHue | 0 |
GreenSaturation | 0 |
HasCrop | True |
HasSettings | True |
HighlightRecovery | 0 |
HyperfocalDistance | 2.64 m |
ImageHeight | 2481 |
ImageNumber | 0 |
ImageSize | 1654x2481 |
ImageWidth | 1654 |
ISO | 200 |
Lens | EF-S18-55mm f/3.5-5.6 IS |
LensID (1) | 48 |
LensID | Canon EF-S 18-55mm f/3.5-5.6 IS |
LensInfo | 18-55mm f/? |
LensManualDistortionAmount | 0 |
LensProfileEnable | 0 |
LensProfileSetup | LensDefaults |
LightValue | 12.6 |
LuminanceNoiseReductionContrast | 0 |
LuminanceNoiseReductionDetail | 50 |
LuminanceSmoothing | 23 |
Make | Canon |
MaxApertureValue | 3.5 |
Megapixels | 4.1 |
MeteringMode | Multi-segment |
Model | Canon EOS 500D |
ModifyDate (1) | 2011:08:23 23:27:35+02:00 |
ModifyDate | 2011:08:23 23:27:35 |
ParametricDarks | -17 |
ParametricHighlights | 0 |
ParametricHighlightSplit | 75 |
ParametricLights | +28 |
ParametricMidtoneSplit | 50 |
ParametricShadows | 0 |
ParametricShadowSplit | 25 |
PerspectiveHorizontal | 0 |
PerspectiveRotate | 0.0 |
PerspectiveScale | 100 |
PerspectiveVertical | 0 |
PostCropVignetteAmount | -6 |
PostCropVignetteFeather | 50 |
PostCropVignetteHighlightContrast | 0 |
PostCropVignetteMidpoint | 50 |
PostCropVignetteRoundness | 0 |
PostCropVignetteStyle | 1 |
ProcessVersion | 5.7 |
ProfileDescription | sRGB IEC61966-2.1 |
RedHue | 0 |
RedSaturation | 0 |
ScaleFactor35efl | 1.6 |
SceneCaptureType | Standard |
SerialNumber | 1180414840 |
Shadows | 2 |
ShadowTint | 0 |
SharpenDetail | 31 |
SharpenEdgeMasking | 49 |
SharpenRadius | +1.4 |
Sharpness | 50 |
ShutterSpeed | 1/200 |
ShutterSpeedValue | 1/200 |
SplitToningBalance | 0 |
SplitToningHighlightHue | 37 |
SplitToningHighlightSaturation | 15 |
SplitToningShadowHue | 36 |
SplitToningShadowSaturation | 15 |
SubjectDistance | 1.45 m |
Tint | -4 |
ToneCurve | 0, 0, 32, 22, 64, 56, 128, 128, 192, 196, 255, 255 |
ToneCurveName | Medium Contrast |
Version | 6.1 |
VignetteAmount | 0 |
WhiteBalance (2) | Custom |
WhiteBalance | Auto |