Felt | Verdi |
AlreadyApplied | True |
Aperture | 1.8 |
ApertureValue | 1.8 |
ApproximateFocusDistance | 5.25 |
BitsPerSample | 8 |
BlueHue | 0 |
BlueSaturation | 0 |
Brightness | +50 |
CameraProfile | Adobe Standard |
ChromaticAberrationB | 0 |
ChromaticAberrationR | 0 |
CircleOfConfusion | 0.031 mm |
Clarity | 0 |
ColorComponents | 3 |
ColorNoiseReduction | 25 |
ColorNoiseReductionDetail | 50 |
ColorTemperature | 5500 |
Contrast | +25 |
ConvertToGrayscale | False |
CreateDate (1) | 2011:08:08 11:47:36.05 |
CreateDate | 2011:08:08 11:47:36 |
CreatorTool | Adobe Photoshop Lightroom 3.4.1 |
CropAngle | -1.77327 |
CropBottom | 0.957023 |
CropConstrainToWarp | 0 |
CropHeight | 688 |
CropLeft | 0.012327 |
CropRight | 0.95751 |
CropTop | 0.044378 |
CropUnit | pixels |
CropWidth | 1000 |
CustomRendered | Normal |
DateCreated (1) | 2011:08:08 |
DateCreated | 2011:08:08 11:47:36.05 |
DateTimeOriginal | 2011:08:08 11:47:36 |
Defringe | 0 |
DOF | 0.42 m (5.05 - 5.47 m) |
Exposure | -1.79 |
ExposureCompensation | +2/3 |
ExposureMode | Auto |
ExposureProgram | Aperture-priority AE |
ExposureTime | 1/125 |
FillLight | 20 |
Firmware | 1.1.0 |
Flash | Off, Did not fire |
FlashCompensation | 0 |
FNumber | 1.8 |
FocalLength | 85.0 mm |
FocalLength35efl | 85.0 mm (35 mm equivalent: 83.0 mm) |
FOV | 24.5 deg |
GrainAmount | 0 |
GreenHue | 0 |
GreenSaturation | 0 |
HasCrop | True |
HasSettings | True |
HighlightRecovery | 0 |
HueAdjustmentAqua | 0 |
HueAdjustmentBlue | 0 |
HueAdjustmentGreen | 0 |
HueAdjustmentMagenta | 0 |
HueAdjustmentOrange | 0 |
HueAdjustmentPurple | 0 |
HueAdjustmentRed | 0 |
HueAdjustmentYellow | 0 |
HyperfocalDistance | 130.38 m |
ImageHeight | 1000 |
ImageNumber | 0 |
ImageSize | 688x1000 |
ImageWidth | 688 |
ISO | 200 |
Lens | EF85mm f/1.2L II USM |
LensID (1) | 239 |
LensID | Canon EF 85mm f/1.2L II USM |
LensInfo | 85mm f/? |
LensManualDistortionAmount | 0 |
LensModel | EF85mm f/1.2L II USM |
LensProfileChromaticAberrationScale | 100 |
LensProfileDistortionScale | 100 |
LensProfileEnable | 0 |
LensProfileFilename | Canon EOS 5D Mark II (Canon EF 85mm f1.2L II USM) - RAW.lcp |
LensProfileName | Adobe (Canon EF 85mm f/1.2 L II USM) |
LensProfileSetup | LensDefaults |
LensProfileVignettingScale | 100 |
LightValue | 7.7 |
LuminanceAdjustmentAqua | 0 |
LuminanceAdjustmentBlue | 0 |
LuminanceAdjustmentGreen | 0 |
LuminanceAdjustmentMagenta | 0 |
LuminanceAdjustmentOrange | 0 |
LuminanceAdjustmentPurple | 0 |
LuminanceAdjustmentRed | 0 |
LuminanceAdjustmentYellow | 0 |
LuminanceNoiseReductionContrast | 0 |
LuminanceNoiseReductionDetail | 50 |
LuminanceSmoothing | 50 |
Make | Canon |
MaxApertureValue | 1.2 |
Megapixels | 0.688 |
MeteringMode | Multi-segment |
Model | Canon EOS 5D Mark II |
ModifyDate (1) | 2011:08:11 23:37:45+02:00 |
ModifyDate | 2011:08:11 23:37:45 |
ParametricDarks | 0 |
ParametricHighlights | 0 |
ParametricHighlightSplit | 75 |
ParametricLights | 0 |
ParametricMidtoneSplit | 50 |
ParametricShadows | 0 |
ParametricShadowSplit | 25 |
PerspectiveHorizontal | 0 |
PerspectiveRotate | 0.0 |
PerspectiveScale | 100 |
PerspectiveVertical | 0 |
PostCropVignetteAmount | -50 |
PostCropVignetteFeather | 100 |
PostCropVignetteHighlightContrast | 0 |
PostCropVignetteMidpoint | 26 |
PostCropVignetteRoundness | +100 |
PostCropVignetteStyle | 1 |
ProcessVersion | 5.7 |
ProfileDescription | sRGB IEC61966-2.1 |
RedHue | 0 |
RedSaturation | 0 |
Saturation | +20 |
SaturationAdjustmentAqua | 0 |
SaturationAdjustmentBlue | 0 |
SaturationAdjustmentGreen | 0 |
SaturationAdjustmentMagenta | 0 |
SaturationAdjustmentOrange | 0 |
SaturationAdjustmentPurple | 0 |
SaturationAdjustmentRed | 0 |
SaturationAdjustmentYellow | 0 |
ScaleFactor35efl | 1.0 |
SceneCaptureType | Standard |
SerialNumber | 1230703983 |
Shadows | 2 |
ShadowTint | 0 |
SharpenDetail | 25 |
SharpenEdgeMasking | 66 |
SharpenRadius | +1.0 |
Sharpness | 50 |
ShutterSpeed | 1/125 |
ShutterSpeedValue | 1/125 |
Software | Adobe Photoshop Lightroom 3.4.1 |
SplitToningBalance | 0 |
SplitToningHighlightHue | 0 |
SplitToningHighlightSaturation | 0 |
SplitToningShadowHue | 0 |
SplitToningShadowSaturation | 0 |
SubjectDistance | 5.25 m |
Tint | +10 |
ToneCurve | 0, 0, 32, 22, 64, 56, 128, 128, 192, 196, 255, 255 |
ToneCurveName | Medium Contrast |
Version | 6.4.1 |
Vibrance | 0 |
VignetteAmount | 0 |
WhiteBalance (1) | Daylight |
WhiteBalance | Auto |