Felt | Verdi |
AlreadyApplied | True |
Aperture | 8.0 |
ApertureValue | 8.0 |
BitsPerSample | 8 |
BlueHue | 0 |
BlueSaturation | 0 |
Brightness | +9 |
CameraProfile | Adobe Standard |
ChromaticAberrationB | 0 |
ChromaticAberrationR | 0 |
CircleOfConfusion | 0.019 mm |
Clarity | +52 |
ColorComponents | 3 |
ColorNoiseReduction | 25 |
ColorNoiseReductionDetail | 50 |
ColorTemperature | 5100 |
Contrast | +93 |
ConvertToGrayscale | False |
CreateDate (1) | 2009:06:30 20:55:11.03+02:00 |
CreateDate | 2009:06:30 20:55:11 |
CreatorTool | Adobe Photoshop Lightroom |
CropAngle | 0 |
CropBottom | 0.920792 |
CropConstrainToWarp | 0 |
CropHeight | 1654 |
CropLeft | 0 |
CropRight | 0.846153 |
CropTop | 0.013202 |
CropUnit | pixels |
CropWidth | 2313 |
CustomRendered | Normal |
DateTimeDigitized | 2009:06:30 20:55:11.03+02:00 |
DateTimeOriginal (1) | 2009:06:30 20:55:11.03+02:00 |
DateTimeOriginal | 2009:06:30 20:55:11 |
Defringe | 0 |
DOF | inf (5.28 m - inf) |
ExifImageHeight | 2313 |
ExifImageWidth | 1654 |
Exposure | +0.23 |
ExposureCompensation | 0 |
ExposureMode | Manual |
ExposureProgram | Manual |
ExposureTime | 1/1000 |
FillLight | 0 |
Firmware | 1.0.3 |
Flash | Off, Did not fire |
FlashCompensation | 0 |
FlashFired | False |
FlashFunction | False |
FlashMode | Off |
FlashRedEyeMode | False |
FlashReturn | No return detection |
FNumber | 8.0 |
FocalLength | 28.0 mm |
FocalLength35efl | 28.0 mm (35 mm equivalent: 45.3 mm) |
FOV | 43.3 deg |
GradientBasedCorrActive | true |
GradientBasedCorrAmount | 1.000000 |
GradientBasedCorrBrightness (1) | 0.000000 |
GradientBasedCorrBrightness | 0.024000 |
GradientBasedCorrClarity | 0.000000 |
GradientBasedCorrContrast (1) | 0.122000 |
GradientBasedCorrContrast | 0.268000 |
GradientBasedCorrExposure (1) | 0.024000 |
GradientBasedCorrExposure | 0.073000 |
GradientBasedCorrHue (1) | 235.000000 |
GradientBasedCorrHue | 232.000000 |
GradientBasedCorrMaskFullX (1) | 0.585571 |
GradientBasedCorrMaskFullX | 0.454553 |
GradientBasedCorrMaskFullY (1) | 0.546600 |
GradientBasedCorrMaskFullY | 0.353051 |
GradientBasedCorrMaskValue | 1.000000 |
GradientBasedCorrMaskWhat | Mask/Gradient |
GradientBasedCorrMaskZeroX (1) | -0.395973 |
GradientBasedCorrMaskZeroX | 0.599138 |
GradientBasedCorrMaskZeroY (1) | 0.531486 |
GradientBasedCorrMaskZeroY | 0.357276 |
GradientBasedCorrSaturation (1) | 0.000000 |
GradientBasedCorrSaturation (2) | 0.530000 |
GradientBasedCorrSaturation (3) | 0.171000 |
GradientBasedCorrSaturation | 0.600000 |
GradientBasedCorrSharpness | 0.000000 |
GradientBasedCorrWhat | Correction |
GrainAmount | 0 |
GreenHue | 0 |
GreenSaturation | 0 |
HasCrop | True |
HasSettings | True |
HighlightRecovery | 0 |
HueAdjustmentAqua | 0 |
HueAdjustmentBlue | 0 |
HueAdjustmentGreen | 0 |
HueAdjustmentMagenta | 0 |
HueAdjustmentOrange | 0 |
HueAdjustmentPurple | 0 |
HueAdjustmentRed | 0 |
HueAdjustmentYellow | 0 |
HyperfocalDistance | 5.28 m |
ImageHeight | 2313 |
ImageNumber | 0 |
ImageSize | 1654x2313 |
ImageWidth | 1654 |
ISO | 400 |
Lens | EF28-200mm f/3.5-5.6 USM |
LensID (1) | 211 |
LensID | Canon EF 28-200mm f/3.5-5.6 USM |
LensInfo | 28-200mm f/? |
LensManualDistortionAmount | 0 |
LensProfileEnable | 0 |
LensProfileSetup | LensDefaults |
LightValue | 14.0 |
LuminanceAdjustmentAqua | 0 |
LuminanceAdjustmentBlue | 0 |
LuminanceAdjustmentGreen | 0 |
LuminanceAdjustmentMagenta | 0 |
LuminanceAdjustmentOrange | 0 |
LuminanceAdjustmentPurple | 0 |
LuminanceAdjustmentRed | 0 |
LuminanceAdjustmentYellow | 0 |
LuminanceNoiseReductionContrast | 0 |
LuminanceNoiseReductionDetail | 50 |
LuminanceSmoothing | 25 |
Make | Canon |
MaxApertureValue | 3.7 |
Megapixels | 3.8 |
MeteringMode | Multi-segment |
Model | Canon EOS 1000D |
ModifyDate (1) | 2011:07:08 18:46:16+02:00 |
ModifyDate | 2011:07:08 18:46:16 |
ParametricDarks | +3 |
ParametricHighlights | +3 |
ParametricHighlightSplit | 75 |
ParametricLights | -7 |
ParametricMidtoneSplit | 50 |
ParametricShadows | -9 |
ParametricShadowSplit | 25 |
PerspectiveHorizontal | 0 |
PerspectiveRotate | 0.0 |
PerspectiveScale | 100 |
PerspectiveVertical | 0 |
PostCropVignetteAmount | +33 |
PostCropVignetteFeather | 38 |
PostCropVignetteMidpoint | 0 |
PostCropVignetteRoundness | -95 |
PostCropVignetteStyle | 1 |
ProcessVersion | 5.7 |
ProfileDescription | sRGB IEC61966-2.1 |
RedHue | 0 |
RedSaturation | 0 |
Saturation | -13 |
SaturationAdjustmentAqua | 0 |
SaturationAdjustmentBlue | 0 |
SaturationAdjustmentGreen | 0 |
SaturationAdjustmentMagenta | 0 |
SaturationAdjustmentOrange | 0 |
SaturationAdjustmentPurple | 0 |
SaturationAdjustmentRed | 0 |
SaturationAdjustmentYellow | 0 |
ScaleFactor35efl | 1.6 |
SceneCaptureType | Standard |
SerialNumber | 780215603 |
Shadows | 24 |
ShadowTint | 0 |
SharpenDetail | 34 |
SharpenEdgeMasking | 48 |
SharpenRadius | +1.5 |
Sharpness | 48 |
ShutterSpeed | 1/1000 |
ShutterSpeedValue | 1/1000 |
SplitToningBalance | 0 |
SplitToningHighlightHue | 0 |
SplitToningHighlightSaturation | 0 |
SplitToningShadowHue | 0 |
SplitToningShadowSaturation | 0 |
SubjectDistance | 4294967295 m |
Tint | +10 |
ToneCurve | 0, 0, 32, 22, 64, 56, 128, 128, 192, 196, 255, 255 |
ToneCurveName | Medium Contrast |
Version | 6.1 |
Vibrance | -13 |
VignetteAmount | 0 |
WhiteBalance (2) | As Shot |
WhiteBalance | Auto |