Felt | Verdi |
AlreadyApplied | True |
Aperture | 6.3 |
ApertureValue | 6.3 |
ApproximateFocusDistance | 9.55 |
Artist | Thomas Holm |
BitsPerSample | 8 |
BlueHue | -1 |
BlueSaturation | +1 |
Brightness | -43 |
By-line | Thomas Holm |
CameraProfile | Adobe Standard |
CFAPattern | [Blue,Green][Green,Red] |
ChromaticAberrationB | 0 |
ChromaticAberrationR | 0 |
CircleOfConfusion | 0.015 mm |
Clarity | +40 |
ColorComponents | 3 |
ColorNoiseReduction | 33 |
ColorNoiseReductionDetail | 50 |
ColorTemperature | 5950 |
Contrast (1) | -26 |
Contrast | Normal |
ConvertToGrayscale | False |
Copyright | © ThomasHolm.no |
CopyrightFlag | True |
CopyrightNotice | © ThomasHolm.no |
CreateDate (1) | 2011:04:21 16:26:50+02:00 |
CreateDate | 2011:04:21 16:26:50 |
Creator | Thomas Holm |
CreatorTool | Adobe Photoshop Lightroom 3.4 |
CreatorWorkURL | www.thomasholm.no |
CropAngle | 0 |
CropBottom | 0.980854 |
CropConstrainToWarp | 0 |
CropHeight | 960 |
CropLeft | 0.00884 |
CropRight | 0.838001 |
CropTop | 0.151693 |
CropUnit | pixels |
CropWidth | 1280 |
CustomRendered | Normal |
DateCreated (1) | 2011:04:21 |
DateCreated | 2011:04:21 16:26:50+02:00 |
DateTimeOriginal | 2011:04:21 16:26:50 |
Defringe | 0 |
DigitalZoomRatio | 1 |
DOF | 8.80 m (6.87 - 15.66 m) |
Exposure | +0.60 |
ExposureCompensation | +0.3 |
ExposureMode | Manual |
ExposureProgram | Aperture-priority AE |
ExposureTime | 1/1000 |
FillLight | 3 |
Flash | On, Did not fire |
FlashCompensation | 0 |
FNumber | 6.3 |
FocalLength | 48.0 mm |
FocalLength35efl | 48.0 mm (35 mm equivalent: 96.0 mm) |
FocalLengthIn35mmFormat | 96 mm |
FOV | 21.2 deg |
GainControl | Low gain up |
GrainAmount | 0 |
GreenHue | +25 |
GreenSaturation | +20 |
HasCrop | True |
HasSettings | True |
HighlightRecovery | 3 |
HueAdjustmentAqua | +30 |
HueAdjustmentBlue | -5 |
HueAdjustmentGreen | -36 |
HueAdjustmentMagenta | +15 |
HueAdjustmentOrange | +5 |
HueAdjustmentPurple | -25 |
HueAdjustmentRed | +40 |
HueAdjustmentYellow | 0 |
HyperfocalDistance | 24.34 m |
ImageHeight | 960 |
ImageSize | 1280x960 |
ImageWidth | 1280 |
ISO | 200 |
Lens | OLYMPUS 12-60mm Lens |
LensInfo | 12-60mm f/2.8-4 |
LensManualDistortionAmount | 0 |
LensModel | OLYMPUS 12-60mm Lens |
LensProfileEnable | 0 |
LensProfileSetup | LensDefaults |
LensSerialNumber | 230005742 |
LightSource | Unknown |
LightValue | 14.3 |
LuminanceAdjustmentAqua | +5 |
LuminanceAdjustmentBlue | +7 |
LuminanceAdjustmentGreen | 0 |
LuminanceAdjustmentMagenta | +9 |
LuminanceAdjustmentOrange | -5 |
LuminanceAdjustmentPurple | +3 |
LuminanceAdjustmentRed | -7 |
LuminanceAdjustmentYellow | +9 |
LuminanceNoiseReductionContrast | 15 |
LuminanceNoiseReductionDetail | 28 |
LuminanceSmoothing | 28 |
Make | OLYMPUS IMAGING CORP. |
Marked | True |
MaxApertureValue | 2.8 |
Megapixels | 1.2 |
MeteringMode | Center-weighted average |
Model | E-5 |
ModifyDate (1) | 2011:05:18 23:43:06+02:00 |
ModifyDate | 2011:05:18 23:43:06 |
ParametricDarks | +54 |
ParametricHighlights | -40 |
ParametricHighlightSplit | 90 |
ParametricLights | +52 |
ParametricMidtoneSplit | 35 |
ParametricShadows | -15 |
ParametricShadowSplit | 11 |
PerspectiveHorizontal | 0 |
PerspectiveRotate | 0.0 |
PerspectiveScale | 100 |
PerspectiveVertical | 0 |
PostCropVignetteAmount | +17 |
PostCropVignetteFeather | 50 |
PostCropVignetteMidpoint | 50 |
PostCropVignetteRoundness | 0 |
PostCropVignetteStyle | 1 |
ProcessVersion | 5.7 |
ProfileDescription | sRGB IEC61966-2.1 |
Rating | 4 |
RedHue | -25 |
RedSaturation | +20 |
Rights | © ThomasHolm.no |
Saturation (1) | 0 |
Saturation | High |
SaturationAdjustmentAqua | -15 |
SaturationAdjustmentBlue | +25 |
SaturationAdjustmentGreen | -11 |
SaturationAdjustmentMagenta | -30 |
SaturationAdjustmentOrange | +20 |
SaturationAdjustmentPurple | -2 |
SaturationAdjustmentRed | 0 |
SaturationAdjustmentYellow | +25 |
ScaleFactor35efl | 2.0 |
SceneCaptureType | Standard |
SerialNumber | AB1502888 |
Shadows | 8 |
ShadowTint | 0 |
SharpenDetail | 64 |
SharpenEdgeMasking | 48 |
SharpenRadius | +0.7 |
Sharpness (1) | 29 |
Sharpness | Hard |
ShutterSpeed | 1/1000 |
ShutterSpeedValue | 1/1000 |
Software | Adobe Photoshop Lightroom 3.4 |
SplitToningBalance | 0 |
SplitToningHighlightHue | 0 |
SplitToningHighlightSaturation | 0 |
SplitToningShadowHue | 0 |
SplitToningShadowSaturation | 0 |
SubjectDistance | 9.55 m |
Tint | +11 |
ToneCurve | 0, 0, 32, 22, 64, 56, 128, 128, 192, 196, 255, 255 |
ToneCurveName | Medium Contrast |
UsageTerms | No copying without permission! |
Version | 6.4 |
Vibrance | +26 |
VignetteAmount | 0 |
WhiteBalance (1) | Custom |
WhiteBalance | Auto |