Felt | Verdi |
AlreadyApplied | True |
Aperture | 13.0 |
ApertureValue | 13.0 |
ApproximateFocusDistance | 4294967295 |
Artist | Jan Erik Arud |
AuthorsPosition | Photographer |
BitsPerSample | 8 |
BlackClip | 0.000000 |
BlueHue | 0 |
BlueSaturation | 0 |
Brightness (1) | -3.5 |
Brightness | -2 |
By-line | Jan Erik Arud |
By-lineTitle | Photographer |
CameraProfile | Embedded |
ChromaticAberrationB | 0 |
ChromaticAberrationR | 0 |
Clarity | 0 |
ColorComponents | 3 |
ColorNoiseReduction | 0 |
ColorTemperature | 0.0 |
Contrast (1) | 0 |
Contrast | -3.1 |
ConvertToGrayscale | False |
Copyright | © 2011 Jan Erik Arud |
CopyrightFlag | True |
CopyrightNotice | © 2011 Jan Erik Arud |
CreateDate (1) | 2011:04:29 06:02:07.53 |
CreateDate | 2011:04:29 06:02:07 |
Creator | Jan Erik Arud |
CreatorAddress | Henrik Wergelands Gt.18 |
CreatorCity | Notodden |
CreatorCountry | Norway |
CreatorPostalCode | 3675 |
CreatorRegion | Telemark |
CreatorTool | Adobe Photoshop Lightroom 3.4 |
CreatorWorkEmail | jan.erik.arud@gmail.com |
CreatorWorkTelephone | + 47 93 41 12 36 |
CreatorWorkURL | http://www.flickr.com/photos/jarud/ |
CropAngle | 0.898411 |
CropBottom | 1 |
CropConstrainToWarp | 0 |
CropHeight | 797 |
CropLeft | 0.045064 |
CropRight | 0.987056 |
CropTop | 0.088635 |
CropUnit | pixels |
CropWidth | 1280 |
DateCreated (1) | 2011:04:29 |
DateCreated | 2011:04:29 06:02:07.53 |
DateTimeOriginal | 2011:04:29 06:02:30 |
Defringe | 2 |
Exposure | -0.41 |
ExposureTime | 1/8 |
FillLight | 13 |
Firmware | 2.0.8 |
FlashCompensation | 0 |
FNumber | 13.0 |
FocalLength | 24.0 mm |
FocalLength35efl | 24.0 mm |
GradientBasedCorrActive | true |
GradientBasedCorrAmount | 1.000000 |
GradientBasedCorrBrightness | 0.025000 |
GradientBasedCorrClarity (1) | -0.655172 |
GradientBasedCorrClarity | -0.146000 |
GradientBasedCorrContrast | -0.149425 |
GradientBasedCorrExposure | -0.241379 |
GradientBasedCorrHue | 232.000000 |
GradientBasedCorrMaskFullX (1) | 0.070277 |
GradientBasedCorrMaskFullX | 0.914862 |
GradientBasedCorrMaskFullY (1) | -0.317422 |
GradientBasedCorrMaskFullY | 1.472120 |
GradientBasedCorrMaskValue | 1.000000 |
GradientBasedCorrMaskWhat | Mask/Gradient |
GradientBasedCorrMaskZeroX (1) | 0.139163 |
GradientBasedCorrMaskZeroX | 0.709651 |
GradientBasedCorrMaskZeroY (1) | 0.631965 |
GradientBasedCorrMaskZeroY | 0.561884 |
GradientBasedCorrSaturation (1) | -0.149425 |
GradientBasedCorrSaturation | 0.350000 |
GradientBasedCorrSharpness | -0.150000 |
GradientBasedCorrWhat | Correction |
GrainAmount | 0 |
GreenHue | 0 |
GreenSaturation | 0 |
HasCrop | True |
HasSettings | True |
HighlightRecovery | 100 |
HueAdjustmentAqua | 0 |
HueAdjustmentBlue | 0 |
HueAdjustmentGreen | 0 |
HueAdjustmentMagenta | 0 |
HueAdjustmentOrange | 0 |
HueAdjustmentPurple | 0 |
HueAdjustmentRed | 0 |
HueAdjustmentYellow | 0 |
ImageHeight | 797 |
ImageNumber | 0 |
ImageSize | 1280x797 |
ImageWidth | 1280 |
IncrementalTemperature | +14 |
IncrementalTint | -5 |
ISO | 100 |
Label | Red |
Lens | EF24mm f/1.4L II USM |
LensID | 250 |
LensInfo | 24mm f/? |
LensManualDistortionAmount | 0 |
LensModel | EF24mm f/1.4L II USM |
LensProfileEnable | 0 |
LensProfileSetup | LensDefaults |
LightValue | 10.4 |
LuminanceAdjustmentAqua | 0 |
LuminanceAdjustmentBlue | 0 |
LuminanceAdjustmentGreen | 0 |
LuminanceAdjustmentMagenta | 0 |
LuminanceAdjustmentOrange | 0 |
LuminanceAdjustmentPurple | 0 |
LuminanceAdjustmentRed | 0 |
LuminanceAdjustmentYellow | 0 |
LuminanceSmoothing | 0 |
Marked | True |
Megapixels | 1.0 |
Method | Tone Compressor |
Model | Canon EOS 5D Mark II |
ModifyDate (1) | 2011:04:30 22:37:31+02:00 |
ModifyDate | 2011:04:30 22:37:31 |
OwnerName | Jan Erik Arud |
ParametricDarks | -57 |
ParametricHighlights | 0 |
ParametricHighlightSplit | 75 |
ParametricLights | +75 |
ParametricMidtoneSplit | 50 |
ParametricShadows | 0 |
ParametricShadowSplit | 25 |
PerspectiveHorizontal | 0 |
PerspectiveRotate | 0.0 |
PerspectiveScale | 100 |
PerspectiveVertical | 0 |
PostCropVignetteAmount | 0 |
ProcessVersion | 5.7 |
ProfileDescription | sRGB IEC61966-2.1 |
RedHue | 0 |
RedSaturation | 0 |
Rights | © 2011 Jan Erik Arud |
Saturation (1) | -1 |
Saturation | 0.0 |
SaturationAdjustmentAqua | 0 |
SaturationAdjustmentBlue | 0 |
SaturationAdjustmentGreen | 0 |
SaturationAdjustmentMagenta | 0 |
SaturationAdjustmentOrange | 0 |
SaturationAdjustmentPurple | 0 |
SaturationAdjustmentRed | 0 |
SaturationAdjustmentYellow | 0 |
SerialNumber | 1330808505 |
Shadows | 5 |
ShadowTint | 0 |
SharpenDetail | 77 |
SharpenEdgeMasking | 68 |
SharpenRadius | +1.0 |
Sharpness | 53 |
ShutterSpeed | 1/8 |
ShutterSpeedValue | 1/8 |
Software | Adobe Photoshop Lightroom 3.4 |
SplitToningBalance | 0 |
SplitToningHighlightHue | 0 |
SplitToningHighlightSaturation | 0 |
SplitToningShadowHue | 0 |
SplitToningShadowSaturation | 0 |
ToneCurve | 0, 0, 255, 255 |
ToneCurveName | Linear |
UsageTerms | For any reuse or distribution of this image, please contact Jan Erik Arud at jan.erik.arud@gmail.com |
Version (1) | 4.0 |
Version | 6.4 |
Vibrance | -6 |
VignetteAmount | 0 |
WhiteBalance | Auto |
WhiteClip | 0.000000 |