Felt | Verdi |
AlreadyApplied | True |
Aperture | 11.0 |
ApertureValue | 11.0 |
ApproximateFocusDistance | 5.88 |
Artist | Jan Erik Arud |
AuthorsPosition | Photographer |
BitsPerSample | 8 |
BlackClip | 0.000000 |
BlueHue | 0 |
BlueSaturation | 0 |
Brightness (1) | -6.0 |
Brightness | -12 |
By-line | Jan Erik Arud |
By-lineTitle | Photographer |
CameraProfile | Embedded |
ChromaticAberrationB | 0 |
ChromaticAberrationR | 0 |
Clarity | +8 |
ColorComponents | 3 |
ColorNoiseReduction | 0 |
ColorTemperature | 0.0 |
Contrast (1) | 0 |
Contrast | 3.0 |
ConvertToGrayscale | False |
Copyright | © 2011 Jan Erik Arud |
CopyrightFlag | True |
CopyrightNotice | © 2011 Jan Erik Arud |
CreateDate (1) | 2011:04:29 05:54:16.74 |
CreateDate | 2011:04:29 05:54:16 |
Creator | Jan Erik Arud |
CreatorAddress | Henrik Wergelands Gt.18 |
CreatorCity | Notodden |
CreatorCountry | Norway |
CreatorPostalCode | 3675 |
CreatorRegion | Telemark |
CreatorTool | Adobe Photoshop Lightroom 3.4 |
CreatorWorkEmail | jan.erik.arud@gmail.com |
CreatorWorkTelephone | + 47 93 41 12 36 |
CreatorWorkURL | http://www.flickr.com/photos/jarud/ |
CropAngle | 1.08297 |
CropBottom | 0.872988 |
CropConstrainToWarp | 0 |
CropHeight | 753 |
CropLeft | 0.016922 |
CropRight | 0.942839 |
CropTop | 0.019693 |
CropUnit | pixels |
CropWidth | 1280 |
DateCreated (1) | 2011:04:29 |
DateCreated | 2011:04:29 05:54:16.74 |
DateTimeOriginal | 2011:04:29 05:54:33 |
Defringe | 2 |
Exposure | -0.60 |
ExposureTime | 1/30 |
FillLight | 36 |
Firmware | 2.0.8 |
FlashCompensation | 0 |
FNumber | 11.0 |
FocalLength | 24.0 mm |
FocalLength35efl | 24.0 mm |
GradientBasedCorrActive | true |
GradientBasedCorrAmount | 1.000000 |
GradientBasedCorrBrightness (1) | 0.025000 |
GradientBasedCorrBrightness | 0.000000 |
GradientBasedCorrClarity (1) | -0.146000 |
GradientBasedCorrClarity | 0.000000 |
GradientBasedCorrContrast (1) | -0.149425 |
GradientBasedCorrContrast | 0.000000 |
GradientBasedCorrExposure (1) | -0.241379 |
GradientBasedCorrExposure | -0.080460 |
GradientBasedCorrHue (1) | 232.000000 |
GradientBasedCorrHue | 240.000000 |
GradientBasedCorrMaskFullX (1) | 0.047334 |
GradientBasedCorrMaskFullX | 0.855543 |
GradientBasedCorrMaskFullY (1) | 0.104507 |
GradientBasedCorrMaskFullY | -0.090341 |
GradientBasedCorrMaskValue | 1.000000 |
GradientBasedCorrMaskWhat | Mask/Gradient |
GradientBasedCorrMaskZeroX (1) | 0.117663 |
GradientBasedCorrMaskZeroX | 0.768609 |
GradientBasedCorrMaskZeroY (1) | 0.977672 |
GradientBasedCorrMaskZeroY | 0.679470 |
GradientBasedCorrSaturation (1) | -0.149425 |
GradientBasedCorrSaturation (2) | 0.350000 |
GradientBasedCorrSaturation (3) | -0.732000 |
GradientBasedCorrSaturation | 0.000000 |
GradientBasedCorrSharpness (1) | -0.150000 |
GradientBasedCorrSharpness | 0.000000 |
GradientBasedCorrWhat | Correction |
GrainAmount | 0 |
GreenHue | 0 |
GreenSaturation | 0 |
HasCrop | True |
HasSettings | True |
HighlightRecovery | 86 |
HueAdjustmentAqua | 0 |
HueAdjustmentBlue | 0 |
HueAdjustmentGreen | 0 |
HueAdjustmentMagenta | 0 |
HueAdjustmentOrange | 0 |
HueAdjustmentPurple | 0 |
HueAdjustmentRed | 0 |
HueAdjustmentYellow | 0 |
ImageHeight | 753 |
ImageNumber | 0 |
ImageSize | 1280x753 |
ImageWidth | 1280 |
IncrementalTemperature | +18 |
IncrementalTint | -9 |
ISO | 100 |
Label | Red |
Lens | EF24mm f/1.4L II USM |
LensID | 250 |
LensInfo | 24mm f/? |
LensManualDistortionAmount | 0 |
LensModel | EF24mm f/1.4L II USM |
LensProfileEnable | 0 |
LensProfileSetup | Auto |
LightValue | 11.8 |
LuminanceAdjustmentAqua | 0 |
LuminanceAdjustmentBlue | 0 |
LuminanceAdjustmentGreen | 0 |
LuminanceAdjustmentMagenta | 0 |
LuminanceAdjustmentOrange | 0 |
LuminanceAdjustmentPurple | 0 |
LuminanceAdjustmentRed | 0 |
LuminanceAdjustmentYellow | 0 |
LuminanceSmoothing | 0 |
Marked | True |
Megapixels | 0.964 |
Method | Tone Compressor |
Model | Canon EOS 5D Mark II |
ModifyDate (1) | 2011:04:30 22:37:26+02:00 |
ModifyDate | 2011:04:30 22:37:26 |
OwnerName | Jan Erik Arud |
ParametricDarks | -29 |
ParametricHighlights | +19 |
ParametricHighlightSplit | 75 |
ParametricLights | +78 |
ParametricMidtoneSplit | 50 |
ParametricShadows | -3 |
ParametricShadowSplit | 25 |
PerspectiveHorizontal | 0 |
PerspectiveRotate | 0.0 |
PerspectiveScale | 100 |
PerspectiveVertical | 0 |
PostCropVignetteAmount | 0 |
ProcessVersion | 5.7 |
ProfileDescription | sRGB IEC61966-2.1 |
RedHue | 0 |
RedSaturation | 0 |
Rights | © 2011 Jan Erik Arud |
Saturation (1) | 0 |
Saturation | 0.0 |
SaturationAdjustmentAqua | 0 |
SaturationAdjustmentBlue | 0 |
SaturationAdjustmentGreen | 0 |
SaturationAdjustmentMagenta | 0 |
SaturationAdjustmentOrange | 0 |
SaturationAdjustmentPurple | 0 |
SaturationAdjustmentRed | 0 |
SaturationAdjustmentYellow | 0 |
SerialNumber | 1330808505 |
Shadows | 0 |
ShadowTint | 0 |
SharpenDetail | 76 |
SharpenEdgeMasking | 22 |
SharpenRadius | +1.0 |
Sharpness | 55 |
ShutterSpeed | 1/30 |
ShutterSpeedValue | 1/30 |
Software | Adobe Photoshop Lightroom 3.4 |
SplitToningBalance | 0 |
SplitToningHighlightHue | 0 |
SplitToningHighlightSaturation | 0 |
SplitToningShadowHue | 0 |
SplitToningShadowSaturation | 0 |
ToneCurve | 0, 0, 255, 255 |
ToneCurveName | Linear |
UsageTerms | For any reuse or distribution of this image, please contact Jan Erik Arud at jan.erik.arud@gmail.com |
Version (1) | 4.0 |
Version | 6.4 |
Vibrance | -1 |
VignetteAmount | 0 |
WhiteBalance | Auto |
WhiteClip | 0.000000 |