Felt | Verdi |
AlreadyApplied | True |
Aperture | 1.2 |
ApertureValue | 1.2 |
BitsPerSample | 8 |
BlueHue | 0 |
BlueSaturation | 0 |
Brightness | +50 |
CameraProfile | Adobe Standard |
ChromaticAberrationB | 0 |
ChromaticAberrationR | 0 |
CircleOfConfusion | 0.031 mm |
Clarity | -23 |
ColorComponents | 3 |
ColorMode | RGB |
ColorNoiseReduction | 25 |
ColorNoiseReductionDetail | 50 |
ColorSpace | Uncalibrated |
ColorTemperature | 6000 |
Contrast | +67 |
ConvertToGrayscale | False |
CreateDate (1) | 2010:08:21 16:56:36.81+02:00 |
CreateDate | 2010:08:21 16:56:36 |
CreatorTool | Adobe Photoshop CS5 Windows |
CropAngle | -1.476864 |
CropBottom | 0.95198 |
CropLeft | 0.003623 |
CropRight | 0.996377 |
CropTop | 0.171677 |
CustomRendered | Normal |
DateCreated (1) | 2010:08:21 |
DateCreated | 2010:08:21 16:56:36.081 |
DateTimeOriginal | 2010:08:21 16:56:36 |
Defringe | 0 |
DOF | 0.06 m (2.41 - 2.47 m) |
ExifImageHeight | 565 |
ExifImageWidth | 1008 |
Exposure | 0.00 |
ExposureCompensation | +1/3 |
ExposureMode | Auto |
ExposureProgram | Aperture-priority AE |
ExposureTime | 1/1600 |
FillLight | 10 |
Firmware | 2.0.4 |
Flash | Off, Did not fire |
FlashCompensation | 0 |
FNumber | 1.2 |
FocalLength | 85.0 mm |
FocalLength35efl | 85.0 mm (35 mm equivalent: 83.0 mm) |
Format | image/jpeg |
FOV | 24.5 deg |
GradientBasedCorrActive | true |
GradientBasedCorrAmount | 1.000000 |
GradientBasedCorrBrightness | -0.050000 |
GradientBasedCorrClarity | -0.350000 |
GradientBasedCorrContrast | 0.000000 |
GradientBasedCorrExposure | -0.087500 |
GradientBasedCorrHue | 50.000000 |
GradientBasedCorrMaskFullX | 0.978567 |
GradientBasedCorrMaskFullY | 0.119529 |
GradientBasedCorrMaskValue | 1.000000 |
GradientBasedCorrMaskWhat | Mask/Gradient |
GradientBasedCorrMaskZeroX | 0.032454 |
GradientBasedCorrMaskZeroY | 1.059507 |
GradientBasedCorrSaturation (1) | -1.000000 |
GradientBasedCorrSaturation | 0.210000 |
GradientBasedCorrSharpness | -0.340000 |
GradientBasedCorrWhat | Correction |
GrainAmount | 0 |
GreenHue | 0 |
GreenSaturation | 0 |
HasCrop | True |
HasSettings | True |
HighlightRecovery | 0 |
HueAdjustmentAqua | 0 |
HueAdjustmentBlue | 0 |
HueAdjustmentGreen | 0 |
HueAdjustmentMagenta | 0 |
HueAdjustmentOrange | 0 |
HueAdjustmentPurple | 0 |
HueAdjustmentRed | 0 |
HueAdjustmentYellow | 0 |
HyperfocalDistance | 195.56 m |
ICCProfileName | Adobe RGB (1998) |
ImageHeight | 565 |
ImageNumber | 0 |
ImageSize | 1008x565 |
ImageWidth | 1008 |
ISO | 100 |
Lens | EF85mm f/1.2L II USM |
LensID (1) | 239 |
LensID | Canon EF 85mm f/1.2L II USM or Rokinon SP 85mm f/1.2 |
LensInfo | 85mm f/? |
LightValue | 11.2 |
LuminanceAdjustmentAqua | 0 |
LuminanceAdjustmentBlue | 0 |
LuminanceAdjustmentGreen | 0 |
LuminanceAdjustmentMagenta | 0 |
LuminanceAdjustmentOrange | 0 |
LuminanceAdjustmentPurple | 0 |
LuminanceAdjustmentRed | 0 |
LuminanceAdjustmentYellow | 0 |
LuminanceNoiseReductionContrast | 0 |
LuminanceNoiseReductionDetail | 50 |
LuminanceSmoothing | 51 |
Make | Canon |
MaxApertureValue | 1.2 |
Megapixels | 0.570 |
MeteringMode | Multi-segment |
Model | Canon EOS 5D Mark II |
ModifyDate (1) | 2011:02:06 17:09:58+01:00 |
ModifyDate | 2011:02:06 17:09:58 |
Orientation | Horizontal (normal) |
ParametricDarks | +49 |
ParametricHighlights | 0 |
ParametricHighlightSplit | 75 |
ParametricLights | +50 |
ParametricMidtoneSplit | 50 |
ParametricShadows | -18 |
ParametricShadowSplit | 25 |
PostCropVignetteAmount | 0 |
ProcessVersion | 5.7 |
ProfileDescription | Adobe RGB (1998) |
Rating | 0 |
RawFileName | _MG_0578.CR2 |
RedHue | 0 |
RedSaturation | 0 |
Saturation | -100 |
SaturationAdjustmentAqua | 0 |
SaturationAdjustmentBlue | 0 |
SaturationAdjustmentGreen | 0 |
SaturationAdjustmentMagenta | 0 |
SaturationAdjustmentOrange | 0 |
SaturationAdjustmentPurple | 0 |
SaturationAdjustmentRed | 0 |
SaturationAdjustmentYellow | 0 |
ScaleFactor35efl | 1.0 |
SceneCaptureType | Standard |
SerialNumber | 130101598 |
Shadows | 29 |
ShadowTint | 0 |
SharpenDetail | 25 |
SharpenEdgeMasking | 0 |
SharpenRadius | +1.0 |
Sharpness | 25 |
ShutterSpeed | 1/1600 |
ShutterSpeedValue | 1/1600 |
SidecarForExtension | CR2 |
Software | Adobe Photoshop CS5 Windows |
SplitToningBalance | 0 |
SplitToningHighlightHue | 57 |
SplitToningHighlightSaturation | 6 |
SplitToningShadowHue | 5 |
SplitToningShadowSaturation | 5 |
SubjectDistance | 2.44 m |
Tint | +20 |
ToneCurve | 0, 0, 32, 22, 64, 56, 128, 128, 192, 196, 255, 255 |
ToneCurveName | Medium Contrast |
URL_List | |
Version | 6.0 |
Vibrance | 0 |
VignetteAmount | -46 |
VignetteMidpoint | 50 |
WhiteBalance (1) | As Shot |
WhiteBalance | Auto |