Felt | Verdi |
AlreadyApplied | True |
Aperture | 10.0 |
ApertureValue | 10.0 |
ApproximateFocusDistance | 2 |
BitsPerSample | 8 |
BlueHue | 0 |
BlueSaturation | 0 |
Brightness | +4 |
By-line | Jan A. Emilsen |
CameraProfile | Embedded |
CFAPattern | [Green,Blue][Red,Green] |
ChromaticAberrationB | 0 |
ChromaticAberrationR | 0 |
CircleOfConfusion | 0.020 mm |
Clarity | 0 |
ColorComponents | 1 |
ColorNoiseReduction | 0 |
Contrast (2) | +17 |
Contrast | Normal |
ConvertToGrayscale | True |
Copyright | Copyright Jan A. Emilsen |
CopyrightNotice | Copyright Jan A. Emilsen |
CreateDate (1) | 2011:01:22 13:52:53.30+01:00 |
CreateDate | 2011:01:22 13:52:53 |
Creator | Jan A. Emilsen |
CreatorAddress | Søndre Rød 10b |
CreatorCity | 0752 Oslo |
CreatorCountry | Norway |
CreatorTool | Adobe Photoshop Lightroom 3.3 |
CreatorWorkEmail | jan_arne.emilsen@getmail.no |
CreatorWorkTelephone | 918 49 701 |
CropAngle | 0.302616 |
CropBottom | 1 |
CropConstrainToWarp | 1 |
CropHeight | 2572 |
CropLeft | 0.005668 |
CropRight | 0.994332 |
CropTop | 0 |
CropUnit | pixels |
CropWidth | 3842 |
CustomRendered | Normal |
DateTimeDigitized | 2011:01:22 13:52:53.30+01:00 |
DateTimeOriginal (1) | 2011:01:22 13:52:53.30+01:00 |
DateTimeOriginal | 2011:01:22 13:52:53 |
Defringe | 0 |
DigitalZoomRatio | 1 |
DOF | inf (0.78 m - inf) |
ExifImageHeight | 2572 |
ExifImageWidth | 3842 |
Exposure | +0.09 |
ExposureCompensation | 0 |
ExposureMode | Auto |
ExposureProgram | Aperture-priority AE |
ExposureTime | 1/125 |
FillLight | 7 |
Flash | No Flash |
FlashFired | False |
FlashFunction | False |
FlashMode | Unknown |
FlashRedEyeMode | False |
FlashReturn | No return detection |
FNumber | 10.0 |
FocalLength | 16.0 mm |
FocalLength35efl | 16.0 mm (35 mm equivalent: 24.0 mm) |
FocalLengthIn35mmFormat | 24 mm |
FOV | 73.7 deg |
GainControl | None |
GradientBasedCorrActive | true |
GradientBasedCorrAmount | 1.000000 |
GradientBasedCorrBrightness | -0.328000 |
GradientBasedCorrClarity | 0.443000 |
GradientBasedCorrContrast | 0.000000 |
GradientBasedCorrExposure | -0.639000 |
GradientBasedCorrHue | 240.000000 |
GradientBasedCorrMaskFullX | 0.506025 |
GradientBasedCorrMaskFullY | 0.064268 |
GradientBasedCorrMaskValue | 1.000000 |
GradientBasedCorrMaskWhat | Mask/Gradient |
GradientBasedCorrMaskZeroX | 0.506025 |
GradientBasedCorrMaskZeroY | 0.352185 |
GradientBasedCorrSaturation (1) | 0.361000 |
GradientBasedCorrSaturation | 0.000000 |
GradientBasedCorrSharpness | 0.000000 |
GradientBasedCorrWhat | Correction |
GrainAmount | 22 |
GrainFrequency | 50 |
GrainSize | 8 |
GrayMixerAqua | -19 |
GrayMixerBlue | +6 |
GrayMixerGreen | -25 |
GrayMixerMagenta | +4 |
GrayMixerOrange | -16 |
GrayMixerPurple | +13 |
GrayMixerRed | -8 |
GrayMixerYellow | -20 |
GreenHue | 0 |
GreenSaturation | 0 |
HasCrop | True |
HasSettings | True |
HighlightRecovery | 64 |
HyperfocalDistance | 1.28 m |
ImageHeight | 2572 |
ImageNumber | 5013 |
ImageSize | 3842x2572 |
ImageWidth | 3842 |
IncrementalTemperature | 0 |
IncrementalTint | 0 |
ISO | 200 |
Lens | 10.0-20.0 mm f/4.0-5.6 |
LensID (1) | 249 |
LensID | Sigma 10-20mm F4-5.6 EX DC HSM |
LensInfo | 10-20mm f/4-5.6 |
LensManualDistortionAmount | 0 |
LensModel | 10.0-20.0 mm f/4.0-5.6 |
LensProfileEnable | 0 |
LensProfileSetup | LensDefaults |
LightSource | Unknown |
LightValue | 12.6 |
LuminanceSmoothing | 0 |
Make | NIKON CORPORATION |
MaxApertureValue | 5.1 |
Megapixels | 9.9 |
MeteringMode | Multi-segment |
Model | NIKON D80 |
ModifyDate (1) | 2011:02:06 15:56:05+01:00 |
ModifyDate | 2011:02:06 15:56:05 |
ParametricDarks | 0 |
ParametricHighlights | 0 |
ParametricHighlightSplit | 75 |
ParametricLights | 0 |
ParametricMidtoneSplit | 50 |
ParametricShadows | 0 |
ParametricShadowSplit | 25 |
PerspectiveHorizontal | 0 |
PerspectiveRotate | 0.0 |
PerspectiveScale | 100 |
PerspectiveVertical | 0 |
PostCropVignetteAmount | 0 |
ProcessVersion | 5.7 |
ProfileDescription | sRGB IEC61966-2.1 |
RedHue | 0 |
RedSaturation | 0 |
Rights | Copyright Jan A. Emilsen |
Saturation | Normal |
ScaleFactor35efl | 1.5 |
SceneCaptureType | Standard |
SceneType | Directly photographed |
SensingMethod | One-chip color area |
SensitivityType | Unknown |
SerialNumber | 4387476 |
Shadows | 21 |
ShadowTint | 0 |
SharpenDetail | 35 |
SharpenEdgeMasking | 0 |
SharpenRadius | +0.8 |
Sharpness (2) | 40 |
Sharpness | Normal |
ShutterSpeed | 1/125 |
ShutterSpeedValue | 1/125 |
Software | Ver.1.10 |
SplitToningBalance | 0 |
SplitToningHighlightHue | 0 |
SplitToningHighlightSaturation | 0 |
SplitToningShadowHue | 0 |
SplitToningShadowSaturation | 0 |
SubjectDistance | 2 m |
SubjectDistanceRange | Unknown |
ToneCurve | 0, 0, 32, 22, 64, 56, 128, 128, 192, 196, 255, 255 |
ToneCurveName | Medium Contrast |
UsageTerms | No reproduction of any kind without prior written approval |
Version | 6.3 |
VignetteAmount | +45 |
VignetteMidpoint | 50 |
WhiteBalance (2) | As Shot |
WhiteBalance | Auto |