Felt | Verdi |
AlreadyApplied | True |
Aperture | 7.1 |
ApertureValue | 7.1 |
ApproximateFocusDistance | 4294967295 |
Artist | Jan Erik Arud |
AuthorsPosition | Photographer |
BitsPerSample | 8 |
BlueHue | 0 |
BlueSaturation | 0 |
Brightness | +50 |
By-line | Jan Erik Arud |
By-lineTitle | Photographer |
CameraProfile | Adobe Standard |
ChromaticAberrationB | 0 |
ChromaticAberrationR | 0 |
CircleOfConfusion | 0.031 mm |
Clarity | 0 |
ColorComponents | 3 |
ColorNoiseReduction | 25 |
ColorNoiseReductionDetail | 50 |
ColorTemperature | 3800 |
Contrast | +67 |
ConvertToGrayscale | False |
Copyright | (C) 2010 Jan Erik Arud |
CopyrightFlag | True |
CopyrightNotice | © 2010 Jan Erik Arud |
CreateDate (1) | 2010:12:20 18:12:11.45+01:00 |
CreateDate | 2010:12:20 18:12:11 |
Creator | Jan Erik Arud |
CreatorAddress | Henrik Wergelands Gt.18 |
CreatorCity | Notodden |
CreatorCountry | Norway |
CreatorPostalCode | 3675 |
CreatorRegion | Telemark |
CreatorTool | Adobe Photoshop Lightroom 3.3 |
CreatorWorkEmail | jan.erik.arud@gmail.com |
CreatorWorkTelephone | + 47 93 41 12 36 |
CreatorWorkURL | http://www.flickr.com/photos/jarud/ |
CropAngle | 0 |
CropBottom | 0.695529 |
CropConstrainToWarp | 0 |
CropHeight | 853 |
CropLeft | 0.273577 |
CropRight | 0.693903 |
CropTop | 0.275203 |
CropUnit | pixels |
CropWidth | 1280 |
CustomRendered | Normal |
DateTimeDigitized | 2010:12:20 18:12:11.45+01:00 |
DateTimeOriginal (1) | 2010:12:20 18:12:11.45+01:00 |
DateTimeOriginal | 2010:12:20 18:12:11 |
Defringe | 2 |
DOF | inf (2241.66 m - inf) |
ExifImageHeight | 853 |
ExifImageWidth | 1280 |
Exposure | -0.44 |
ExposureCompensation | 0 |
ExposureMode | Manual |
ExposureProgram | Manual |
ExposureTime | 1/200 |
FillLight | 0 |
Firmware | 2.0.8 |
Flash | Off, Did not fire |
FlashCompensation | 0 |
FlashFired | False |
FlashFunction | False |
FlashMode | Off |
FlashRedEyeMode | False |
FlashReturn | No return detection |
FNumber | 7.1 |
FocalLength | 700.0 mm |
FocalLength35efl | 700.0 mm (35 mm equivalent: 683.2 mm) |
FOV | 3.0 deg |
GrainAmount | 0 |
GreenHue | 0 |
GreenSaturation | 0 |
HasCrop | True |
HasSettings | True |
HighlightRecovery | 0 |
HueAdjustmentAqua | 0 |
HueAdjustmentBlue | 0 |
HueAdjustmentGreen | 0 |
HueAdjustmentMagenta | 0 |
HueAdjustmentOrange | 0 |
HueAdjustmentPurple | 0 |
HueAdjustmentRed | 0 |
HueAdjustmentYellow | 0 |
HyperfocalDistance | 2241.66 m |
ImageHeight | 853 |
ImageNumber | 0 |
ImageSize | 1280x853 |
ImageWidth | 1280 |
ISO | 100 |
Label | Red |
Lens | EF500mm f/4L IS USM +1.4x |
LensID (1) | 143 |
LensID | Canon EF 500mm f/4L IS USM + 1.4x |
LensInfo | 700mm f/? |
LensManualDistortionAmount | 0 |
LensModel | EF500mm f/4L IS USM +1.4x |
LensProfileEnable | 0 |
LensProfileSetup | LensDefaults |
LightValue | 13.3 |
LuminanceAdjustmentAqua | 0 |
LuminanceAdjustmentBlue | 0 |
LuminanceAdjustmentGreen | 0 |
LuminanceAdjustmentMagenta | 0 |
LuminanceAdjustmentOrange | 0 |
LuminanceAdjustmentPurple | 0 |
LuminanceAdjustmentRed | 0 |
LuminanceAdjustmentYellow | 0 |
LuminanceNoiseReductionContrast | 0 |
LuminanceNoiseReductionDetail | 50 |
LuminanceSmoothing | 3 |
Make | Canon |
Marked | True |
MaxApertureValue | 5.7 |
Megapixels | 1.1 |
MeteringMode | Partial |
Model | Canon EOS 5D Mark II |
ModifyDate (1) | 2010:12:20 18:14:47+01:00 |
ModifyDate | 2010:12:20 18:14:47 |
OwnerName | Jan Erik Arud |
ParametricDarks | -45 |
ParametricHighlights | 0 |
ParametricHighlightSplit | 75 |
ParametricLights | +32 |
ParametricMidtoneSplit | 50 |
ParametricShadows | 0 |
ParametricShadowSplit | 25 |
PerspectiveHorizontal | 0 |
PerspectiveRotate | 0.0 |
PerspectiveScale | 100 |
PerspectiveVertical | 0 |
PostCropVignetteAmount | 0 |
ProcessVersion | 5.7 |
ProfileDescription | sRGB IEC61966-2.1 |
RedHue | 0 |
RedSaturation | 0 |
Rights | © 2010 Jan Erik Arud |
Saturation | 0 |
SaturationAdjustmentAqua | 0 |
SaturationAdjustmentBlue | 0 |
SaturationAdjustmentGreen | 0 |
SaturationAdjustmentMagenta | 0 |
SaturationAdjustmentOrange | 0 |
SaturationAdjustmentPurple | 0 |
SaturationAdjustmentRed | 0 |
SaturationAdjustmentYellow | 0 |
ScaleFactor35efl | 1.0 |
SceneCaptureType | Standard |
SensitivityType | Unknown |
SerialNumber | 1330808505 |
Shadows | 10 |
ShadowTint | 0 |
SharpenDetail | 57 |
SharpenEdgeMasking | 0 |
SharpenRadius | +1.0 |
Sharpness | 29 |
ShutterSpeed | 1/200 |
ShutterSpeedValue | 1/200 |
SplitToningBalance | +54 |
SplitToningHighlightHue | 0 |
SplitToningHighlightSaturation | 0 |
SplitToningShadowHue | 230 |
SplitToningShadowSaturation | 35 |
SubjectDistance | 4294967295 m |
Tint | +6 |
ToneCurve | 0, 0, 32, 22, 64, 56, 128, 128, 192, 196, 255, 255 |
ToneCurveName | Medium Contrast |
UsageTerms | For any reuse or distribution of this image, please contact Jan Erik Arud at jan.erik.arud@gmail.com |
Version | 6.3 |
Vibrance | 0 |
VignetteAmount | 0 |
WhiteBalance (2) | As Shot |
WhiteBalance | Auto |