Felt | Verdi |
AlreadyApplied | True |
Artist | dirk rosin |
BitsPerSample | 8 |
BlueHue | 0 |
BlueSaturation | 0 |
Brightness | +24 |
CameraProfile | Embedded |
ChromaticAberrationB | 0 |
ChromaticAberrationR | 0 |
Clarity | 0 |
ColorComponents | 1 |
ColorNoiseReduction | 0 |
Contrast | +66 |
ConvertToGrayscale | True |
Copyright | (C) 2010 Dirk Rosin |
CopyrightFlag | True |
CopyrightNotice | © 2010 Dirk Rosin |
CreatorCountry | Norway |
CreatorTool | Adobe Photoshop Lightroom |
CreatorWorkEmail | dirkrosin@msn.com |
CreatorWorkURL | http://dirkrosin.blogspot.com |
Defringe | 0 |
ExifImageHeight | 533 |
ExifImageWidth | 800 |
Exposure | -0.34 |
FillLight | 21 |
GrainAmount | 0 |
GrayMixerAqua | -19 |
GrayMixerBlue | +7 |
GrayMixerGreen | -25 |
GrayMixerMagenta | +4 |
GrayMixerOrange | -16 |
GrayMixerPurple | +14 |
GrayMixerRed | -7 |
GrayMixerYellow | -20 |
GreenHue | 0 |
GreenSaturation | 0 |
HasCrop | False |
HasSettings | True |
HierarchicalSubject | HDR Bearbeitet, Jahreszeiten|Winter, LR-bearbeitet, Norge, Norway, Norwegen, Other Keywords|s/h, Rygge, S/W, S/W|s/w|s/h, S/W|s/w|s/v, Winter, schwarz weiss, vinter, Østfold |
HighlightRecovery | 0 |
ImageHeight | 533 |
ImageSize | 800x533 |
ImageWidth | 800 |
IncrementalTemperature | 0 |
IncrementalTint | 0 |
Keywords | HDR Bearbeitet, Jahreszeiten, LR-bearbeitet, Norge, Norway, Norwegen, Other Keywords, Rygge, S/W, Winter, s/h, s/v, s/w, schwarz weiss, vinter, Østfold |
Label | best fertig |
LensManualDistortionAmount | 0 |
LensProfileEnable | 0 |
LensProfileSetup | LensDefaults |
LuminanceSmoothing | 0 |
Marked | True |
Megapixels | 0.426 |
ModifyDate (1) | 2010:11:21 20:32:30+01:00 |
ModifyDate | 2010:11:21 20:32:30 |
ParametricDarks | -21 |
ParametricHighlights | +74 |
ParametricHighlightSplit | 75 |
ParametricLights | +16 |
ParametricMidtoneSplit | 50 |
ParametricShadows | +21 |
ParametricShadowSplit | 25 |
PerspectiveHorizontal | 0 |
PerspectiveRotate | 0.0 |
PerspectiveScale | 100 |
PerspectiveVertical | 0 |
PLUSVersion | 1.2.0 |
PostCropVignetteAmount | 0 |
ProcessVersion | 5.7 |
ProfileDescription | sRGB IEC61966-2.1 |
Rating | 4 |
RedHue | 0 |
RedSaturation | 0 |
Rights | © 2010 Dirk Rosin |
SensitivityType | Unknown |
Shadows | 0 |
ShadowTint | 0 |
SharpenDetail | 25 |
SharpenEdgeMasking | 0 |
SharpenRadius | +1.0 |
Sharpness | 0 |
Software | Oloneo PhotoEngine |
SplitToningBalance | 0 |
SplitToningHighlightHue | 0 |
SplitToningHighlightSaturation | 0 |
SplitToningShadowHue | 0 |
SplitToningShadowSaturation | 0 |
Subject | HDR Bearbeitet, Jahreszeiten, LR-bearbeitet, Norge, Norway, Norwegen, Other Keywords, Rygge, S/W, Winter, s/h, s/v, s/w, schwarz weiss, vinter, Østfold |
ToneCurve | 0, 0, 255, 255 |
ToneCurveName | Linear |
Version | 6.2 |
VignetteAmount | 0 |
WhiteBalance | As Shot |