Felt | Verdi |
AlreadyApplied | True |
Aperture | 2.8 |
ApertureValue | 2.8 |
ApproximateFocusDistance | 8.29 |
BitsPerSample | 8 |
BlueHue | 0 |
BlueSaturation | 0 |
Brightness | +43 |
CameraProfile | Adobe Standard |
ChromaticAberrationB | 0 |
ChromaticAberrationR | 0 |
CircleOfConfusion | 0.027 mm |
Clarity | +65 |
ColorComponents | 1 |
ColorMode | RGB |
ColorNoiseReduction | 25 |
ColorNoiseReductionDetail | 50 |
ColorSpace | Uncalibrated |
ColorTemperature | 7400 |
Contrast | +89 |
ConvertToGrayscale | True |
CreateDate (1) | 2010:10:30 14:15:18.94+02:00 |
CreateDate | 2010:10:30 14:15:18 |
CropAngle | 0 |
CropBottom | 1 |
CropLeft | 0.064327 |
CropRight | 0.847953 |
CropTop | 0 |
CustomRendered | Normal |
DateTimeDigitized | 2010:10:30 14:15:18.94+02:00 |
DateTimeOriginal (1) | 2010:10:30 14:15:18.94+02:00 |
DateTimeOriginal | 2010:10:30 14:15:18 |
Defringe | 0 |
DOF | 0.25 m (8.16 - 8.42 m) |
ExifImageHeight | 1021 |
ExifImageWidth | 1200 |
Exposure | +0.67 |
ExposureCompensation | -2/3 |
ExposureMode | Auto |
ExposureProgram | Aperture-priority AE |
ExposureTime | 1/125 |
FillLight | 0 |
Firmware | 1.0.6 |
Flash | No Flash |
FlashCompensation | 0 |
FlashFired | False |
FlashFunction | False |
FlashMode | Unknown |
FlashRedEyeMode | False |
FlashReturn | No return detection |
FNumber | 2.8 |
FocalLength | 200.0 mm |
FocalLength35efl | 200.0 mm (35 mm equivalent: 221.6 mm) |
Format | image/jpeg |
FOV | 9.3 deg |
GrainAmount | 0 |
GrayMixerAqua | -19 |
GrayMixerBlue | +11 |
GrayMixerGreen | -27 |
GrayMixerMagenta | +7 |
GrayMixerOrange | -19 |
GrayMixerPurple | +18 |
GrayMixerRed | -29 |
GrayMixerYellow | +10 |
GreenHue | 0 |
GreenSaturation | 0 |
HasCrop | True |
HasSettings | True |
HierarchicalSubject | Askerområdet, Paraply |
HighlightRecovery | 85 |
HyperfocalDistance | 526.86 m |
ICCProfileName | Adobe RGB (1998) |
ImageHeight | 1021 |
ImageNumber | 0 |
ImageSize | 1200x1021 |
ImageWidth | 1200 |
ISO | 100 |
Keywords | Askerområdet, Paraply |
Label | |
Lens | EF70-200mm f/2.8L IS II USM |
LensID (1) | 251 |
LensID | Canon EF 70-200mm f/2.8L IS II USM or Canon EF 70-200mm f/2.8L IS III USM |
LensInfo | 70-200mm f/? |
LightValue | 9.9 |
LuminanceSmoothing | 0 |
Make | Canon |
MaxApertureValue | 2.8 |
Megapixels | 1.2 |
MeteringMode | Center-weighted average |
Model | Canon EOS-1D Mark IV |
ModifyDate (1) | 2010:10:31 14:53:13+01:00 |
ModifyDate | 2010:10:31 14:53:13 |
Orientation | Horizontal (normal) |
ParametricDarks | -43 |
ParametricHighlights | 0 |
ParametricHighlightSplit | 75 |
ParametricLights | +21 |
ParametricMidtoneSplit | 50 |
ParametricShadows | +40 |
ParametricShadowSplit | 25 |
PostCropVignetteAmount | 0 |
ProcessVersion | 5.7 |
ProfileDescription | Adobe RGB (1998) |
Rating | 4 |
RawFileName | Pataply103010267.dng |
RedHue | 0 |
RedSaturation | 0 |
ScaleFactor35efl | 1.1 |
SceneCaptureType | Standard |
SerialNumber | 630500128 |
Shadows | 2 |
ShadowTint | 0 |
SharpenDetail | 25 |
SharpenEdgeMasking | 0 |
SharpenRadius | +1.0 |
Sharpness | 25 |
ShutterSpeed | 1/125 |
ShutterSpeedValue | 1/125 |
Software | Adobe Photoshop CS4 Windows |
SplitToningBalance | 0 |
SplitToningHighlightHue | 215 |
SplitToningHighlightSaturation | 0 |
SplitToningShadowHue | 216 |
SplitToningShadowSaturation | 0 |
Subject | Askerområdet, Paraply |
SubjectDistance | 8.29 m |
Tint | 0 |
ToneCurve | 0, 0, 255, 255 |
ToneCurveName | Linear |
URL_List | |
Version | 5.7 |
VignetteAmount | -100 |
VignetteMidpoint | 6 |
WhiteBalance (2) | Auto |
WhiteBalance | Manual |