Felt | Verdi |
AlreadyApplied | True |
Aperture | 18.0 |
ApertureValue | 18.0 |
BitsPerSample | 8 |
BlueHue | 0 |
BlueSaturation | 0 |
Brightness | +40 |
CameraProfile | Adobe Standard |
ChromaticAberrationB | 0 |
ChromaticAberrationR | 0 |
CircleOfConfusion | 0.019 mm |
Clarity | +26 |
ColorComponents | 3 |
ColorNoiseReduction | 25 |
ColorNoiseReductionDetail | 50 |
ColorTemperature | 4750 |
Contrast | +55 |
ConvertToGrayscale | False |
CreateDate (1) | 2010:11:10 11:45:51.84+01:00 |
CreateDate | 2010:11:10 11:45:51 |
CreatorTool | Adobe Photoshop Lightroom |
CropAngle | -3.84434 |
CropBottom | 0.858991 |
CropConstrainToWarp | 0 |
CropHeight | 800 |
CropLeft | 0.209196 |
CropRight | 0.891312 |
CropTop | 0.102707 |
CropUnit | pixels |
CropWidth | 943 |
CustomRendered | Normal |
DateTimeDigitized | 2010:11:10 11:45:51.84+01:00 |
DateTimeOriginal (1) | 2010:11:10 11:45:51.84+01:00 |
DateTimeOriginal | 2010:11:10 11:45:51 |
Defringe | 0 |
DOF | 0.014 m (0.503 - 0.517 m) |
ExifImageHeight | 800 |
ExifImageWidth | 943 |
Exposure | +0.51 |
ExposureCompensation | 0 |
ExposureMode | Manual |
ExposureProgram | Manual |
ExposureTime | 3.2 |
FillLight | 0 |
Firmware | 1.0.9 |
Flash | On, Fired |
FlashCompensation | 0 |
FlashFired | True |
FlashFunction | False |
FlashMode | On |
FlashRedEyeMode | False |
FlashReturn | No return detection |
FNumber | 18.0 |
FocalLength | 100.0 mm |
FocalLength35efl | 100.0 mm (35 mm equivalent: 158.8 mm) |
FOV | 12.9 deg |
GrainAmount | 0 |
GreenHue | 0 |
GreenSaturation | 0 |
HasCrop | True |
HasSettings | True |
HighlightRecovery | 5 |
HueAdjustmentAqua | 0 |
HueAdjustmentBlue | 0 |
HueAdjustmentGreen | 0 |
HueAdjustmentMagenta | 0 |
HueAdjustmentOrange | 0 |
HueAdjustmentPurple | 0 |
HueAdjustmentRed | 0 |
HueAdjustmentYellow | 0 |
HyperfocalDistance | 29.36 m |
ImageHeight | 800 |
ImageNumber | 0 |
ImageSize | 943x800 |
ImageWidth | 943 |
ISO | 200 |
Lens | EF100mm f/2.8L Macro IS USM |
LensID (1) | 254 |
LensID | Canon EF 100mm f/2.8L Macro IS USM |
LensInfo | 100mm f/? |
LensManualDistortionAmount | 0 |
LensProfileEnable | 0 |
LensProfileSetup | LensDefaults |
LightValue | 5.7 |
LuminanceAdjustmentAqua | -30 |
LuminanceAdjustmentBlue | -9 |
LuminanceAdjustmentGreen | -27 |
LuminanceAdjustmentMagenta | -18 |
LuminanceAdjustmentOrange | -2 |
LuminanceAdjustmentPurple | -30 |
LuminanceAdjustmentRed | -18 |
LuminanceAdjustmentYellow | -18 |
LuminanceNoiseReductionContrast | 0 |
LuminanceNoiseReductionDetail | 50 |
LuminanceSmoothing | 28 |
Make | Canon |
MaxApertureValue | 2.8 |
Megapixels | 0.754 |
MeteringMode | Multi-segment |
Model | Canon EOS 500D |
ModifyDate (1) | 2010:11:11 16:04:46+01:00 |
ModifyDate | 2010:11:11 16:04:46 |
ParametricDarks | +12 |
ParametricHighlights | -35 |
ParametricHighlightSplit | 75 |
ParametricLights | -5 |
ParametricMidtoneSplit | 50 |
ParametricShadows | +1 |
ParametricShadowSplit | 25 |
PerspectiveHorizontal | 0 |
PerspectiveRotate | 0.0 |
PerspectiveScale | 100 |
PerspectiveVertical | 0 |
PostCropVignetteAmount | 0 |
ProcessVersion | 5.7 |
ProfileDescription | sRGB IEC61966-2.1 |
RedHue | 0 |
RedSaturation | 0 |
Saturation | 0 |
SaturationAdjustmentAqua | +25 |
SaturationAdjustmentBlue | +39 |
SaturationAdjustmentGreen | +20 |
SaturationAdjustmentMagenta | +39 |
SaturationAdjustmentOrange | +5 |
SaturationAdjustmentPurple | +34 |
SaturationAdjustmentRed | +18 |
SaturationAdjustmentYellow | +27 |
ScaleFactor35efl | 1.6 |
SceneCaptureType | Standard |
SerialNumber | 1180414840 |
Shadows | 2 |
ShadowTint | 0 |
SharpenDetail | 38 |
SharpenEdgeMasking | 45 |
SharpenRadius | +1.5 |
Sharpness | 50 |
ShutterSpeed | 3.2 |
ShutterSpeedValue | 3.2 |
SplitToningBalance | 0 |
SplitToningHighlightHue | 0 |
SplitToningHighlightSaturation | 0 |
SplitToningShadowHue | 0 |
SplitToningShadowSaturation | 0 |
SubjectDistance | 0.51 m |
Tint | +7 |
ToneCurve | 0, 0, 32, 22, 64, 56, 128, 128, 192, 196, 255, 255 |
ToneCurveName | Medium Contrast |
Version | 6.1 |
Vibrance | 0 |
VignetteAmount | 0 |
WhiteBalance (2) | Custom |
WhiteBalance | Auto |