Felt | Verdi |
AlreadyApplied | True |
Aperture | 4.0 |
ApertureValue | 4.0 |
ApproximateFocusDistance | 0.72 |
Artist | Photographer:Dirk Rosin |
BitsPerSample | 8 |
BlueHue | 0 |
BlueSaturation | 0 |
Brightness | +75 |
By-line | Photographer:Dirk Rosin |
CameraProfile | Embedded |
ChromaticAberrationB | 0 |
ChromaticAberrationR | 0 |
CircleOfConfusion | 0.019 mm |
Clarity | +87 |
ColorComponents | 1 |
ColorNoiseReduction | 58 |
ColorNoiseReductionDetail | 50 |
ColorSpace | Uncalibrated |
Contrast | -16 |
ConvertToGrayscale | True |
Copyright | Copyright:Dirk Rosin |
CopyrightNotice | Copyright:Dirk Rosin |
CreateDate (1) | 2010:11:01 19:41:55.86+01:00 |
CreateDate | 2010:11:01 19:41:55 |
Creator | Photographer:Dirk Rosin |
CreatorTool | Adobe Photoshop Lightroom |
CustomRendered | Normal |
DateTimeDigitized | 2010:11:01 19:41:55.86+01:00 |
DateTimeOriginal (1) | 2010:11:01 19:41:55.86+01:00 |
DateTimeOriginal | 2010:11:01 19:41:55 |
Defringe | 0 |
DOF | 0.014 m (0.713 - 0.727 m) |
ExifImageHeight | 533 |
ExifImageWidth | 800 |
Exposure | 0.00 |
ExposureCompensation | 0 |
ExposureMode | Manual |
ExposureProgram | Manual |
ExposureTime | 1/125 |
FillLight | 0 |
Firmware | 1.0.7 |
Flash | On, Fired |
FlashCompensation | 0 |
FlashFired | True |
FlashFunction | False |
FlashMode | On |
FlashRedEyeMode | False |
FlashReturn | No return detection |
FNumber | 4.0 |
FocalLength | 70.0 mm |
FocalLength35efl | 70.0 mm (35 mm equivalent: 110.9 mm) |
Format | image/tiff |
FOV | 18.4 deg |
GrainAmount | 0 |
GrayMixerAqua | -18 |
GrayMixerBlue | +9 |
GrayMixerGreen | -27 |
GrayMixerMagenta | +4 |
GrayMixerOrange | -19 |
GrayMixerPurple | +15 |
GrayMixerRed | -9 |
GrayMixerYellow | -22 |
GreenHue | 0 |
GreenSaturation | 0 |
HasCrop | False |
HasSettings | True |
HierarchicalSubject | Bearbeitet|Spezial, Elements-bearbeitet, LR-bearbeitet, Spezial, uhr |
HighlightRecovery | 0 |
HyperfocalDistance | 64.60 m |
ImageHeight | 533 |
ImageNumber | 0 |
ImageSize | 800x533 |
ImageWidth | 800 |
IncrementalTemperature | 0 |
IncrementalTint | 0 |
ISO | 100 |
Keywords | Bearbeitet, Elements-bearbeitet, LR-bearbeitet, Spezial, uhr |
Label | best fertig |
Lens | 17-70mm |
LensID (1) | 137 |
LensID | Sigma 17-70mm f/2.8-4 DC Macro OS HSM | C |
LensInfo | 17-70mm f/? |
LensManualDistortionAmount | 0 |
LensModel | 17-70mm |
LensProfileEnable | 1 |
LensProfileSetup | LensDefaults |
LightValue | 11.0 |
LuminanceNoiseReductionContrast | 0 |
LuminanceNoiseReductionDetail | 36 |
LuminanceSmoothing | 100 |
Make | Canon |
MaxApertureValue | 4.0 |
Megapixels | 0.426 |
MeteringMode | Partial |
Model | Canon EOS 50D |
ModifyDate (1) | 2010:11:01 20:08:58+01:00 |
ModifyDate | 2010:11:01 20:08:58 |
OwnerName | Dirk Rosin |
ParametricDarks | 0 |
ParametricHighlights | 0 |
ParametricHighlightSplit | 75 |
ParametricLights | 0 |
ParametricMidtoneSplit | 50 |
ParametricShadows | -3 |
ParametricShadowSplit | 25 |
PerspectiveHorizontal | 0 |
PerspectiveRotate | 0.0 |
PerspectiveScale | 100 |
PerspectiveVertical | 0 |
PostCropVignetteAmount | 0 |
ProcessVersion | 5.7 |
ProfileDescription | ProPhoto RGB |
Rating | 5 |
RedHue | 0 |
RedSaturation | 0 |
Rights | Copyright:Dirk Rosin |
ScaleFactor35efl | 1.6 |
SceneCaptureType | Standard |
SensitivityType | Unknown |
SerialNumber | 730401017 |
Shadows | 0 |
ShadowTint | 0 |
SharpenDetail | 53 |
SharpenEdgeMasking | 54 |
SharpenRadius | +1.8 |
Sharpness | 69 |
ShutterSpeed | 1/125 |
ShutterSpeedValue | 1/125 |
SplitToningBalance | 0 |
SplitToningHighlightHue | 0 |
SplitToningHighlightSaturation | 0 |
SplitToningShadowHue | 0 |
SplitToningShadowSaturation | 0 |
Subject | Bearbeitet, Elements-bearbeitet, LR-bearbeitet, Spezial, uhr |
SubjectDistance | 0.72 m |
ToneCurve | 0, 0, 255, 255 |
ToneCurveName | Linear |
Version | 6.2 |
VignetteAmount | 0 |
WhiteBalance (2) | As Shot |
WhiteBalance | Auto |