Felt | Verdi |
AlreadyApplied | True |
Aperture | 8.0 |
ApertureValue | 8.0 |
BitsPerSample | 8 |
BlueHue | 0 |
BlueSaturation | 0 |
Brightness | +50 |
CameraProfile | Adobe Standard |
ChromaticAberrationB | 0 |
ChromaticAberrationR | 0 |
CircleOfConfusion | 0.019 mm |
Clarity | 0 |
ColorComponents | 3 |
ColorNoiseReduction | 25 |
ColorNoiseReductionDetail | 50 |
ColorTemperature | 5550 |
Contrast | +28 |
ConvertToGrayscale | True |
CreateDate (1) | 2010:05:16 10:31:08.52+02:00 |
CreateDate | 2010:05:16 10:31:08 |
CreatorTool | Adobe Photoshop Lightroom |
CropAngle | -0.776248 |
CropBottom | 0.981202 |
CropConstrainToWarp | 0 |
CropHeight | 800 |
CropLeft | 0.022991 |
CropRight | 0.956566 |
CropTop | 0.046123 |
CropUnit | pixels |
CropWidth | 1164 |
CustomRendered | Normal |
DateTimeDigitized | 2010:05:16 10:31:08.52+02:00 |
DateTimeOriginal (1) | 2010:05:16 10:31:08.52+02:00 |
DateTimeOriginal | 2010:05:16 10:31:08 |
Defringe | 0 |
DOF | 0.64 m (1.20 - 1.83 m) |
ExifImageHeight | 1164 |
ExifImageWidth | 800 |
Exposure | -0.41 |
ExposureCompensation | 0 |
ExposureMode | Auto |
ExposureProgram | Program AE |
ExposureTime | 1/125 |
FillLight | 25 |
Firmware | 1.0.9 |
Flash | Off, Did not fire |
FlashCompensation | 0 |
FlashFired | False |
FlashFunction | False |
FlashMode | Off |
FlashRedEyeMode | False |
FlashReturn | No return detection |
FNumber | 8.0 |
FocalLength | 32.0 mm |
FocalLength35efl | 32.0 mm (35 mm equivalent: 50.8 mm) |
FOV | 39.0 deg |
GrainAmount | 0 |
GrayMixerAqua | -10 |
GrayMixerBlue | +20 |
GrayMixerGreen | -17 |
GrayMixerMagenta | +32 |
GrayMixerOrange | +12 |
GrayMixerPurple | +25 |
GrayMixerRed | +39 |
GrayMixerYellow | -9 |
GreenHue | 0 |
GreenSaturation | 0 |
HasCrop | True |
HasSettings | True |
HighlightRecovery | 0 |
HyperfocalDistance | 6.76 m |
ImageHeight | 1164 |
ImageNumber | 0 |
ImageSize | 800x1164 |
ImageWidth | 800 |
ISO | 400 |
Lens | EF-S18-55mm f/3.5-5.6 IS |
LensID (1) | 48 |
LensID | Canon EF-S 18-55mm f/3.5-5.6 IS |
LensInfo | 18-55mm f/? |
LensManualDistortionAmount | 0 |
LensProfileEnable | 0 |
LensProfileSetup | LensDefaults |
LightValue | 11.0 |
LuminanceNoiseReductionContrast | 0 |
LuminanceNoiseReductionDetail | 50 |
LuminanceSmoothing | 28 |
Make | Canon |
MaxApertureValue | 4.4 |
Megapixels | 0.931 |
MeteringMode | Multi-segment |
Model | Canon EOS 500D |
ModifyDate (1) | 2010:10:26 21:17:52+02:00 |
ModifyDate | 2010:10:26 21:17:52 |
ParametricDarks | -17 |
ParametricHighlights | 0 |
ParametricHighlightSplit | 75 |
ParametricLights | +28 |
ParametricMidtoneSplit | 50 |
ParametricShadows | 0 |
ParametricShadowSplit | 25 |
PerspectiveHorizontal | 0 |
PerspectiveRotate | 0.0 |
PerspectiveScale | 100 |
PerspectiveVertical | 0 |
PostCropVignetteAmount | +43 |
PostCropVignetteFeather | 50 |
PostCropVignetteMidpoint | 54 |
PostCropVignetteRoundness | +8 |
PostCropVignetteStyle | 1 |
ProcessVersion | 5.7 |
ProfileDescription | sRGB IEC61966-2.1 |
RedHue | 0 |
RedSaturation | 0 |
ScaleFactor35efl | 1.6 |
SceneCaptureType | Standard |
SerialNumber | 1180414840 |
Shadows | 0 |
ShadowTint | 0 |
SharpenDetail | 26 |
SharpenEdgeMasking | 48 |
SharpenRadius | +1.5 |
Sharpness | 50 |
ShutterSpeed | 1/125 |
ShutterSpeedValue | 1/125 |
SplitToningBalance | 0 |
SplitToningHighlightHue | 36 |
SplitToningHighlightSaturation | 17 |
SplitToningShadowHue | 37 |
SplitToningShadowSaturation | 25 |
SubjectDistance | 1.45 m |
Tint | -4 |
ToneCurve | 0, 0, 32, 22, 64, 56, 128, 128, 192, 196, 255, 255 |
ToneCurveName | Medium Contrast |
Version | 6.1 |
VignetteAmount | 0 |
WhiteBalance (2) | Custom |
WhiteBalance | Auto |