Felt | Verdi |
AlreadyApplied | True |
Aperture | 11.0 |
ApertureValue | 11.0 |
ApproximateFocusDistance | 4.14 |
Artist | Photographer:Dirk Rosin |
BitsPerSample | 8 |
BlueHue | 0 |
BlueSaturation | 0 |
Brightness | +4 |
By-line | Dirk Rosin |
CameraProfile | Adobe Standard |
ChromaticAberrationB | 0 |
ChromaticAberrationR | 0 |
CircleOfConfusion | 0.019 mm |
Clarity | +42 |
ColorComponents | 3 |
ColorNoiseReduction | 25 |
ColorNoiseReductionDetail | 50 |
ColorTemperature | 5550 |
Contrast | +50 |
ConvertToGrayscale | False |
Copyright | Dirk Rosin |
CopyrightFlag | True |
CopyrightNotice | Dirk Rosin |
CreateDate (1) | 2010:10:14 11:06:19.16+02:00 |
CreateDate | 2010:10:14 11:06:19 |
Creator | Dirk Rosin |
CreatorCountry | Norway |
CreatorTool | Adobe Photoshop Lightroom |
CreatorWorkEmail | dirkrosin@msn.com |
CreatorWorkURL | http://dirkrosin.com |
CropAngle | 0 |
CropBottom | 0.805147 |
CropConstrainToWarp | 0 |
CropHeight | 537 |
CropLeft | 0 |
CropRight | 1 |
CropTop | 0 |
CropUnit | pixels |
CropWidth | 1000 |
CustomRendered | Normal |
DateTimeDigitized | 2010:10:14 11:06:19.16+02:00 |
DateTimeOriginal (1) | 2010:10:14 11:06:19.16+02:00 |
DateTimeOriginal | 2010:10:14 11:06:19 |
Defringe | 0 |
DOF | inf (1.40 m - inf) |
ExifImageHeight | 537 |
ExifImageWidth | 1000 |
Exposure | +0.90 |
ExposureCompensation | 0 |
ExposureMode | Auto |
ExposureProgram | Aperture-priority AE |
ExposureTime | 1/200 |
FillLight | 0 |
Firmware | 1.0.7 |
Flash | Off, Did not fire |
FlashCompensation | 0 |
FlashFired | False |
FlashFunction | False |
FlashMode | Off |
FlashRedEyeMode | False |
FlashReturn | No return detection |
FNumber | 11.0 |
FocalLength | 21.0 mm |
FocalLength35efl | 21.0 mm (35 mm equivalent: 33.3 mm) |
FOV | 56.8 deg |
GrainAmount | 0 |
GreenHue | 0 |
GreenSaturation | 0 |
HasCrop | True |
HasSettings | True |
HighlightRecovery | 0 |
HueAdjustmentAqua | 0 |
HueAdjustmentBlue | 0 |
HueAdjustmentGreen | 0 |
HueAdjustmentMagenta | 0 |
HueAdjustmentOrange | 0 |
HueAdjustmentPurple | 0 |
HueAdjustmentRed | 0 |
HueAdjustmentYellow | 0 |
HyperfocalDistance | 2.11 m |
ImageHeight | 537 |
ImageNumber | 0 |
ImageSize | 1000x537 |
ImageWidth | 1000 |
ISO | 100 |
Label | best fertig |
Lens | 17-70mm |
LensID (1) | 137 |
LensID | Sigma 17-70mm f/2.8-4 DC Macro OS HSM | C |
LensInfo | 17-70mm f/? |
LensManualDistortionAmount | 0 |
LensModel | 17-70mm |
LensProfileEnable | 0 |
LensProfileSetup | LensDefaults |
LightValue | 14.6 |
LuminanceAdjustmentAqua | 0 |
LuminanceAdjustmentBlue | 0 |
LuminanceAdjustmentGreen | 0 |
LuminanceAdjustmentMagenta | 0 |
LuminanceAdjustmentOrange | 0 |
LuminanceAdjustmentPurple | 0 |
LuminanceAdjustmentRed | 0 |
LuminanceAdjustmentYellow | 0 |
LuminanceSmoothing | 0 |
Make | Canon |
Marked | True |
MaxApertureValue | 3.1 |
Megapixels | 0.537 |
MeteringMode | Partial |
Model | Canon EOS 50D |
ModifyDate (1) | 2010:10:14 16:23:51+02:00 |
ModifyDate | 2010:10:14 16:23:51 |
OwnerName | Dirk Rosin |
ParametricDarks | -17 |
ParametricHighlights | +47 |
ParametricHighlightSplit | 75 |
ParametricLights | -5 |
ParametricMidtoneSplit | 50 |
ParametricShadows | -16 |
ParametricShadowSplit | 25 |
PerspectiveHorizontal | 0 |
PerspectiveRotate | 0.0 |
PerspectiveScale | 100 |
PerspectiveVertical | 0 |
PostCropVignetteAmount | 0 |
ProcessVersion | 5.7 |
ProfileDescription | ProPhoto RGB |
Rating | 5 |
RedHue | 0 |
RedSaturation | 0 |
Rights | Dirk Rosin |
Saturation | 0 |
SaturationAdjustmentAqua | -100 |
SaturationAdjustmentBlue | -31 |
SaturationAdjustmentGreen | 0 |
SaturationAdjustmentMagenta | 0 |
SaturationAdjustmentOrange | 0 |
SaturationAdjustmentPurple | 0 |
SaturationAdjustmentRed | 0 |
SaturationAdjustmentYellow | 0 |
ScaleFactor35efl | 1.6 |
SceneCaptureType | Standard |
SensitivityType | Unknown |
SerialNumber | 730401017 |
Shadows | 5 |
ShadowTint | 0 |
SharpenDetail | 25 |
SharpenEdgeMasking | 0 |
SharpenRadius | +1.0 |
Sharpness | 25 |
ShutterSpeed | 1/200 |
ShutterSpeedValue | 1/200 |
SplitToningBalance | 0 |
SplitToningHighlightHue | 0 |
SplitToningHighlightSaturation | 0 |
SplitToningShadowHue | 0 |
SplitToningShadowSaturation | 0 |
SubjectDistance | 4.14 m |
Tint | +14 |
ToneCurve | 0, 0, 32, 22, 64, 56, 128, 128, 192, 196, 255, 255 |
ToneCurveName | Medium Contrast |
Version | 6.2 |
Vibrance | 0 |
VignetteAmount | 0 |
WhiteBalance (2) | As Shot |
WhiteBalance | Auto |