Felt | Verdi |
AlreadyApplied | True |
Artist | irina moork |
BitsPerSample | 8 |
BlueHue | 0 |
BlueSaturation | 0 |
Brightness | 0 |
By-line | irina moork |
CameraProfile | Embedded |
Caption-Abstract | half-dressed young unshaven man on a dark background |
ChromaticAberrationB | 0 |
ChromaticAberrationR | 0 |
Clarity | 0 |
ColorComponents | 3 |
ColorNoiseReduction | 0 |
Contrast | 0 |
ConvertToGrayscale | False |
Creator | irina moork |
CreatorTool | Adobe Photoshop Lightroom |
Defringe | 0 |
Description | half-dressed young unshaven man on a dark background |
ExifImageHeight (1) | 3888 |
ExifImageHeight | 600 |
ExifImageWidth (1) | 2592 |
ExifImageWidth | 400 |
Exposure | 0.00 |
FillLight | 0 |
GreenHue | 0 |
GreenSaturation | 0 |
HasCrop | False |
HasSettings | True |
HierarchicalSubject | Streaked, advertising, beard, black, brown-eyed, dark, fashion, gray, half-dressed, jacket, model, mustache, sight, striped, studio, stylish, tie, trendy, unshaven, young man |
HighlightRecovery | 0 |
HueAdjustmentAqua | 0 |
HueAdjustmentBlue | 0 |
HueAdjustmentGreen | 0 |
HueAdjustmentMagenta | 0 |
HueAdjustmentOrange | 0 |
HueAdjustmentPurple | 0 |
HueAdjustmentRed | 0 |
HueAdjustmentYellow | 0 |
ImageDescription | half-dressed young unshaven man on a dark background |
ImageHeight (1) | 3888 |
ImageHeight | 600 |
ImageSize | 400x600 |
ImageWidth (1) | 2592 |
ImageWidth | 400 |
IncrementalTemperature | 0 |
IncrementalTint | 0 |
Keywords | Streaked, advertising, beard, black, brown-eyed, dark, fashion, gray, half-dressed, jacket, model, mustache, sight, striped, studio, stylish, tie, trendy, unshaven, young man |
LuminanceAdjustmentAqua | 0 |
LuminanceAdjustmentBlue | -100 |
LuminanceAdjustmentGreen | -100 |
LuminanceAdjustmentMagenta | 0 |
LuminanceAdjustmentOrange | 0 |
LuminanceAdjustmentPurple | 0 |
LuminanceAdjustmentRed | 0 |
LuminanceAdjustmentYellow | 0 |
LuminanceSmoothing | 0 |
Megapixels | 0.240 |
ModifyDate (1) | 2010:10:13 09:35:40.0+1:00 |
ModifyDate | 2010:10:15 17:42:38 |
ObjectName | young man |
Orientation | Horizontal (normal) |
ParametricDarks | 0 |
ParametricHighlights | 0 |
ParametricHighlightSplit | 75 |
ParametricLights | 0 |
ParametricMidtoneSplit | 50 |
ParametricShadows | 0 |
ParametricShadowSplit | 25 |
PostCropVignetteAmount | 0 |
ProfileDescription | sRGB IEC61966-2.1 |
Rating | 5 |
RedHue | 0 |
RedSaturation | 0 |
Saturation | 0 |
SaturationAdjustmentAqua | 0 |
SaturationAdjustmentBlue | -100 |
SaturationAdjustmentGreen | -100 |
SaturationAdjustmentMagenta | 0 |
SaturationAdjustmentOrange | 0 |
SaturationAdjustmentPurple | 0 |
SaturationAdjustmentRed | 0 |
SaturationAdjustmentYellow | 0 |
Shadows | 0 |
ShadowTint | 0 |
SharpenDetail | 25 |
SharpenEdgeMasking | 0 |
SharpenRadius | +1.0 |
Sharpness | 34 |
Software | ACD Systems Digital Imaging |
SplitToningBalance | 0 |
SplitToningHighlightHue | 0 |
SplitToningHighlightSaturation | 0 |
SplitToningShadowHue | 0 |
SplitToningShadowSaturation | 0 |
Subject | Streaked, advertising, beard, black, brown-eyed, dark, fashion, gray, half-dressed, jacket, model, mustache, sight, striped, studio, stylish, tie, trendy, unshaven, young man |
Title | young man |
ToneCurve | 0, 0, 255, 255 |
ToneCurveName | Linear |
Version | 5.5 |
Vibrance | 0 |
VignetteAmount | 0 |
WhiteBalance | As Shot |