Felt | Verdi |
AlreadyApplied | True |
Aperture | 8.0 |
ApertureValue | 8.0 |
BitsPerSample | 8 |
BlueHue | 0 |
BlueSaturation | 0 |
Brightness | +81 |
CameraProfile | Adobe Standard |
ChromaticAberrationB | 0 |
ChromaticAberrationR | 0 |
CircleOfConfusion | 0.019 mm |
Clarity | +22 |
ColorComponents | 3 |
ColorNoiseReduction | 25 |
ColorNoiseReductionDetail | 50 |
ColorTemperature | 6200 |
Contrast | +47 |
ConvertToGrayscale | False |
CreateDate (1) | 2010:07:07 17:43:01.84+02:00 |
CreateDate | 2010:07:07 17:43:01 |
CreatorTool | Adobe Photoshop Lightroom |
CropAngle | -1.70255 |
CropBottom | 0.957317 |
CropConstrainToWarp | 0 |
CropHeight | 667 |
CropLeft | 0.011856 |
CropRight | 0.988144 |
CropTop | 0.042683 |
CropUnit | pixels |
CropWidth | 1000 |
CustomRendered | Normal |
DateTimeDigitized | 2010:07:07 17:43:01.84+02:00 |
DateTimeOriginal (1) | 2010:07:07 17:43:01.84+02:00 |
DateTimeOriginal | 2010:07:07 17:43:01 |
Defringe | 0 |
DOF | inf (129.47 m - inf) |
ExifImageHeight | 667 |
ExifImageWidth | 1000 |
Exposure | -0.69 |
ExposureCompensation | 0 |
ExposureMode | Manual |
ExposureProgram | Manual |
ExposureTime | 1/250 |
FillLight | 24 |
Firmware | 1.0.9 |
Flash | Off, Did not fire |
FlashCompensation | 0 |
FlashFired | False |
FlashFunction | False |
FlashMode | Off |
FlashRedEyeMode | False |
FlashReturn | No return detection |
FNumber | 8.0 |
FocalLength | 140.0 mm |
FocalLength35efl | 140.0 mm (35 mm equivalent: 222.3 mm) |
FOV | 9.3 deg |
GrainAmount | 0 |
GreenHue | 0 |
GreenSaturation | 0 |
HasCrop | True |
HasSettings | True |
HighlightRecovery | 47 |
HueAdjustmentAqua | 0 |
HueAdjustmentBlue | 0 |
HueAdjustmentGreen | 0 |
HueAdjustmentMagenta | 0 |
HueAdjustmentOrange | 0 |
HueAdjustmentPurple | 0 |
HueAdjustmentRed | 0 |
HueAdjustmentYellow | 0 |
HyperfocalDistance | 129.47 m |
ImageHeight | 667 |
ImageNumber | 0 |
ImageSize | 1000x667 |
ImageWidth | 1000 |
ISO | 200 |
Lens | EF28-200mm f/3.5-5.6 USM |
LensID (1) | 211 |
LensID | Canon EF 28-200mm f/3.5-5.6 USM |
LensInfo | 28-200mm f/? |
LensManualDistortionAmount | 0 |
LensProfileEnable | 0 |
LensProfileSetup | LensDefaults |
LightValue | 13.0 |
LuminanceAdjustmentAqua | -7 |
LuminanceAdjustmentBlue | -32 |
LuminanceAdjustmentGreen | 0 |
LuminanceAdjustmentMagenta | 0 |
LuminanceAdjustmentOrange | 0 |
LuminanceAdjustmentPurple | 0 |
LuminanceAdjustmentRed | 0 |
LuminanceAdjustmentYellow | 0 |
LuminanceSmoothing | 0 |
Make | Canon |
MaxApertureValue | 5.7 |
Megapixels | 0.667 |
MeteringMode | Multi-segment |
Model | Canon EOS 500D |
ModifyDate (1) | 2010:10:07 22:32:17+02:00 |
ModifyDate | 2010:10:07 22:32:17 |
ParametricDarks | -3 |
ParametricHighlights | +7 |
ParametricHighlightSplit | 75 |
ParametricLights | -28 |
ParametricMidtoneSplit | 50 |
ParametricShadows | -56 |
ParametricShadowSplit | 25 |
PerspectiveHorizontal | 0 |
PerspectiveRotate | 0.0 |
PerspectiveScale | 100 |
PerspectiveVertical | 0 |
PostCropVignetteAmount | -36 |
PostCropVignetteFeather | 41 |
PostCropVignetteHighlightContrast | 16 |
PostCropVignetteMidpoint | 56 |
PostCropVignetteRoundness | -15 |
PostCropVignetteStyle | 1 |
ProcessVersion | 5.7 |
ProfileDescription | sRGB IEC61966-2.1 |
RedHue | 0 |
RedSaturation | 0 |
Saturation | -8 |
SaturationAdjustmentAqua | +9 |
SaturationAdjustmentBlue | -2 |
SaturationAdjustmentGreen | 0 |
SaturationAdjustmentMagenta | 0 |
SaturationAdjustmentOrange | 0 |
SaturationAdjustmentPurple | 0 |
SaturationAdjustmentRed | 0 |
SaturationAdjustmentYellow | 0 |
ScaleFactor35efl | 1.6 |
SceneCaptureType | Standard |
SerialNumber | 1180414840 |
Shadows | 10 |
ShadowTint | 0 |
SharpenDetail | 25 |
SharpenEdgeMasking | 0 |
SharpenRadius | +0.8 |
Sharpness | 41 |
ShutterSpeed | 1/250 |
ShutterSpeedValue | 1/250 |
SplitToningBalance | 0 |
SplitToningHighlightHue | 0 |
SplitToningHighlightSaturation | 0 |
SplitToningShadowHue | 0 |
SplitToningShadowSaturation | 0 |
SubjectDistance | 4294967295 m |
Tint | +31 |
ToneCurve | 0, 0, 32, 22, 64, 56, 128, 128, 192, 196, 255, 255 |
ToneCurveName | Medium Contrast |
Version | 6.1 |
Vibrance | 0 |
VignetteAmount | 0 |
WhiteBalance (2) | As Shot |
WhiteBalance | Auto |