Felt | Verdi |
AlreadyApplied | True |
Aperture | 3.2 |
ApertureValue | 3.2 |
BitsPerSample | 8 |
BlueHue | 0 |
BlueSaturation | 0 |
Brightness | 0 |
CameraProfile | ACR 2.4 |
Caption-Abstract | Frode«s preset |
ChromaticAberrationB | 0 |
ChromaticAberrationR | 0 |
CircleOfConfusion | 0.005 mm |
Clarity | 0 |
ColorComponents | 3 |
ColorNoiseReduction | 25 |
Contrast | +9 |
ConvertToGrayscale | True |
Copyright | Frode Nymo |
CopyrightNotice | Frode Nymo |
CreateDate | 2010:08:24 15:58:44 |
CreatorTool | Adobe Photoshop Lightroom |
CropAngle | 6.428571 |
CropBottom | 0.995197 |
CropHeight | 1986 |
CropLeft | 0.098088 |
CropRight | 0.918703 |
CropTop | 0.377834 |
CropUnit | pixels |
CropWidth | 2484 |
CustomRendered | Normal |
DateTimeDigitized | 2010:08:24 15:58:44+02:00 |
DateTimeOriginal (1) | 2010:08:24 15:58:44+02:00 |
DateTimeOriginal | 2010:08:24 15:58:44 |
Defringe | 0 |
Description | Frode´s preset |
DigitalZoomRatio | 1 |
Exposure | +0.25 |
ExposureCompensation | -2/3 |
ExposureMode | Manual |
ExposureTime | 1/60 |
FillLight | 35 |
Flash | Off, Did not fire |
FlashFired | False |
FlashFunction | False |
FlashMode | Off |
FlashRedEyeMode | False |
FlashReturn | No return detection |
FNumber | 3.2 |
FocalLength | 6.9 mm |
FocalLength35efl | 6.9 mm (35 mm equivalent: 39.2 mm) |
FOV | 49.3 deg |
GrayMixerAqua | -10 |
GrayMixerBlue | +20 |
GrayMixerGreen | 0 |
GrayMixerMagenta | +28 |
GrayMixerOrange | +4 |
GrayMixerPurple | +25 |
GrayMixerRed | +38 |
GrayMixerYellow | -13 |
GreenHue | 0 |
GreenSaturation | 0 |
HasCrop | True |
HasSettings | True |
HighlightRecovery | 6 |
HyperfocalDistance | 2.83 m |
ImageDescription | Frode?s preset |
ImageHeight | 1986 |
ImageSize | 2484x1986 |
ImageWidth | 2484 |
IncrementalTemperature | +8 |
IncrementalTint | -16 |
ISO | 200 |
LightValue | 8.3 |
LuminanceSmoothing | 0 |
Make | Canon |
MaxApertureValue | 3.2 |
Megapixels | 4.9 |
MeteringMode | Multi-segment |
Model | Canon DIGITAL IXUS 870 IS |
ModifyDate (1) | 2010:08:25 08:47:49+02:00 |
ModifyDate | 2010:08:25 08:47:49 |
ParametricDarks | -17 |
ParametricHighlights | 0 |
ParametricHighlightSplit | 75 |
ParametricLights | +28 |
ParametricMidtoneSplit | 50 |
ParametricShadows | 0 |
ParametricShadowSplit | 25 |
ProfileDescription | sRGB IEC61966-2.1 |
RedHue | 0 |
RedSaturation | 0 |
Rights | Frode Nymo |
ScaleFactor35efl | 5.7 |
SceneCaptureType | Standard |
SensingMethod | One-chip color area |
Shadows | 0 |
ShadowTint | 0 |
SharpenDetail | 46 |
SharpenEdgeMasking | 55 |
SharpenRadius | +1.0 |
Sharpness | 72 |
ShutterSpeed | 1/60 |
ShutterSpeedValue | 1/60 |
Software | QuickTime 7.6.6 |
SplitToningBalance | 0 |
SplitToningHighlightHue | 52 |
SplitToningHighlightSaturation | 64 |
SplitToningShadowHue | 37 |
SplitToningShadowSaturation | 22 |
ToneCurve | 0, 0, 32, 22, 64, 56, 128, 128, 192, 196, 255, 255 |
ToneCurveName | Medium Contrast |
Version | 4.4.1 |
VignetteAmount | +29 |
VignetteMidpoint | 50 |
WhiteBalance (2) | Custom |
WhiteBalance | Auto |