Felt | Verdi |
AlreadyApplied | True |
Aperture | 3.5 |
ApertureValue | 3.5 |
BitsPerSample | 8 |
BlueHue | 0 |
BlueSaturation | 0 |
Brightness | 0 |
CameraProfile | Embedded |
Caption-Abstract | Frode«s preset |
ChromaticAberrationB | 0 |
ChromaticAberrationR | 0 |
CircleOfConfusion | 0.005 mm |
Clarity | 43 |
ColorComponents | 3 |
ColorNoiseReduction | 0 |
Contrast | +22 |
ConvertToGrayscale | False |
Copyright | Frode Nymo |
CopyrightNotice | Frode Nymo |
CreateDate | 2010:07:08 14:54:09 |
CreatorTool | Adobe Photoshop Lightroom |
CropAngle | 0 |
CropBottom | 0.766917 |
CropHeight | 1571 |
CropLeft | 0.004219 |
CropRight | 1 |
CropTop | 0 |
CropUnit | pixels |
CropWidth | 3633 |
CustomRendered | Normal |
DateTimeDigitized | 2010:07:08 14:54:09+02:00 |
DateTimeOriginal (1) | 2010:07:08 14:54:09+02:00 |
DateTimeOriginal | 2010:07:08 14:54:09 |
Defringe | 0 |
Description | Frode´s preset |
DigitalZoomRatio | 1 |
Exposure | -0.33 |
ExposureCompensation | 0 |
ExposureMode | Auto |
ExposureTime | 1/200 |
FillLight | 0 |
Flash | Off, Did not fire |
FlashFired | False |
FlashFunction | False |
FlashMode | Off |
FlashRedEyeMode | False |
FlashReturn | No return detection |
FNumber | 3.5 |
FocalLength | 8.1 mm |
FocalLength35efl | 8.1 mm (35 mm equivalent: 45.9 mm) |
FOV | 42.8 deg |
GreenHue | 0 |
GreenSaturation | 0 |
HasCrop | True |
HasSettings | True |
HighlightRecovery | 0 |
HueAdjustmentAqua | 0 |
HueAdjustmentBlue | 0 |
HueAdjustmentGreen | 0 |
HueAdjustmentMagenta | 0 |
HueAdjustmentOrange | 0 |
HueAdjustmentPurple | 0 |
HueAdjustmentRed | 0 |
HueAdjustmentYellow | 0 |
HyperfocalDistance | 3.54 m |
ImageDescription | Frode?s preset |
ImageHeight | 1571 |
ImageSize | 3633x1571 |
ImageWidth | 3633 |
IncrementalTemperature | +15 |
IncrementalTint | +8 |
ISO | 80 |
LightValue | 11.6 |
LuminanceAdjustmentAqua | 0 |
LuminanceAdjustmentBlue | 0 |
LuminanceAdjustmentGreen | 0 |
LuminanceAdjustmentMagenta | 0 |
LuminanceAdjustmentOrange | 0 |
LuminanceAdjustmentPurple | 0 |
LuminanceAdjustmentRed | 0 |
LuminanceAdjustmentYellow | 0 |
LuminanceSmoothing | 0 |
Make | Canon |
MaxApertureValue | 3.5 |
Megapixels | 5.7 |
MeteringMode | Multi-segment |
Model | Canon DIGITAL IXUS 870 IS |
ModifyDate (1) | 2010:08:25 21:46:29+02:00 |
ModifyDate | 2010:08:25 21:46:29 |
ParametricDarks | -38 |
ParametricHighlights | +10 |
ParametricHighlightSplit | 75 |
ParametricLights | 0 |
ParametricMidtoneSplit | 50 |
ParametricShadows | 0 |
ParametricShadowSplit | 25 |
ProfileDescription | sRGB IEC61966-2.1 |
RedHue | 0 |
RedSaturation | 0 |
Rights | Frode Nymo |
Saturation | -54 |
SaturationAdjustmentAqua | 0 |
SaturationAdjustmentBlue | 0 |
SaturationAdjustmentGreen | 0 |
SaturationAdjustmentMagenta | 0 |
SaturationAdjustmentOrange | 0 |
SaturationAdjustmentPurple | 0 |
SaturationAdjustmentRed | 0 |
SaturationAdjustmentYellow | 0 |
ScaleFactor35efl | 5.7 |
SceneCaptureType | Standard |
SensingMethod | One-chip color area |
Shadows | 14 |
ShadowTint | 0 |
SharpenDetail | 36 |
SharpenEdgeMasking | 78 |
SharpenRadius | +1.0 |
Sharpness | 89 |
ShutterSpeed | 1/200 |
ShutterSpeedValue | 1/200 |
Software | QuickTime 7.6.6 |
SplitToningBalance | 0 |
SplitToningHighlightHue | 0 |
SplitToningHighlightSaturation | 0 |
SplitToningShadowHue | 0 |
SplitToningShadowSaturation | 0 |
ToneCurve | 0, 0, 255, 255 |
ToneCurveName | Linear |
Version | 4.4.1 |
Vibrance | 0 |
VignetteAmount | -15 |
VignetteMidpoint | 50 |
WhiteBalance (2) | Custom |
WhiteBalance | Auto |