Felt | Verdi |
AlreadyApplied | True |
BitsPerSample | 8 |
BlueHue | 0 |
BlueSaturation | 0 |
Brightness | 0 |
CameraProfile | Embedded |
ChromaticAberrationB | 0 |
ChromaticAberrationR | 0 |
Clarity | 8 |
ColorComponents | 3 |
ColorNoiseReduction | 0 |
ColorSpace | sRGB |
Contrast | 0 |
ConvertToGrayscale | False |
CreateDate | 2008:03:10 22:07:58+01:00 |
CreatorTool | Adobe Photoshop Lightroom |
CropAngle | -1.266759 |
CropBottom | 0.975733 |
CropHeight | 585 |
CropLeft | 0.129453 |
CropRight | 0.853802 |
CropTop | 0.197465 |
CropUnit | pixels |
CropWidth | 800 |
Defringe | 0 |
ExifImageHeight | 3642 |
ExifImageWidth | 5607 |
Exposure | 0.00 |
FillLight | 0 |
Format | image/tiff |
GreenHue | 0 |
GreenSaturation | 0 |
HasCrop | True |
HasSettings | True |
HighlightRecovery | 0 |
HueAdjustmentAqua | 0 |
HueAdjustmentBlue | 0 |
HueAdjustmentGreen | 0 |
HueAdjustmentMagenta | 0 |
HueAdjustmentOrange | 0 |
HueAdjustmentPurple | 0 |
HueAdjustmentRed | 0 |
HueAdjustmentYellow | 0 |
ImageHeight | 585 |
ImageSize | 800x585 |
ImageWidth | 800 |
IncrementalTemperature | -5 |
IncrementalTint | 0 |
Keywords | Ghana |
LuminanceAdjustmentAqua | 0 |
LuminanceAdjustmentBlue | 0 |
LuminanceAdjustmentGreen | 0 |
LuminanceAdjustmentMagenta | 0 |
LuminanceAdjustmentOrange | 0 |
LuminanceAdjustmentPurple | 0 |
LuminanceAdjustmentRed | 0 |
LuminanceAdjustmentYellow | 0 |
LuminanceSmoothing | 0 |
Megapixels | 0.468 |
ModifyDate (1) | 2008:03:10 22:23:54+01:00 |
ModifyDate | 2008:03:10 22:23:54 |
ParametricDarks | 0 |
ParametricHighlights | 0 |
ParametricHighlightSplit | 75 |
ParametricLights | 0 |
ParametricMidtoneSplit | 50 |
ParametricShadows | 0 |
ParametricShadowSplit | 25 |
ProfileDescription | sRGB IEC61966-2.1 |
RedHue | 0 |
RedSaturation | 0 |
Saturation | 0 |
SaturationAdjustmentAqua | 0 |
SaturationAdjustmentBlue | 0 |
SaturationAdjustmentGreen | 0 |
SaturationAdjustmentMagenta | 0 |
SaturationAdjustmentOrange | +39 |
SaturationAdjustmentPurple | 0 |
SaturationAdjustmentRed | +54 |
SaturationAdjustmentYellow | 0 |
Shadows | 0 |
ShadowTint | 0 |
SharpenDetail | 25 |
SharpenEdgeMasking | 0 |
SharpenRadius | +1.0 |
Sharpness | 50 |
Software | Adobe Photoshop CS3 Windows |
SplitToningBalance | 0 |
SplitToningHighlightHue | 0 |
SplitToningHighlightSaturation | 0 |
SplitToningShadowHue | 0 |
SplitToningShadowSaturation | 0 |
Subject | Ghana |
ToneCurve | 0, 0, 32, 22, 64, 56, 128, 128, 192, 196, 255, 255 |
ToneCurveName | Medium Contrast |
Version | 1.0 |
Vibrance | +2 |
VignetteAmount | 0 |
WhiteBalance | Custom |