Felt | Verdi |
AlreadyApplied | True |
Aperture | 11.0 |
ApertureValue | 11.0 |
Artist | Johan Gran |
BitsPerSample | 8 |
BlueHue | 0 |
BlueSaturation | 0 |
Brightness | 0 |
By-line | Johan Gran |
CameraProfile | Embedded |
ChromaticAberrationB | 0 |
ChromaticAberrationR | 0 |
CircleOfConfusion | 0.019 mm |
Clarity | 0 |
ColorComponents | 3 |
ColorMode | RGB |
ColorNoiseReduction | 0 |
ColorSpace | Uncalibrated |
Contrast | -10 |
ConvertToGrayscale | False |
Copyright | Johan Gran |
CopyrightNotice | Johan Gran |
CreateDate (1) | 2010:07:27 14:14:45+02:00 |
CreateDate | 2010:07:27 14:14:45 |
Creator | Johan Gran |
CreatorTool | |
CropAngle | 1.235041 |
CropBottom | 1 |
CropLeft | 0.022624 |
CropRight | 0.977376 |
CropTop | -0 |
CustomRendered | Normal |
DateTimeDigitized | 2010:07:27 14:14:45+02:00 |
DateTimeOriginal (1) | 2010:07:27 14:14:45+02:00 |
DateTimeOriginal | 2010:07:27 14:14:45 |
Defringe | 0 |
ExifImageHeight | 1488 |
ExifImageWidth | 992 |
Exposure | 0.00 |
ExposureCompensation | 0 |
ExposureMode | Auto |
ExposureProgram | Shutter speed priority AE |
ExposureTime | 1/80 |
FillLight | 0 |
Firmware | 1.0.5 |
Flash | Off, Did not fire |
FlashCompensation | 0 |
FlashFired | False |
FlashFunction | False |
FlashMode | Off |
FlashRedEyeMode | False |
FlashReturn | No return detection |
FNumber | 11.0 |
FocalLength | 17.0 mm |
FocalLength35efl | 17.0 mm (35 mm equivalent: 27.2 mm) |
Format | image/jpeg |
FOV | 66.9 deg |
GradientBasedCorrActive | true |
GradientBasedCorrAmount | 1.000000 |
GradientBasedCorrBrightness | 0.000000 |
GradientBasedCorrClarity | 0.000000 |
GradientBasedCorrContrast | 0.000000 |
GradientBasedCorrExposure | -0.325000 |
GradientBasedCorrHue | 50.000000 |
GradientBasedCorrMaskFullX | 0.000000 |
GradientBasedCorrMaskFullY | 0.509370 |
GradientBasedCorrMaskValue | 1.000000 |
GradientBasedCorrMaskWhat | Mask/Gradient |
GradientBasedCorrMaskZeroX | 0.444949 |
GradientBasedCorrMaskZeroY | 0.512777 |
GradientBasedCorrSaturation (1) | 0.030000 |
GradientBasedCorrSaturation | 0.500000 |
GradientBasedCorrSharpness | 0.000000 |
GradientBasedCorrWhat | Correction |
GreenHue | 0 |
GreenSaturation | 0 |
HasCrop | True |
HasSettings | True |
HierarchicalSubject | Ă…rstider|Sommerferie, Sted|Gausdal |
HighlightRecovery | 0 |
HueAdjustmentAqua | 0 |
HueAdjustmentBlue | +3 |
HueAdjustmentGreen | +3 |
HueAdjustmentMagenta | 0 |
HueAdjustmentOrange | 0 |
HueAdjustmentPurple | 0 |
HueAdjustmentRed | 0 |
HueAdjustmentYellow | 0 |
HyperfocalDistance | 1.40 m |
ICCProfileName | Adobe RGB (1998) |
ImageHeight | 1488 |
ImageNumber | 128 |
ImageSize | 992x1488 |
ImageWidth | 992 |
IncrementalTemperature | 0 |
IncrementalTint | 0 |
ISO | 100 |
Keywords | Gausdal, Sommerferie |
Lens | EF17-40mm f/4L USM |
LensID (1) | 65535 |
LensID | Unknown 17-40mm |
LensInfo | 17-40mm f/? |
LightValue | 13.2 |
LuminanceAdjustmentAqua | 0 |
LuminanceAdjustmentBlue | 0 |
LuminanceAdjustmentGreen | -6 |
LuminanceAdjustmentMagenta | 0 |
LuminanceAdjustmentOrange | 0 |
LuminanceAdjustmentPurple | 0 |
LuminanceAdjustmentRed | 0 |
LuminanceAdjustmentYellow | 0 |
LuminanceSmoothing | 0 |
Make | Canon |
MaxApertureValue | 4.0 |
Megapixels | 1.5 |
MeteringMode | Multi-segment |
Model | Canon EOS 30D |
ModifyDate (1) | 2010:08:01 23:51:03+02:00 |
ModifyDate | 2010:08:01 23:51:03 |
Orientation | Horizontal (normal) |
OwnerName | unknown |
ParametricDarks | -11 |
ParametricHighlights | 0 |
ParametricHighlightSplit | 75 |
ParametricLights | 0 |
ParametricMidtoneSplit | 50 |
ParametricShadows | -18 |
ParametricShadowSplit | 25 |
PostCropVignetteAmount | 0 |
ProfileDescription | Adobe RGB (1998) |
Rating | 0 |
RawFileName | SOMMERFERIE Gausdal_27jul2010_0401.JPG |
RedHue | 0 |
RedSaturation | 0 |
Rights | Johan Gran |
Saturation | 0 |
SaturationAdjustmentAqua | 0 |
SaturationAdjustmentBlue | +19 |
SaturationAdjustmentGreen | +21 |
SaturationAdjustmentMagenta | 0 |
SaturationAdjustmentOrange | 0 |
SaturationAdjustmentPurple | 0 |
SaturationAdjustmentRed | 0 |
SaturationAdjustmentYellow | 0 |
ScaleFactor35efl | 1.6 |
SceneCaptureType | Standard |
SerialNumber | 1830910482 |
Shadows | 3 |
ShadowTint | 0 |
SharpenDetail | 25 |
SharpenEdgeMasking | 0 |
SharpenRadius | +1.0 |
Sharpness | 11 |
ShutterSpeed | 1/80 |
ShutterSpeedValue | 1/80 |
Software | Adobe Photoshop CS4 Windows |
SplitToningBalance | 0 |
SplitToningHighlightHue | 0 |
SplitToningHighlightSaturation | 0 |
SplitToningShadowHue | 0 |
SplitToningShadowSaturation | 0 |
Subject | Gausdal, Sommerferie |
ToneCurve | 0, 0, 255, 255 |
ToneCurveName | Linear |
URL_List | |
Version | 5.6 |
Vibrance | 0 |
VignetteAmount | 0 |
WhiteBalance (2) | As Shot |
WhiteBalance | Auto |