Felt | Verdi |
AlreadyApplied | True |
Aperture | 4.0 |
ApertureValue | 4.0 |
BitsPerSample | 8 |
BlackClip | 1.567950 |
BlueHue | 0 |
BlueSaturation | 0 |
Brightness | 0 |
CameraProfile | Embedded |
ChromaticAberrationB | 0 |
ChromaticAberrationR | 0 |
Clarity | +28 |
ColorComponents | 3 |
ColorMode | RGB |
ColorNoiseReduction | 0 |
ColorSaturation | 73 |
ColorSpace | sRGB |
ColorTemperature | 1 |
Contrast | +24 |
ConvertToGrayscale | False |
CreateDate | 2010:07:25 21:04:13+02:00 |
DateTimeOriginal (1) | 2010:07:25 21:04:13+02:00 |
DateTimeOriginal | 2010:07:25 21:04:13 |
Defringe | 0 |
ExifImageHeight | 861 |
ExifImageWidth | 600 |
Exposure | -0.80 |
ExposureTime | 1/2000 |
FillLight | 23 |
FNumber | 4.0 |
FocalLength | 135.0 mm |
FocalLength35efl | 135.0 mm |
Format | image/jpeg |
Gamma | 0.933033 |
GrainAmount | 0 |
GreenHue | 0 |
GreenSaturation | 0 |
HasCrop | False |
HasSettings | True |
HighlightRecovery | 40 |
HighlightsSmoothing | 25 |
HueAdjustmentAqua | 0 |
HueAdjustmentBlue | 0 |
HueAdjustmentGreen | 0 |
HueAdjustmentMagenta | 0 |
HueAdjustmentOrange | 0 |
HueAdjustmentPurple | 0 |
HueAdjustmentRed | 0 |
HueAdjustmentYellow | 0 |
ICCProfileName | sRGB IEC61966-2.1 |
ImageHeight | 861 |
ImageSize | 600x861 |
ImageWidth | 600 |
IncrementalTemperature | 0 |
IncrementalTint | 0 |
ISO | 400 |
LightValue | 13.0 |
LuminanceAdjustmentAqua | 0 |
LuminanceAdjustmentBlue | 0 |
LuminanceAdjustmentGreen | 0 |
LuminanceAdjustmentMagenta | 0 |
LuminanceAdjustmentOrange | 0 |
LuminanceAdjustmentPurple | 0 |
LuminanceAdjustmentRed | 0 |
LuminanceAdjustmentYellow | 0 |
LuminanceSmoothing | 0 |
Luminosity | -4 |
Megapixels | 0.517 |
Method | Details Enhancer |
Microcontrast | 2 |
Microsmoothing | 2 |
Model | NIKON D700 |
ModifyDate (1) | 2010:07:26 15:37:37+02:00 |
ModifyDate | 2010:07:26 15:37:37 |
Orientation | Horizontal (normal) |
ParametricDarks | -3 |
ParametricHighlights | +18 |
ParametricHighlightSplit | 75 |
ParametricLights | +9 |
ParametricMidtoneSplit | 50 |
ParametricShadows | -12 |
ParametricShadowSplit | 25 |
PostCropVignetteAmount | 0 |
ProcessVersion | 5.0 |
ProfileDescription | sRGB IEC61966-2.1 |
Rating | 0 |
RawFileName | _DSC3103.tif |
RedHue | 0 |
RedSaturation | 0 |
Saturation | 0 |
SaturationAdjustmentAqua | 0 |
SaturationAdjustmentBlue | 0 |
SaturationAdjustmentGreen | 0 |
SaturationAdjustmentMagenta | 0 |
SaturationAdjustmentOrange | 0 |
SaturationAdjustmentPurple | 0 |
SaturationAdjustmentRed | 0 |
SaturationAdjustmentYellow | 0 |
SaturationHighlights | 4 |
SaturationShadows | 0 |
Shadows | 0 |
ShadowsClipping | 10 |
ShadowsSmoothing | 0 |
ShadowTint | 0 |
SharpenDetail | 25 |
SharpenEdgeMasking | 0 |
SharpenRadius | +1.0 |
Sharpness | 0 |
ShutterSpeed | 1/2000 |
ShutterSpeedValue | 1/2000 |
Smoothing | Very High |
Software | Adobe Photoshop CS4 Windows |
SplitToningBalance | 0 |
SplitToningHighlightHue | 0 |
SplitToningHighlightSaturation | 0 |
SplitToningShadowHue | 0 |
SplitToningShadowSaturation | 0 |
Strength | 90 |
ToneCurve | 0, 0, 255, 255 |
ToneCurveName | Linear |
URL_List | |
Version (1) | 3.1 |
Version | 5.7 |
Vibrance | +23 |
VignetteAmount | 0 |
WhiteBalance | As Shot |
WhiteClip | 0.362450 |