Felt | Verdi |
AlreadyApplied | True |
Aperture | 16.0 |
ApertureValue | 16.0 |
Artist | unknown |
BitsPerSample | 8 |
BlueHue | 0 |
BlueSaturation | 0 |
Brightness | 0 |
By-line | unknown |
CameraProfile | Embedded |
ChromaticAberrationB | 0 |
ChromaticAberrationR | 0 |
CircleOfConfusion | 0.019 mm |
Clarity | +19 |
ColorComponents | 3 |
ColorMode | RGB |
ColorNoiseReduction | 0 |
ColorSpace | sRGB |
Contrast | 0 |
ConvertToGrayscale | False |
CopyrightFlag | False |
CreateDate (1) | 2010:07:01 11:37:11+02:00 |
CreateDate | 2010:06:30 23:15:22 |
Creator | unknown |
CreatorTool | Adobe Photoshop CS3 Windows |
CustomRendered | Normal |
DateTimeDigitized | 2010:06:30 23:15:22+02:00 |
DateTimeOriginal (1) | 2010:06:30 23:15:22+02:00 |
DateTimeOriginal | 2010:06:30 23:15:22 |
Defringe | 0 |
DerivedFrom | |
ExifImageHeight | 627 |
ExifImageWidth | 940 |
Exposure | -0.95 |
ExposureCompensation | 0 |
ExposureMode | Manual |
ExposureProgram | Manual |
ExposureTime | 5 |
FillLight | 5 |
Firmware | 1.0.5 |
Flash | Off, Did not fire |
FlashCompensation | 0 |
FlashFired | False |
FlashFunction | False |
FlashMode | Off |
FlashRedEyeMode | False |
FlashReturn | No return detection |
FNumber | 16.0 |
FocalLength | 19.0 mm |
FocalLength35efl | 19.0 mm (35 mm equivalent: 30.4 mm) |
Format | image/jpeg |
FOV | 61.2 deg |
GreenHue | 0 |
GreenSaturation | 0 |
HasCrop | False |
HasSettings | True |
HighlightRecovery | 51 |
HueAdjustmentAqua | 0 |
HueAdjustmentBlue | 0 |
HueAdjustmentGreen | 0 |
HueAdjustmentMagenta | 0 |
HueAdjustmentOrange | 0 |
HueAdjustmentPurple | 0 |
HueAdjustmentRed | 0 |
HueAdjustmentYellow | 0 |
HyperfocalDistance | 1.20 m |
ICCProfileName | sRGB IEC61966-2.1 |
ImageHeight (1) | 2336 |
ImageHeight | 627 |
ImageNumber | 176 |
ImageSize | 940x627 |
ImageWidth (1) | 3504 |
ImageWidth | 940 |
IncrementalTemperature | 0 |
IncrementalTint | 0 |
ISO | 100 |
Lens | 17.0-50.0 mm |
LensInfo | 17-50mm f/? |
LightValue | 5.7 |
LuminanceAdjustmentAqua | 0 |
LuminanceAdjustmentBlue | 0 |
LuminanceAdjustmentGreen | 0 |
LuminanceAdjustmentMagenta | 0 |
LuminanceAdjustmentOrange | 0 |
LuminanceAdjustmentPurple | 0 |
LuminanceAdjustmentRed | 0 |
LuminanceAdjustmentYellow | 0 |
LuminanceSmoothing | 0 |
Make | Canon |
MaxApertureValue | 2.8 |
Megapixels | 0.589 |
MeteringMode | Multi-segment |
Model | Canon EOS 30D |
ModifyDate (1) | 2010:07:01 11:37:11+02:00 |
ModifyDate | 2010:07:01 11:37:11 |
Orientation | Horizontal (normal) |
OwnerName | unknown |
ParametricDarks | +29 |
ParametricHighlights | +2 |
ParametricHighlightSplit | 75 |
ParametricLights | +17 |
ParametricMidtoneSplit | 50 |
ParametricShadows | +29 |
ParametricShadowSplit | 25 |
PostCropVignetteAmount | 0 |
ProfileDescription | sRGB IEC61966-2.1 |
RedHue | 0 |
RedSaturation | 0 |
Saturation | +21 |
SaturationAdjustmentAqua | 0 |
SaturationAdjustmentBlue | 0 |
SaturationAdjustmentGreen | 0 |
SaturationAdjustmentMagenta | 0 |
SaturationAdjustmentOrange | +29 |
SaturationAdjustmentPurple | 0 |
SaturationAdjustmentRed | +40 |
SaturationAdjustmentYellow | +14 |
ScaleFactor35efl | 1.6 |
SceneCaptureType | Standard |
SerialNumber | 1630913277 |
Shadows | 0 |
ShadowTint | 0 |
SharpenDetail | 25 |
SharpenEdgeMasking | 0 |
SharpenRadius | +1.0 |
Sharpness | 0 |
ShutterSpeed | 5 |
ShutterSpeedValue | 5 |
Software | Adobe Photoshop CS3 Windows |
SplitToningBalance | 0 |
SplitToningHighlightHue | 0 |
SplitToningHighlightSaturation | 0 |
SplitToningShadowHue | 0 |
SplitToningShadowSaturation | 0 |
ToneCurve | 0, 0, 255, 255 |
ToneCurveName | Linear |
URL_List | |
Version | 5.2 |
Vibrance | +17 |
VignetteAmount | 0 |
WhiteBalance (2) | As Shot |
WhiteBalance | Manual |