Felt | Verdi |
AlreadyApplied | True |
Aperture | 10.0 |
ApertureValue | 10.0 |
BitsPerSample | 8 |
BlueHue | -14 |
BlueSaturation | +17 |
Brightness | +7 |
BrightnessValue | 0.25 |
CameraProfile | Adobe Standard |
Caption-Abstract | SONY DSC |
ChromaticAberrationB | 0 |
ChromaticAberrationR | 0 |
CircleOfConfusion | 0.020 mm |
Clarity | +88 |
ColorComponents | 1 |
ColorNoiseReduction | 25 |
ColorTemperature | 10369 |
Contrast (2) | +25 |
Contrast | High |
ConvertToGrayscale | True |
CreateDate (1) | 2009:06:07 19:22:17+02:00 |
CreateDate | 2009:06:07 19:22:17 |
CreatorTool | Adobe Photoshop Lightroom |
CustomRendered | Normal |
DateTimeDigitized | 2009:06:07 19:22:17+02:00 |
DateTimeOriginal (1) | 2009:06:07 19:22:17+02:00 |
DateTimeOriginal | 2009:06:07 19:22:17 |
Defringe | 0 |
Description | SONY DSC |
DigitalZoomRatio | 0 |
ExifImageHeight | 2848 |
ExifImageWidth | 4272 |
Exposure | 0.00 |
ExposureCompensation | 0 |
ExposureMode | Auto |
ExposureProgram | Aperture-priority AE |
ExposureTime | 2.5 |
FillLight | 0 |
Flash | Off, Did not fire |
FlashFired | False |
FlashFunction | False |
FlashMode | Off |
FlashRedEyeMode | False |
FlashReturn | No return detection |
FNumber | 10.0 |
FocalLength | 18.0 mm |
FocalLength35efl | 18.0 mm (35 mm equivalent: 27.0 mm) |
FocalLengthIn35mmFormat | 27 mm |
FOV | 67.4 deg |
GrayMixerAqua | -10 |
GrayMixerBlue | +7 |
GrayMixerGreen | -18 |
GrayMixerMagenta | -3 |
GrayMixerOrange | -15 |
GrayMixerPurple | +8 |
GrayMixerRed | -12 |
GrayMixerYellow | -17 |
GreenHue | -62 |
GreenSaturation | -33 |
HasCrop | False |
HasSettings | True |
HighlightRecovery | 0 |
HyperfocalDistance | 1.62 m |
ImageDescription | SONY DSC |
ImageHeight | 2848 |
ImageSize | 4272x2848 |
ImageWidth | 4272 |
ISO | 100 |
Keywords | 2009, Kjekstadmarka, S/H, juni |
LightSource | Unknown |
LightValue | 5.3 |
LuminanceSmoothing | 100 |
Make | SONY |
MaxApertureValue | 2.8 |
Megapixels | 12.2 |
MeteringMode | Center-weighted average |
Model | DSLR-A700 |
ModifyDate (1) | 2010:06:30 22:03:35+02:00 |
ModifyDate | 2010:06:30 22:03:35 |
PaintCorrectionActive | true |
PaintCorrectionAmount | 1.000000 |
PaintCorrectionBrightness | 0.000000 |
PaintCorrectionClarity (2) | 0.075000 |
PaintCorrectionClarity | 0.000000 |
PaintCorrectionContrast | 0.000000 |
PaintCorrectionExposure (1) | -1.000000 |
PaintCorrectionExposure (2) | -0.325000 |
PaintCorrectionExposure | -0.100000 |
PaintCorrectionHue | 301.000000 |
PaintCorrectionMaskCenterWeight (1) | 0.094215 |
PaintCorrectionMaskCenterWeight | 0.060682 |
PaintCorrectionMaskFlow | 1.000000 |
PaintCorrectionMaskRadius (2) | 0.003177 |
PaintCorrectionMaskRadius | 0.004505 |
PaintCorrectionMaskValue | 0.588000 |
PaintCorrectionMaskWhat | Mask/Paint |
PaintCorrectionSaturation | 0.000000 |
PaintCorrectionSharpness | 0.000000 |
PaintCorrectionWhat | Correction |
ParametricDarks | -74 |
ParametricHighlights | -17 |
ParametricHighlightSplit | 75 |
ParametricLights | -26 |
ParametricMidtoneSplit | 50 |
ParametricShadows | +17 |
ParametricShadowSplit | 25 |
PostCropVignetteAmount | -57 |
PostCropVignetteFeather | 50 |
PostCropVignetteMidpoint | 46 |
PostCropVignetteRoundness | +90 |
ProfileDescription | sRGB IEC61966-2.1 |
Rating | 2 |
RedHue | 0 |
RedSaturation | 0 |
Saturation | Normal |
ScaleFactor35efl | 1.5 |
SceneCaptureType | Standard |
SceneType | Directly photographed |
Shadows | 39 |
ShadowTint | 0 |
SharpenDetail | 30 |
SharpenEdgeMasking | 0 |
SharpenRadius | +0.5 |
Sharpness (2) | 75 |
Sharpness | Hard |
ShutterSpeed | 2.5 |
ShutterSpeedValue | 2.5 |
Software | DSLR-A700 v02 |
SplitToningBalance | 0 |
SplitToningHighlightHue | 0 |
SplitToningHighlightSaturation | 0 |
SplitToningShadowHue | 0 |
SplitToningShadowSaturation | 0 |
Subject | 2009, Kjekstadmarka, S/H, juni |
Tint | +71 |
ToneCurve | 0, 0, 32, 22, 64, 56, 128, 128, 192, 196, 255, 255 |
ToneCurveName | Medium Contrast |
Version | 5.7 |
VignetteAmount | 0 |
WhiteBalance (2) | Custom |
WhiteBalance | Auto |