Felt | Verdi |
AlreadyApplied | True |
Aperture | 22.0 |
ApertureValue | 22.0 |
BitsPerSample | 8 |
BlueHue | 0 |
BlueSaturation | 0 |
Brightness | +32 |
BrightnessValue | 4.87 |
CameraProfile | Adobe Standard |
Caption-Abstract | SONY DSC |
ChromaticAberrationB | 0 |
ChromaticAberrationR | 0 |
CircleOfConfusion | 0.020 mm |
Clarity | -26 |
ColorComponents | 1 |
ColorNoiseReduction | 25 |
ColorTemperature | 5810 |
Contrast (2) | +25 |
Contrast | Normal |
ConvertToGrayscale | True |
CreateDate (1) | 2010:05:22 15:57:57+02:00 |
CreateDate | 2010:05:22 15:57:57 |
CreatorTool | Adobe Photoshop Lightroom |
CropAngle | 0 |
CropBottom | 1 |
CropHeight | 2801 |
CropLeft | 0 |
CropRight | 0.995418 |
CropTop | 0.016622 |
CropUnit | pixels |
CropWidth | 4252 |
CustomRendered | Normal |
DateTimeDigitized | 2010:05:22 15:57:57+02:00 |
DateTimeOriginal (1) | 2010:05:22 15:57:57+02:00 |
DateTimeOriginal | 2010:05:22 15:57:57 |
Defringe | 0 |
Description | SONY DSC |
DigitalZoomRatio | 0 |
ExifImageHeight | 2801 |
ExifImageWidth | 4252 |
Exposure | -1.62 |
ExposureCompensation | 0 |
ExposureMode | Auto |
ExposureProgram | Aperture-priority AE |
ExposureTime | 0.5 |
FillLight | 0 |
Flash | Off, Did not fire |
FlashFired | False |
FlashFunction | False |
FlashMode | Off |
FlashRedEyeMode | False |
FlashReturn | No return detection |
FNumber | 22.0 |
FocalLength | 18.0 mm |
FocalLength35efl | 18.0 mm (35 mm equivalent: 27.0 mm) |
FocalLengthIn35mmFormat | 27 mm |
FOV | 67.4 deg |
GrayMixerAqua | -19 |
GrayMixerBlue | -69 |
GrayMixerGreen | -52 |
GrayMixerMagenta | -100 |
GrayMixerOrange | -12 |
GrayMixerPurple | -100 |
GrayMixerRed | -14 |
GrayMixerYellow | +93 |
GreenHue | 0 |
GreenSaturation | 0 |
HasCrop | True |
HasSettings | True |
HighlightRecovery | 0 |
HyperfocalDistance | 0.74 m |
ImageDescription | SONY DSC |
ImageHeight | 2801 |
ImageSize | 4252x2801 |
ImageWidth | 4252 |
ISO | 100 |
Keywords | 2010, Finnemarka, S/H, de vakre tjerna, mai |
Lens | 24-105mm F3.5-4.5 |
LensID (1) | 24 |
LensID | Sigma 18-50mm F2.8 or Sigma 17-70mm F2.8-4.5 DC Macro |
LensInfo | 24-105mm f/3.5-4.5 |
LightSource | Unknown |
LightValue | 9.9 |
LuminanceSmoothing | 0 |
Make | SONY |
MaxApertureValue | 2.8 |
Megapixels | 11.9 |
MeteringMode | Spot |
Model | DSLR-A700 |
ModifyDate (1) | 2010:06:03 20:58:09+02:00 |
ModifyDate | 2010:06:03 20:58:09 |
ParametricDarks | -31 |
ParametricHighlights | 0 |
ParametricHighlightSplit | 75 |
ParametricLights | +7 |
ParametricMidtoneSplit | 50 |
ParametricShadows | 0 |
ParametricShadowSplit | 25 |
PostCropVignetteAmount | 0 |
ProfileDescription | sRGB IEC61966-2.1 |
Rating | 1 |
RedHue | 0 |
RedSaturation | 0 |
Saturation | Normal |
ScaleFactor35efl | 1.5 |
SceneCaptureType | Standard |
SceneType | Directly photographed |
Shadows | 17 |
ShadowTint | 0 |
SharpenDetail | 25 |
SharpenEdgeMasking | 0 |
SharpenRadius | +1.3 |
Sharpness (2) | 118 |
Sharpness | Hard |
ShutterSpeed | 0.5 |
ShutterSpeedValue | 0.5 |
Software | DSLR-A700 v04 |
SplitToningBalance | 0 |
SplitToningHighlightHue | 0 |
SplitToningHighlightSaturation | 0 |
SplitToningShadowHue | 0 |
SplitToningShadowSaturation | 0 |
Subject | 2010, Finnemarka, S/H, de vakre tjerna, mai |
Tint | +4 |
ToneCurve | 0, 0, 32, 22, 64, 56, 128, 128, 192, 196, 255, 255 |
ToneCurveName | Medium Contrast |
Version | 5.7 |
VignetteAmount | 0 |
WhiteBalance (2) | Custom |
WhiteBalance | Auto |