Felt | Verdi |
AlreadyApplied | True |
Aperture | 4.0 |
ApertureValue | 4.0 |
BitsPerSample | 8 |
BlueHue | 0 |
BlueSaturation | 0 |
Brightness | +50 |
CameraProfile | Adobe Standard |
CFAPattern | [Red,Green][Green,Blue] |
ChromaticAberrationB | 0 |
ChromaticAberrationR | 0 |
CircleOfConfusion | 0.020 mm |
Clarity | +49 |
ColorComponents | 3 |
ColorMode | RGB |
ColorNoiseReduction | 25 |
ColorSpace | sRGB |
ColorTemperature | 5100 |
Contrast (2) | +49 |
Contrast | Normal |
ConvertToGrayscale | True |
CreateDate (1) | 2010:06:01 13:29:03.32+02:00 |
CreateDate | 2010:06:01 13:29:03 |
CreatorTool | Ver.2.00 |
CropAngle | 0 |
CropBottom | 0.98574 |
CropLeft | 0 |
CropRight | 1 |
CropTop | 0.065954 |
CustomRendered | Normal |
DateTimeDigitized | 2010:06:01 13:29:03.32+02:00 |
DateTimeOriginal (1) | 2010:06:01 13:29:03.32+02:00 |
DateTimeOriginal | 2010:06:01 13:29:03 |
Defringe | 0 |
DigitalZoomRatio | 1 |
DOF | 0.69 m (8.58 - 9.27 m) |
ExifImageHeight | 600 |
ExifImageWidth | 982 |
Exposure | +0.30 |
ExposureCompensation | 0 |
ExposureMode | Auto |
ExposureProgram | Aperture-priority AE |
ExposureTime | 1/750 |
FillLight | 6 |
Flash | No Flash |
FlashFired | False |
FlashFunction | False |
FlashMode | Unknown |
FlashRedEyeMode | False |
FlashReturn | No return detection |
FNumber | 4.0 |
FocalLength | 135.0 mm |
FocalLength35efl | 135.0 mm (35 mm equivalent: 202.0 mm) |
FocalLengthIn35mmFormat | 202 mm |
Format | image/jpeg |
FOV | 10.2 deg |
GainControl | None |
GrainAmount | 0 |
GrayMixerAqua | -24 |
GrayMixerBlue | -24 |
GrayMixerGreen | -10 |
GrayMixerMagenta | -2 |
GrayMixerOrange | +17 |
GrayMixerPurple | -7 |
GrayMixerRed | -5 |
GrayMixerYellow | +12 |
GreenHue | 0 |
GreenSaturation | 0 |
HasCrop | True |
HasSettings | True |
HighlightRecovery | 20 |
HyperfocalDistance | 226.90 m |
ICCProfileName | sRGB IEC61966-2.1 |
ImageHeight | 600 |
ImageNumber | 32095 |
ImageSize | 982x600 |
ImageWidth | 982 |
ISO | 100 |
Lens | 135.0 mm f/2.0 |
LensID (1) | 78 |
LensID | AF DC-Nikkor 135mm f/2D |
LensInfo | 135mm f/2 |
LightSource | Unknown |
LightValue | 13.6 |
LuminanceSmoothing | 0 |
Make | NIKON CORPORATION |
MaxApertureValue | 2.0 |
Megapixels | 0.589 |
MeteringMode | Multi-segment |
Model | NIKON D2X |
ModifyDate (1) | 2010:06:01 21:11:55+02:00 |
ModifyDate | 2010:06:01 21:11:55 |
Orientation | Horizontal (normal) |
ParametricDarks | -7 |
ParametricHighlights | +21 |
ParametricHighlightSplit | 75 |
ParametricLights | +5 |
ParametricMidtoneSplit | 50 |
ParametricShadows | -31 |
ParametricShadowSplit | 25 |
PostCropVignetteAmount | 0 |
ProcessVersion | 5.0 |
ProfileDescription | sRGB IEC61966-2.1 |
Rating | 0 |
RawFileName | _DSC1021.NEF |
RedHue | 0 |
RedSaturation | 0 |
Saturation | Normal |
ScaleFactor35efl | 1.5 |
SceneCaptureType | Standard |
SceneType | Directly photographed |
SensingMethod | One-chip color area |
SerialNumber | 5018469 |
Shadows | 5 |
ShadowTint | 0 |
SharpenDetail | 25 |
SharpenEdgeMasking | 0 |
SharpenRadius | +1.0 |
Sharpness (2) | 25 |
Sharpness | Normal |
ShutterSpeed | 1/750 |
ShutterSpeedValue | 1/750 |
SidecarForExtension | NEF |
Software | Adobe Photoshop CS4 Windows |
SplitToningBalance | -20 |
SplitToningHighlightHue | 14 |
SplitToningHighlightSaturation | 9 |
SplitToningShadowHue | 237 |
SplitToningShadowSaturation | 9 |
SubjectDistance | 8.91 m |
SubjectDistanceRange | Unknown |
Tint | 0 |
ToneCurve | 0, 0, 32, 22, 64, 56, 128, 128, 192, 196, 255, 255 |
ToneCurveName | Medium Contrast |
URL_List | |
UserComment | (c)Aasmund Mosseng+4792224928 |
Version | 5.7 |
VignetteAmount | 0 |
WhiteBalance (2) | As Shot |
WhiteBalance | Auto |