Felt | Verdi |
AlreadyApplied | True |
Aperture | 29.0 |
ApertureValue | 29.0 |
BitsPerSample | 8 |
BlueHue | 0 |
BlueSaturation | 0 |
Brightness | +33 |
CameraProfile | ACR 4.4 |
ChromaticAberrationB | 0 |
ChromaticAberrationR | 0 |
CircleOfConfusion | 0.019 mm |
Clarity | +30 |
ColorComponents | 3 |
ColorMode | RGB |
ColorNoiseReduction | 25 |
ColorSpace | sRGB |
ColorTemperature | 4000 |
Contrast | +55 |
ConvertToGrayscale | False |
CreateDate (1) | 2010:04:13 12:33:28.03+02:00 |
CreateDate | 2010:04:13 12:33:28 |
CropAngle | 0 |
CropBottom | 0.956592 |
CropLeft | 0.163987 |
CropRight | 0.809218 |
CropTop | 0 |
CustomRendered | Normal |
DateTimeDigitized | 2010:04:13 12:33:28.03+02:00 |
DateTimeOriginal (1) | 2010:04:13 12:33:28.03+02:00 |
DateTimeOriginal | 2010:04:13 12:33:28 |
Defringe | 0 |
ExifImageHeight | 2724 |
ExifImageWidth | 2756 |
Exposure | -1.05 |
ExposureCompensation | 0 |
ExposureMode | Manual |
ExposureProgram | Manual |
ExposureTime | 1/5 |
FillLight | 15 |
Firmware | 1.0.4 |
Flash | Off, Did not fire |
FlashCompensation | 0 |
FlashFired | False |
FlashFunction | False |
FlashMode | Off |
FlashRedEyeMode | False |
FlashReturn | No return detection |
FNumber | 29.0 |
FocalLength | 200.0 mm |
FocalLength35efl | 200.0 mm (35 mm equivalent: 323.1 mm) |
Format | image/jpeg |
FOV | 6.4 deg |
GreenHue | 0 |
GreenSaturation | 0 |
HasCrop | True |
HasSettings | True |
HighlightRecovery | 0 |
HueAdjustmentAqua | 0 |
HueAdjustmentBlue | 0 |
HueAdjustmentGreen | 0 |
HueAdjustmentMagenta | 0 |
HueAdjustmentOrange | 0 |
HueAdjustmentPurple | 0 |
HueAdjustmentRed | 0 |
HueAdjustmentYellow | 0 |
HyperfocalDistance | 74.16 m |
ICCProfileName | sRGB IEC61966-2.1 |
ImageHeight | 2724 |
ImageNumber | 0 |
ImageSize | 2756x2724 |
ImageWidth | 2756 |
ISO | 100 |
Lens | 18-200mm |
LensInfo | 18-200mm f/? |
LightValue | 12.0 |
LuminanceAdjustmentAqua | 0 |
LuminanceAdjustmentBlue | 0 |
LuminanceAdjustmentGreen | 0 |
LuminanceAdjustmentMagenta | 0 |
LuminanceAdjustmentOrange | 0 |
LuminanceAdjustmentPurple | 0 |
LuminanceAdjustmentRed | 0 |
LuminanceAdjustmentYellow | 0 |
LuminanceSmoothing | 0 |
Make | Canon |
MaxApertureValue | 6.2 |
Megapixels | 7.5 |
MeteringMode | Multi-segment |
Model | Canon EOS 450D |
ModifyDate (1) | 2010:04:13 22:26:51+02:00 |
ModifyDate | 2010:04:13 22:26:51 |
Orientation | Horizontal (normal) |
ParametricDarks | +11 |
ParametricHighlights | -2 |
ParametricHighlightSplit | 75 |
ParametricLights | 0 |
ParametricMidtoneSplit | 50 |
ParametricShadows | -28 |
ParametricShadowSplit | 25 |
PostCropVignetteAmount | 0 |
ProfileDescription | sRGB IEC61966-2.1 |
Rating | 0 |
RawFileName | _MG_1642.CR2 |
RedHue | 0 |
RedSaturation | 0 |
Saturation | +28 |
SaturationAdjustmentAqua | 0 |
SaturationAdjustmentBlue | 0 |
SaturationAdjustmentGreen | 0 |
SaturationAdjustmentMagenta | 0 |
SaturationAdjustmentOrange | 0 |
SaturationAdjustmentPurple | 0 |
SaturationAdjustmentRed | 0 |
SaturationAdjustmentYellow | 0 |
ScaleFactor35efl | 1.6 |
SceneCaptureType | Standard |
SerialNumber | 680124588 |
Shadows | 84 |
ShadowTint | 0 |
SharpenDetail | 25 |
SharpenEdgeMasking | 0 |
SharpenRadius | +1.0 |
Sharpness | 25 |
ShutterSpeed | 1/5 |
ShutterSpeedValue | 1/5 |
SidecarForExtension | CR2 |
Software | Adobe Photoshop CS4 Windows |
SplitToningBalance | 0 |
SplitToningHighlightHue | 0 |
SplitToningHighlightSaturation | 0 |
SplitToningShadowHue | 0 |
SplitToningShadowSaturation | 0 |
Tint | +45 |
ToneCurve | 0, 0, 32, 22, 64, 56, 128, 128, 192, 196, 255, 255 |
ToneCurveName | Medium Contrast |
URL_List | |
Version | 5.0 |
Vibrance | +42 |
VignetteAmount | 0 |
WhiteBalance (2) | Custom |
WhiteBalance | Auto |