Felt | Verdi |
AlreadyApplied | True |
Aperture | 7.1 |
ApertureValue | 7.1 |
BitsPerSample | 8 |
BlueHue | 0 |
BlueSaturation | 0 |
Brightness | +50 |
CameraProfile | Adobe Standard |
CFAPattern | [Red,Green][Green,Blue] |
ChromaticAberrationB | -22 |
ChromaticAberrationR | -33 |
CircleOfConfusion | 0.020 mm |
Clarity | +18 |
ColorComponents | 1 |
ColorMode | RGB |
ColorNoiseReduction | 50 |
ColorSpace | Uncalibrated |
ColorTemperature | 5950 |
Contrast (2) | +28 |
Contrast | Normal |
ConvertToGrayscale | False |
CreateDate (1) | 2010:03:06 12:50:46.54+01:00 |
CreateDate | 2010:03:06 12:50:46 |
CreatorTool | Ver.2.00 |
CropAngle | 2.595085 |
CropBottom | 0.949204 |
CropLeft | 0.026303 |
CropRight | 0.973697 |
CropTop | 0.009011 |
CustomRendered | Normal |
DateTimeDigitized | 2010:03:06 12:50:46.54+01:00 |
DateTimeOriginal (1) | 2010:03:06 12:50:46.54+01:00 |
DateTimeOriginal | 2010:03:06 12:50:46 |
Defringe | 0 |
DigitalZoomRatio | 1 |
DOF | 2.56 m (1.34 - 3.91 m) |
ExifImageHeight | 4179 |
ExifImageWidth | 2491 |
Exposure | 0.00 |
ExposureCompensation | -1/3 |
ExposureMode | Auto |
ExposureProgram | Aperture-priority AE |
ExposureTime | 1/800 |
FillLight | 0 |
Flash | No Flash |
FlashFired | False |
FlashFunction | False |
FlashMode | Unknown |
FlashRedEyeMode | False |
FlashReturn | No return detection |
FNumber | 7.1 |
FocalLength | 24.0 mm |
FocalLength35efl | 24.0 mm (35 mm equivalent: 36.0 mm) |
FocalLengthIn35mmFormat | 36 mm |
Format | image/jpeg |
FOV | 53.1 deg |
GainControl | None |
GreenHue | 0 |
GreenSaturation | 0 |
HasCrop | True |
HasSettings | True |
HighlightRecovery | 0 |
HueAdjustmentAqua | 0 |
HueAdjustmentBlue | 0 |
HueAdjustmentGreen | 0 |
HueAdjustmentMagenta | 0 |
HueAdjustmentOrange | 0 |
HueAdjustmentPurple | 0 |
HueAdjustmentRed | 0 |
HueAdjustmentYellow | 0 |
HyperfocalDistance | 4.05 m |
ICCProfileName | Adobe RGB (1998) |
ImageHeight | 4179 |
ImageNumber | 19769 |
ImageSize | 2491x4179 |
ImageWidth | 2491 |
ISO | 100 |
Lens | 24.0-70.0 mm f/2.8 |
LensID (1) | 38 |
LensID | Sigma 24-70mm F2.8 EX DG Macro |
LensInfo | 24-70mm f/2.8 |
LightSource | Unknown |
LightValue | 15.3 |
LuminanceAdjustmentAqua | 0 |
LuminanceAdjustmentBlue | 0 |
LuminanceAdjustmentGreen | 0 |
LuminanceAdjustmentMagenta | 0 |
LuminanceAdjustmentOrange | 0 |
LuminanceAdjustmentPurple | 0 |
LuminanceAdjustmentRed | 0 |
LuminanceAdjustmentYellow | 0 |
LuminanceSmoothing | 50 |
Make | NIKON CORPORATION |
MaxApertureValue | 2.8 |
Megapixels | 10.4 |
MeteringMode | Multi-segment |
Model | NIKON D2X |
ModifyDate (1) | 2010:03:06 20:02:48+01:00 |
ModifyDate | 2010:03:06 20:02:48 |
Orientation | Horizontal (normal) |
ParametricDarks | -8 |
ParametricHighlights | +35 |
ParametricHighlightSplit | 75 |
ParametricLights | -10 |
ParametricMidtoneSplit | 50 |
ParametricShadows | -3 |
ParametricShadowSplit | 25 |
PostCropVignetteAmount | 0 |
ProfileDescription | Adobe RGB (1998) |
Rating | 0 |
RawFileName | _D2X7345.NEF |
RedHue | 0 |
RedSaturation | 0 |
Saturation (2) | -100 |
Saturation | Normal |
SaturationAdjustmentAqua | 0 |
SaturationAdjustmentBlue | 0 |
SaturationAdjustmentGreen | 0 |
SaturationAdjustmentMagenta | 0 |
SaturationAdjustmentOrange | 0 |
SaturationAdjustmentPurple | 0 |
SaturationAdjustmentRed | 0 |
SaturationAdjustmentYellow | 0 |
ScaleFactor35efl | 1.5 |
SceneCaptureType | Standard |
SceneType | Directly photographed |
SensingMethod | One-chip color area |
SerialNumber | 5030059 |
Shadows | 5 |
ShadowTint | 0 |
SharpenDetail | 30 |
SharpenEdgeMasking | 10 |
SharpenRadius | +1.5 |
Sharpness (2) | 69 |
Sharpness | Hard |
ShutterSpeed | 1/800 |
ShutterSpeedValue | 1/800 |
SidecarForExtension | NEF |
Software | Adobe Photoshop CS4 Windows |
SplitToningBalance | 0 |
SplitToningHighlightHue | 0 |
SplitToningHighlightSaturation | 0 |
SplitToningShadowHue | 0 |
SplitToningShadowSaturation | 0 |
SubjectDistance | 2 m |
SubjectDistanceRange | Unknown |
Tint | +4 |
ToneCurve | 0, 0, 32, 22, 64, 56, 128, 128, 192, 196, 255, 255 |
ToneCurveName | Medium Contrast |
URL_List | |
UserComment | Copyright (c) Endre W.Johannesen |
Version | 5.6 |
Vibrance | -100 |
VignetteAmount | 0 |
WhiteBalance (2) | Custom |
WhiteBalance | Auto |