Felt | Verdi |
AlreadyApplied | True |
Aperture | 16.0 |
ApertureValue | 16.0 |
Artist | Espen Berg |
BitsPerSample (1) | 16, 16, 16 |
BitsPerSample (2) | 16 16 16 |
BitsPerSample | 8 |
BlueHue | 0 |
BlueSaturation | 0 |
Brightness | +40 |
By-line | Espen Berg |
CameraProfile | Adobe Standard |
ChromaticAberrationB | 0 |
ChromaticAberrationR | 0 |
CircleOfConfusion | 0.019 mm |
Clarity | +84 |
ColorComponents | 3 |
ColorMode | RGB |
ColorNoiseReduction | 25 |
ColorNoiseReductionDetail | 50 |
ColorSpace | sRGB |
ColorTemperature | 6000 |
Contrast | +78 |
ConvertToGrayscale | True |
Copyright | Espen Berg |
CopyrightFlag | True |
CopyrightNotice | Espen Berg |
CreateDate (1) | 2010:03:19 17:15:16.59+01:00 |
CreateDate | 2010:03:19 17:15:16 |
Creator | Espen Berg |
CreatorRegion | Kvaløysletta |
CreatorWorkEmail | berg@berg-dig.no |
CropAngle | 3.83542 |
CropBottom | 0.941075 |
CropHeight | 2170 |
CropLeft | 0.037323 |
CropRight | 0.962677 |
CropTop | 0.009187 |
CropUnit | pixels |
CropWidth | 3751 |
CustomRendered | Normal |
DateTimeDigitized | 2010:03:19 17:15:16.59+01:00 |
DateTimeOriginal (1) | 2010:03:19 17:15:16.59+01:00 |
DateTimeOriginal | 2010:03:19 17:15:16 |
Defringe | 0 |
DOF | inf (0.34 m - inf) |
ExifImageHeight | 648 |
ExifImageWidth | 1200 |
Exposure | -0.60 |
ExposureCompensation | 0 |
ExposureMode | Manual |
ExposureProgram | Manual |
ExposureTime | 1/5 |
FillLight | 0 |
Firmware | 1.1.1 |
Flash | Off, Did not fire |
FlashCompensation | 0 |
FlashFired | False |
FlashFunction | False |
FlashMode | Off |
FlashRedEyeMode | False |
FlashReturn | No return detection |
FNumber | 16.0 |
FocalLength | 10.0 mm |
FocalLength35efl | 10.0 mm (35 mm equivalent: 16.2 mm) |
Format | image/jpeg |
FOV | 96.1 deg |
GrainAmount | 0 |
GrayMixerAqua | -19 |
GrayMixerBlue | +6 |
GrayMixerGreen | -24 |
GrayMixerMagenta | +5 |
GrayMixerOrange | -14 |
GrayMixerPurple | +14 |
GrayMixerRed | -5 |
GrayMixerYellow | -18 |
GreenHue | 0 |
GreenSaturation | 0 |
HasCrop | True |
HasSettings | True |
HierarchicalSubject | loppa.Mars.hav.bølger.fjære.vinter |
HighlightRecovery | 52 |
HyperfocalDistance | 0.34 m |
ICCProfileName | sRGB IEC61966-2.1 |
ImageHeight (1) | 2025 |
ImageHeight (2) | 2170 |
ImageHeight | 648 |
ImageNumber | 0 |
ImageSize | 1200x648 |
ImageWidth (2) | 3751 |
ImageWidth | 1200 |
ISO | 100 |
Keywords | loppa.Mars.hav.bølger.fjære.vinter |
Lens | EF-S10-22mm f/3.5-4.5 USM |
LensID (1) | 235 |
LensID | Canon EF-S 10-22mm f/3.5-4.5 USM |
LensInfo | 10-22mm f/? |
LightValue | 10.3 |
Make | Canon |
Marked | True |
MaxApertureValue | 3.5 |
Megapixels | 0.778 |
MeteringMode | Multi-segment |
Model | Canon EOS 40D |
ModifyDate (1) | 2010:03:20 22:05:24+01:00 |
ModifyDate | 2010:03:20 22:05:24 |
NoiseReductionContrast | 0 |
Orientation | Horizontal (normal) |
ParametricDarks | 0 |
ParametricHighlights | 0 |
ParametricHighlightSplit | 75 |
ParametricLights | 0 |
ParametricMidtoneSplit | 50 |
ParametricShadows | 0 |
ParametricShadowSplit | 25 |
PhotometricInterpretation | RGB |
PlanarConfiguration (1) | Planar |
PlanarConfiguration | Chunky |
PostCropVignetteAmount | 0 |
ProfileDescription | sRGB IEC61966-2.1 |
RedHue | 0 |
RedSaturation | 0 |
RenderVersion | 5.7 |
Rights | Espen Berg |
SamplesPerPixel | 3 |
ScaleFactor35efl | 1.6 |
SceneCaptureType | Standard |
SerialNumber | 820523951 |
Shadows | 11 |
ShadowTint | 0 |
SharpenDetail | 25 |
SharpenEdgeMasking | 0 |
SharpenRadius | +1.0 |
Sharpness | 25 |
ShutterSpeed | 1/5 |
ShutterSpeedValue | 1/5 |
Software | Adobe Photoshop CS4 Windows |
SplitToningBalance | 0 |
SplitToningHighlightHue | 0 |
SplitToningHighlightSaturation | 0 |
SplitToningShadowHue | 0 |
SplitToningShadowSaturation | 0 |
Subject | loppa.Mars.hav.bølger.fjære.vinter |
SubjectDistance | 4294967295 m |
Tint | +3 |
ToneCurve | 0, 0, 32, 22, 64, 56, 128, 128, 192, 196, 255, 255 |
ToneCurveName | Medium Contrast |
URL_List | |
Version | 6.0 |
VignetteAmount | 0 |
WhiteBalance (2) | As Shot |
WhiteBalance | Auto |