Felt | Verdi |
AlreadyApplied | True |
Aperture | 5.0 |
ApertureValue | 5.0 |
Artist | Jan Erik Arud |
BitsPerSample | 8 |
BlueHue | 0 |
BlueSaturation | 0 |
Brightness | +50 |
By-line | Jan Erik Arud |
CameraProfile | Adobe Standard |
ChromaticAberrationB | 0 |
ChromaticAberrationR | 0 |
CircleOfConfusion | 0.023 mm |
Clarity | 0 |
ColorComponents | 3 |
ColorNoiseReduction | 25 |
ColorTemperature | 5500 |
Contrast | +25 |
ConvertToGrayscale | False |
Copyright | Snowstock 10 - Jan Erik Arud |
CopyrightFlag | True |
CopyrightNotice | Snowstock 10 - Jan Erik Arud |
CreateDate (1) | 2010:03:06 14:38:04.67+01:00 |
CreateDate | 2010:03:06 14:38:04 |
Creator | Jan Erik Arud |
CreatorTool | Adobe Photoshop Lightroom |
CreatorWorkEmail | arud@bluezone.no |
CreatorWorkURL | http://www.flickr.com/photos/jarud/ |
CropAngle | 0 |
CropBottom | 0.980462 |
CropHeight | 683 |
CropLeft | 0.181172 |
CropRight | 1 |
CropTop | 0.161634 |
CropUnit | pixels |
CropWidth | 1024 |
CustomRendered | Normal |
DateTimeDigitized | 2010:03:06 14:38:04.67+01:00 |
DateTimeOriginal (1) | 2010:03:06 14:38:04.67+01:00 |
DateTimeOriginal | 2010:03:06 14:38:04 |
Defringe | 2 |
DOF | 7.99 m (33.23 - 41.22 m) |
ExifImageHeight | 1024 |
ExifImageWidth | 683 |
Exposure | -0.29 |
ExposureCompensation | 0 |
ExposureMode | Manual |
ExposureProgram | Manual |
ExposureTime | 1/1250 |
FillLight | 0 |
Firmware | 1.3.0 |
Flash | Off, Did not fire |
FlashCompensation | 0 |
FlashFired | False |
FlashFunction | False |
FlashMode | Off |
FlashRedEyeMode | False |
FlashReturn | No return detection |
FNumber | 5.0 |
FocalLength | 200.0 mm |
FocalLength35efl | 200.0 mm (35 mm equivalent: 256.3 mm) |
FOV | 8.0 deg |
GreenHue | 0 |
GreenSaturation | 0 |
HasCrop | True |
HasSettings | True |
HighlightRecovery | 48 |
HueAdjustmentAqua | 0 |
HueAdjustmentBlue | 0 |
HueAdjustmentGreen | 0 |
HueAdjustmentMagenta | 0 |
HueAdjustmentOrange | 0 |
HueAdjustmentPurple | 0 |
HueAdjustmentRed | 0 |
HueAdjustmentYellow | 0 |
HyperfocalDistance | 341.18 m |
ImageHeight | 1024 |
ImageNumber | 0 |
ImageSize | 683x1024 |
ImageWidth | 683 |
ISO | 100 |
Keywords | Snowstock 10 |
Label | Red |
Lens | EF70-200mm f/2.8L IS USM |
LensID (1) | 224 |
LensID | Canon EF 70-200mm f/2.8L IS USM |
LensInfo | 70-200mm f/? |
LightValue | 14.9 |
LuminanceAdjustmentAqua | 0 |
LuminanceAdjustmentBlue | 0 |
LuminanceAdjustmentGreen | 0 |
LuminanceAdjustmentMagenta | 0 |
LuminanceAdjustmentOrange | 0 |
LuminanceAdjustmentPurple | 0 |
LuminanceAdjustmentRed | 0 |
LuminanceAdjustmentYellow | 0 |
LuminanceSmoothing | 0 |
Make | Canon |
Marked | True |
MaxApertureValue | 2.8 |
Megapixels | 0.699 |
MeteringMode | Multi-segment |
Model | Canon EOS-1D Mark III |
ModifyDate (1) | 2010:03:18 19:14:16+01:00 |
ModifyDate | 2010:03:18 19:14:16 |
OwnerName | Jan Erik Arud |
ParametricDarks | -12 |
ParametricHighlights | -7 |
ParametricHighlightSplit | 75 |
ParametricLights | +30 |
ParametricMidtoneSplit | 50 |
ParametricShadows | 0 |
ParametricShadowSplit | 25 |
PostCropVignetteAmount | 0 |
ProfileDescription | sRGB IEC61966-2.1 |
Rating | 1 |
RedHue | 0 |
RedSaturation | 0 |
Rights | Snowstock 10 - Jan Erik Arud |
Saturation | 0 |
SaturationAdjustmentAqua | 0 |
SaturationAdjustmentBlue | 0 |
SaturationAdjustmentGreen | 0 |
SaturationAdjustmentMagenta | 0 |
SaturationAdjustmentOrange | 0 |
SaturationAdjustmentPurple | 0 |
SaturationAdjustmentRed | 0 |
SaturationAdjustmentYellow | 0 |
ScaleFactor35efl | 1.3 |
SceneCaptureType | Standard |
SerialNumber | 529067 |
Shadows | 5 |
ShadowTint | 0 |
SharpenDetail | 87 |
SharpenEdgeMasking | 0 |
SharpenRadius | +1.0 |
Sharpness | 52 |
ShutterSpeed | 1/1250 |
ShutterSpeedValue | 1/1250 |
SplitToningBalance | 0 |
SplitToningHighlightHue | 0 |
SplitToningHighlightSaturation | 0 |
SplitToningShadowHue | 0 |
SplitToningShadowSaturation | 0 |
Subject | Snowstock 10 |
SubjectDistance | 36.8 m |
Tint | +10 |
ToneCurve | 0, 0, 32, 22, 64, 56, 128, 128, 192, 196, 255, 255 |
ToneCurveName | Medium Contrast |
Version | 5.6 |
Vibrance | 0 |
VignetteAmount | 0 |
WhiteBalance (2) | Daylight |
WhiteBalance | Auto |