Felt | Verdi |
AlreadyApplied | True |
Aperture | 8.0 |
ApertureValue | 8.0 |
Artist | Birgitta Sjöstedt |
BitsPerSample | 8 |
BlueHue | 0 |
BlueSaturation | 0 |
Brightness | +42 |
By-line | Birgitta Sjöstedt |
CameraProfile | Adobe Standard |
ChromaticAberrationB | 0 |
ChromaticAberrationR | 0 |
CircleOfConfusion | 0.019 mm |
Clarity | +30 |
ColorComponents | 3 |
ColorMode | RGB |
ColorNoiseReduction | 40 |
ColorSpace | sRGB |
ColorTemperature | 5150 |
Contrast | +47 |
ConvertToGrayscale | False |
Copyright | Copyright Birgitta Sjöstedt 2010 |
CopyrightFlag | True |
CopyrightNotice | Copyright Birgitta Sjöstedt 2010 |
CreateDate (1) | 2010:03:09 09:27:31.24+01:00 |
CreateDate | 2010:03:09 09:27:31 |
Creator | Birgitta Sjöstedt |
CreatorAddress | Smedvägen 4 |
CreatorCity | Handen |
CreatorCountry | Sverige |
CreatorPostalCode | 136 46 |
CreatorTool | Adobe Photoshop Lightroom |
CreatorWorkEmail | sjostedt.birgitta@telia.com |
CreatorWorkTelephone | 073-7071565 |
CustomRendered | Normal |
DateTimeDigitized | 2010:03:09 09:27:31.24+01:00 |
DateTimeOriginal (1) | 2010:03:09 09:27:31.24+01:00 |
DateTimeOriginal | 2010:03:09 09:27:31 |
Defringe | 0 |
DOF | 1.03 m (17.10 - 18.13 m) |
ExifImageHeight | 3397 |
ExifImageWidth | 4560 |
Exposure | +0.33 |
ExposureCompensation | 0 |
ExposureMode | Auto |
ExposureProgram | Program AE |
ExposureTime | 1/500 |
FillLight | 0 |
Firmware | 1.0.5 |
Flash | Off, Did not fire |
FlashCompensation | 0 |
FlashFired | False |
FlashFunction | False |
FlashMode | Off |
FlashRedEyeMode | False |
FlashReturn | No return detection |
FNumber | 8.0 |
FocalLength | 300.0 mm |
FocalLength35efl | 300.0 mm (35 mm equivalent: 475.4 mm) |
Format | image/jpeg |
FOV | 4.3 deg |
GreenHue | 0 |
GreenSaturation | 0 |
HasCrop | False |
HasSettings | True |
HighlightRecovery | 22 |
HueAdjustmentAqua | 0 |
HueAdjustmentBlue | 0 |
HueAdjustmentGreen | 0 |
HueAdjustmentMagenta | 0 |
HueAdjustmentOrange | 0 |
HueAdjustmentPurple | 0 |
HueAdjustmentRed | 0 |
HueAdjustmentYellow | 0 |
HyperfocalDistance | 593.29 m |
ICCProfileName | sRGB IEC61966-2.1 |
ImageHeight (1) | 3168 |
ImageHeight | 3397 |
ImageNumber | 0 |
ImageSize | 4560x3397 |
ImageWidth (1) | 4752 |
ImageWidth | 4560 |
ISO | 320 |
Lens | EF70-300mm f/4.5-5.6 DO IS USM |
LensID (1) | 232 |
LensID | Canon EF 70-300mm f/4.5-5.6 DO IS USM |
LensInfo | 70-300mm f/? |
LightValue | 13.3 |
LuminanceAdjustmentAqua | 0 |
LuminanceAdjustmentBlue | 0 |
LuminanceAdjustmentGreen | 0 |
LuminanceAdjustmentMagenta | 0 |
LuminanceAdjustmentOrange | 0 |
LuminanceAdjustmentPurple | 0 |
LuminanceAdjustmentRed | 0 |
LuminanceAdjustmentYellow | 0 |
LuminanceSmoothing | 48 |
Make | Canon |
Marked | True |
MaxApertureValue | 5.7 |
Megapixels | 15.5 |
MeteringMode | Multi-segment |
Model | Canon EOS 50D |
ModifyDate (1) | 2010:03:09 16:26:32+01:00 |
ModifyDate | 2010:03:09 16:26:32 |
Orientation | Horizontal (normal) |
ParametricDarks | 0 |
ParametricHighlights | 0 |
ParametricHighlightSplit | 75 |
ParametricLights | 0 |
ParametricMidtoneSplit | 50 |
ParametricShadows | 0 |
ParametricShadowSplit | 25 |
PostCropVignetteAmount | 0 |
ProfileDescription | sRGB IEC61966-2.1 |
Rating | 3 |
RedHue | 0 |
RedSaturation | 0 |
Rights | Copyright Birgitta Sjöstedt 2010 |
Saturation | 0 |
SaturationAdjustmentAqua | 0 |
SaturationAdjustmentBlue | 0 |
SaturationAdjustmentGreen | 0 |
SaturationAdjustmentMagenta | 0 |
SaturationAdjustmentOrange | 0 |
SaturationAdjustmentPurple | 0 |
SaturationAdjustmentRed | 0 |
SaturationAdjustmentYellow | 0 |
ScaleFactor35efl | 1.6 |
SceneCaptureType | Standard |
SerialNumber | 730400804 |
Shadows | 14 |
ShadowTint | 0 |
SharpenDetail | 36 |
SharpenEdgeMasking | 0 |
SharpenRadius | +1.0 |
Sharpness | 51 |
ShutterSpeed | 1/500 |
ShutterSpeedValue | 1/500 |
Software | Adobe Photoshop Elements 8.0 Windows |
SplitToningBalance | 0 |
SplitToningHighlightHue | 0 |
SplitToningHighlightSaturation | 0 |
SplitToningShadowHue | 0 |
SplitToningShadowSaturation | 0 |
SubjectDistance | 17.6 m |
Tint | +10 |
ToneCurve | 0, 0, 32, 22, 64, 56, 128, 128, 192, 196, 255, 255 |
ToneCurveName | Medium Contrast |
URL_List | |
UsageTerms | Ingen användning av något slag utan tillstånd av upprättsinnehavaren |
Version | 5.6 |
Vibrance | +22 |
VignetteAmount | 0 |
WhiteBalance (2) | As Shot |
WhiteBalance | Auto |