Felt | Verdi |
AlreadyApplied | True |
Aperture | 4.0 |
ApertureValue | 4.0 |
BitsPerSample | 8 |
BlueHue | +11 |
BlueSaturation | -70 |
Brightness | +32 |
CameraProfile | Embedded |
ChromaticAberrationB | 0 |
ChromaticAberrationR | 0 |
CircleOfConfusion | 0.019 mm |
Clarity | +21 |
ColorComponents | 3 |
ColorNoiseReduction | 25 |
Contrast | +25 |
ConvertToGrayscale | False |
CreateDate (1) | 2010:01:30 13:16:46.53+01:00 |
CreateDate | 2010:01:30 13:16:46 |
CreatorTool | Adobe Photoshop Lightroom |
CustomRendered | Normal |
DateTimeDigitized | 2010:01:30 13:16:46.53+01:00 |
DateTimeOriginal (1) | 2010:01:30 13:16:46.53+01:00 |
DateTimeOriginal | 2010:01:30 13:16:46 |
Defringe | 0 |
ExifImageHeight | 853 |
ExifImageWidth | 1280 |
Exposure | -1.24 |
ExposureCompensation | 0 |
ExposureMode | Auto |
ExposureProgram | Portrait |
ExposureTime | 1/60 |
FillLight | 25 |
Firmware | 1.0.8 |
Flash | On, Fired |
FlashCompensation | 0 |
FlashFired | True |
FlashFunction | False |
FlashMode | On |
FlashRedEyeMode | False |
FlashReturn | No return detection |
FNumber | 4.0 |
FocalLength | 58.0 mm |
FocalLength35efl | 58.0 mm (35 mm equivalent: 93.9 mm) |
FOV | 21.7 deg |
GreenHue | +11 |
GreenSaturation | +25 |
HasCrop | False |
HasSettings | True |
HighlightRecovery | 49 |
HueAdjustmentAqua | 0 |
HueAdjustmentBlue | 0 |
HueAdjustmentGreen | 0 |
HueAdjustmentMagenta | 0 |
HueAdjustmentOrange | 0 |
HueAdjustmentPurple | 0 |
HueAdjustmentRed | 0 |
HueAdjustmentYellow | 0 |
HyperfocalDistance | 45.31 m |
ImageHeight | 853 |
ImageNumber | 0 |
ImageSize | 1280x853 |
ImageWidth | 1280 |
IncrementalTemperature | +59 |
IncrementalTint | +27 |
ISO | 400 |
Lens | EF24-105mm f/4L IS USM |
LensInfo | 24-105mm f/? |
LightValue | 7.9 |
LuminanceAdjustmentAqua | 0 |
LuminanceAdjustmentBlue | 0 |
LuminanceAdjustmentGreen | 0 |
LuminanceAdjustmentMagenta | 0 |
LuminanceAdjustmentOrange | 0 |
LuminanceAdjustmentPurple | 0 |
LuminanceAdjustmentRed | 0 |
LuminanceAdjustmentYellow | 0 |
LuminanceSmoothing | 0 |
Make | Canon |
MaxApertureValue | 4.0 |
Megapixels | 1.1 |
MeteringMode | Multi-segment |
Model | Canon EOS 40D |
ModifyDate (1) | 2010:02:26 21:38:12+01:00 |
ModifyDate | 2010:02:26 21:38:12 |
ParametricDarks | +12 |
ParametricHighlights | -38 |
ParametricHighlightSplit | 75 |
ParametricLights | -19 |
ParametricMidtoneSplit | 50 |
ParametricShadows | -14 |
ParametricShadowSplit | 25 |
PostCropVignetteAmount | -60 |
PostCropVignetteFeather | 61 |
PostCropVignetteMidpoint | 32 |
PostCropVignetteRoundness | +40 |
ProfileDescription | sRGB IEC61966-2.1 |
RedHue | +96 |
RedSaturation | +3 |
Saturation | -74 |
SaturationAdjustmentAqua | 0 |
SaturationAdjustmentBlue | 0 |
SaturationAdjustmentGreen | 0 |
SaturationAdjustmentMagenta | 0 |
SaturationAdjustmentOrange | 0 |
SaturationAdjustmentPurple | 0 |
SaturationAdjustmentRed | 0 |
SaturationAdjustmentYellow | 0 |
ScaleFactor35efl | 1.6 |
SceneCaptureType | Standard |
SerialNumber | 930522688 |
Shadows | 65 |
ShadowTint | +8 |
SharpenDetail | 61 |
SharpenEdgeMasking | 17 |
SharpenRadius | +1.5 |
Sharpness | 79 |
ShutterSpeed | 1/60 |
ShutterSpeedValue | 1/60 |
SplitToningBalance | 0 |
SplitToningHighlightHue | 0 |
SplitToningHighlightSaturation | 0 |
SplitToningShadowHue | 184 |
SplitToningShadowSaturation | 0 |
ToneCurve | 0, 0, 255, 255 |
ToneCurveName | Linear |
Version | 4.6 |
Vibrance | 0 |
VignetteAmount | -61 |
VignetteMidpoint | 34 |
WhiteBalance (2) | Custom |
WhiteBalance | Auto |