Felt | Verdi |
AlreadyApplied | True |
Aperture | 10.0 |
ApertureValue | 10.0 |
BitsPerSample | 8 |
BlueHue | 0 |
BlueSaturation | 0 |
Brightness | -2 |
CameraProfile | Adobe Standard |
CFAPattern | [Green,Blue][Red,Green] |
ChromaticAberrationB | 0 |
ChromaticAberrationR | 0 |
CircleOfConfusion | 0.020 mm |
Clarity | +70 |
ColorComponents | 1 |
ColorNoiseReduction | 25 |
ColorNoiseReductionDetail | 50 |
ColorTemperature | 3724 |
Contrast (2) | +26 |
Contrast | Normal |
ConvertToGrayscale | True |
CreateDate (1) | 2010:02:20 15:40:57.00+01:00 |
CreateDate | 2010:02:20 15:40:57 |
CreatorTool | Adobe Photoshop Lightroom |
CropAngle | 0 |
CropBottom | 0.912913 |
CropHeight | 2600 |
CropLeft | 0.305389 |
CropRight | 0.958084 |
CropTop | 0 |
CropUnit | pixels |
CropWidth | 2799 |
CustomRendered | Normal |
DateTimeDigitized | 2010:02:20 15:40:57.00+01:00 |
DateTimeOriginal (1) | 2010:02:20 15:40:57.00+01:00 |
DateTimeOriginal | 2010:02:20 15:40:57 |
Defringe | 0 |
DigitalZoomRatio | 1 |
DOF | inf (3.08 m - inf) |
ExifImageHeight | 2600 |
ExifImageWidth | 2799 |
Exposure | +1.33 |
ExposureCompensation | +1 |
ExposureMode | Auto |
ExposureProgram | Aperture-priority AE |
ExposureTime | 1/50 |
FillLight | 0 |
Flash | No Flash |
FlashFired | False |
FlashFunction | False |
FlashMode | Unknown |
FlashRedEyeMode | False |
FlashReturn | No return detection |
FNumber | 10.0 |
FocalLength | 25.0 mm |
FocalLength35efl | 25.0 mm (35 mm equivalent: 37.0 mm) |
FocalLengthIn35mmFormat | 37 mm |
FOV | 51.9 deg |
GainControl | None |
GrainAmount | 0 |
GrayMixerAqua | -8 |
GrayMixerBlue | +15 |
GrayMixerGreen | -25 |
GrayMixerMagenta | -3 |
GrayMixerOrange | -22 |
GrayMixerPurple | +13 |
GrayMixerRed | -15 |
GrayMixerYellow | -25 |
GreenHue | 0 |
GreenSaturation | 0 |
HasCrop | True |
HasSettings | True |
HighlightRecovery | 0 |
HyperfocalDistance | 3.08 m |
ImageHeight | 2600 |
ImageNumber | 2227 |
ImageSize | 2799x2600 |
ImageWidth | 2799 |
ISO | 200 |
Lens | 18.0-105.0 mm f/3.5-5.6 |
LensID (1) | 158 |
LensID | AF-S DX VR Zoom-Nikkor 18-105mm f/3.5-5.6G ED |
LensInfo | 18-105mm f/3.5-5.6 |
LightSource | Unknown |
LightValue | 11.3 |
Make | NIKON CORPORATION |
MaxApertureValue | 4.0 |
Megapixels | 7.3 |
MeteringMode | Multi-segment |
Model | NIKON D90 |
ModifyDate (1) | 2010:02:21 18:10:24+01:00 |
ModifyDate | 2010:02:21 18:10:24 |
NoiseReductionContrast | 0 |
ParametricDarks | +61 |
ParametricHighlights | -55 |
ParametricHighlightSplit | 75 |
ParametricLights | -100 |
ParametricMidtoneSplit | 50 |
ParametricShadows | -100 |
ParametricShadowSplit | 25 |
PostCropVignetteAmount | 0 |
ProfileDescription | Adobe RGB (1998) |
RedHue | -1 |
RedSaturation | +100 |
RenderVersion | 5.7 |
Saturation | Normal |
ScaleFactor35efl | 1.5 |
SceneCaptureType | Standard |
SceneType | Directly photographed |
SensingMethod | One-chip color area |
SerialNumber | 6280865 |
Shadows | 17 |
ShadowTint | +1 |
SharpenDetail | 25 |
SharpenEdgeMasking | 15 |
SharpenRadius | +1.0 |
Sharpness (2) | 102 |
Sharpness | Normal |
ShutterSpeed | 1/50 |
ShutterSpeedValue | 1/50 |
Software | Ver.1.00 |
SplitToningBalance | -1 |
SplitToningHighlightHue | 0 |
SplitToningHighlightSaturation | 0 |
SplitToningShadowHue | 0 |
SplitToningShadowSaturation | 0 |
SubjectDistance | 4294967295 m |
SubjectDistanceRange | Unknown |
Tint | -102 |
ToneCurve | 0, 0, 32, 16, 64, 50, 128, 128, 192, 202, 255, 255 |
ToneCurveName | Strong Contrast |
Version | 6.0 |
VignetteAmount | 0 |
WhiteBalance (2) | Custom |
WhiteBalance | Auto |